Workbook

Sheet data capture -step6
A1: Basics | B1: Provider / Product name | C1: Analysis/Comments | D1: Informal mechanisms / risk data | E1: social security | F1: Product A | G1: Product B | H1: Product C | I1: Product D
B2: Product type
B3: Product maturity and changes
B4: Depth of information collected
B5: Targeted market segments and their needs for risk-management
B6: Current outreach and performance
A7: Client value assessment | B7: 1. PRODUCT
B8: 1.1 Coverage, service quality, exclusions and waiting periods
B9: 1.2 Sum insured in relation to cost of risk
B10: 1.3 Eligibility criteria
B11: 1.4 Value-added services
B12: 2. ACCESS
B13: 2.1 Choice and enrolment
B14: 2.2 Information and understanding
B15: 2.3 Premium payment method
B16: 2.4 Proximity
B17: 3. COST
B18: 3.1 Premium in relation tobenefit
B19: 3.2 Premium in relation to client income
... B28: Information sources:

Sheet final analysis & scoring -step7
A1: Provider / Product name | B1: Weights | C1: Informal mechanisms | E1: social security | G1: Product A | I1: Product B | K1: Product C | M1: Product D
A2: 1. PRODUCT | D2: =D3*$B3+D4*$B4+D5*$B5+D6*$B6 -> 0 | F2: =F3*$B3+F4*$B4+F5*$B5+F6*$B6 -> 0 | H2: =H3*$B3+H4*$B4+H5*$B5+H6*$B6 -> 0 | J2: =J3*$B3+J4*$B4+J5*$B5+J6*$B6 -> 0 | L2: =L3*$B3+L4*$B4+L5*$B5+L6*$B6 -> 0 | N2: =N3*$B3+N4*$B4+N5*$B5+N6*$B6 -> 0
A3: 1.1 Coverage, service quality, exclusions and waiting periods | B3: 0.35
A4: 1.2 Sum insured in relation to cost of risk | B4: 0.35
A5: 1.3 Eligibility criteria | B5: 0.15
A6: 1.4 Value-added services | B6: 0.15
A7: 2. ACCESS | D7: =D8*$B8+D9*$B9+D10*$B10+D11*$B11 -> 0 | F7: =F8*$B8+F9*$B9+F10*$B10+F11*$B11 -> 0 | H7: =H8*$B8+H9*$B9+H10*$B10+H11*$B11 -> 0 | J7: =J8*$B8+J9*$B9+J10*$B10+J11*$B11 -> 0 | L7: =L8*$B8+L9*$B9+L10*$B10+L11*$B11 -> 0 | N7: =N8*$B8+N9*$B9+N10*$B10+N11*$B11 -> 0
A8: 2.1 Choice and enrolment | B8: 0.35
A9: 2.2 Information and understanding | B9: 0.35
A10: 2.3 Premium payment method | B10: 0.15
A11: 2.4 Proximity | B11: 0.15
A12: 3. COST | D12: =D13*$B13+D14*$B14+D15*$B15+D16*$B16 -> 0 | F12: =F13*$B13+F14*$B14+F15*$B15+F16*$B16 -> 0 | H12: =H13*$B13+H14*$B14+H15*$B15+H16*$B16 -> 0 | J12: =J13*$B13+J14*$B14+J15*$B15+J16*$B16 -> 0 | L12: =L13*$B13+L14*$B14+L15*$B15+L16*$B16 -> 0 | N12: =N13*$B13+N14*$B14+N15*$B15+N16*$B16 -> 0
A13: 3.1 Premium in relation tobenefit | B13: 0.35 | D13: ='3.1-2 calculations'!B7 -> 0 | F13: ='3.1-2 calculations'!C7 -> 0 | H13: ='3.1-2 calculations'!D7 -> 0 | J13: ='3.1-2 calculations'!E7 -> 0 | L13: ='3.1-2 calculations'!F7 -> 0 | N13: ='3.1-2 calculations'!G7 -> 0
A14: 3.2 Premium in relation to client income | B14: 0.35 | D14: ='3.1-2 calculations'!B17 -> 0 | F14: ='3.1-2 calculations'!C17 -> 0 | H14: ='3.1-2 calculations'!D17 -> 0 | J14: ='3.1-2 calculations'!E17 -> 0 | L14: ='3.1-2 calculations'!F17 -> 0 | N14: ='3.1-2 calculations'!G17 -> 0
A15: 3.3 Other costs | B15: 0.15
A16: 3.4 Cost structure and controls | B16: 0.15
A17: 4. EXPERIENCE | D17: =D18*$B18+D19*$B19+D20*$B20+D21*$B21 -> 0 | F17: =F18*$B18+F19*$B19+F20*$B20+F21*$B21 -> 0 | H17: =H18*$B18+H19*$B19+H20*$B20+H21*$B21 -> 0 | J17: =J18*$B18+J19*$B19+J20*$B20+J21*$B21 -> 0 | L17: =L18*$B18+L19*$B19+L20*$B20+L21*$B21 -> 0 | N17: =N18*$B18+N19*$B19+N20*$B20+N21*$B21 -> 0
A18: 4.1 Claim processing procedures | B18: 0.35
A19: 4.2 Claim processing time and/or quality of service provided | B19: 0.35
A20: 4.3 Policy administration and tangibility | B20: 0.15
A21: 4.4 Customer care | B21: 0.15

Sheet graphs -step7
C2: informal mechanisms | D2: social security | E2: product A | F2: Product B | G2: Product C | H2: Product D
B3: product | C3: ='final analysis & scoring -step7'!D2 -> 0 | D3: ='final analysis & scoring -step7'!F2 -> 0 | E3: ='final analysis & scoring -step7'!H2 -> 0 | F3: ='final analysis & scoring -step7'!J2 -> 0 | G3: ='final analysis & scoring -step7'!L2 -> 0 | H3: ='final analysis & scoring -step7'!N2 -> 0
B4: access | C4: ='final analysis & scoring -step7'!D7 -> 0 | D4: ='final analysis & scoring -step7'!F7 -> 0 | E4: ='final analysis & scoring -step7'!H7 -> 0 | F4: ='final analysis & scoring -step7'!J7 -> 0 | G4: ='final analysis & scoring -step7'!L7 -> 0 | H4: ='final analysis & scoring -step7'!N7 -> 0
B5: cost | C5: ='final analysis & scoring -step7'!D12 -> 0 | D5: ='final analysis & scoring -step7'!F12 -> 0 | E5: ='final analysis & scoring -step7'!H12 -> 0 | F5: ='final analysis & scoring -step7'!J12 -> 0 | G5: ='final analysis & scoring -step7'!L12 -> 0 | H5: ='final analysis & scoring -step7'!N12 -> 0
B6: experience | C6: ='final analysis & scoring -step7'!D17 -> 0 | D6: ='final analysis & scoring -step7'!F17 -> 0 | E6: ='final analysis & scoring -step7'!H17 -> 0 | F6: ='final analysis & scoring -step7'!J17 -> 0 | G6: ='final analysis & scoring -step7'!L17 -> 0 | H6: ='final analysis & scoring -step7'!N17 -> 0

Sheet 3.1-2 calculations
A1: PREMIUM TO PRODUCT (ALL BENEFITS, 1)
B2: inf | C2: NHIF | D2: Pr A | E2: Pr B | F2: Pr C | G2: Pr D
A3: premium per month per person
A4: coverage score | B4: ='final analysis & scoring -step7'!D2 -> 0 | C4: ='final analysis & scoring -step7'!F2 -> 0 | D4: ='final analysis & scoring -step7'!H2 -> 0 | E4: ='final analysis & scoring -step7'!J2 -> 0 | F4: ='final analysis & scoring -step7'!L2 -> 0 | G4: ='final analysis & scoring -step7'!N2 -> 0
A5: ratio premium/benefit | B5: =B3/B4 -> #DIV/0! | C5: =C3/C4 -> #DIV/0! | D5: =D3/D4 -> #DIV/0! | E5: =E3/E4 -> #DIV/0! | F5: =F3/F4 -> #DIV/0! | G5: =G3/G4 -> #DIV/0!
A7: 3.1 score
A9: PREMIUM TO INCOME
B10: inf | C10: socsec | D10: Pr A | E10: Pr B | F10: Pr C | G10: Pr D
A11: premium per month per family
A12: monthlyaverage income - Rural
A13: monthly average income - Urban
A14: ratio Rural | B14: =B11/B12 -> #DIV/0! | C14: =C11/C12 -> #DIV/0! | D14: =D11/D12 -> #DIV/0! | E14: =E11/E12 -> #DIV/0! | F14: =F11/F12 -> #DIV/0! | G14: =G11/G12 -> #DIV/0!
A15: ratio Urban | B15: =B11/B13 -> #DIV/0! | C15: =C11/C13 -> #DIV/0! | D15: =D11/D13 -> #DIV/0! | E15: =E11/E13 -> #DIV/0! | F15: =F11/F13 -> #DIV/0! | G15: =G11/G13 -> #DIV/0!
A17: 3.2 score
