Workbook

Sheet Índice
B2: Panorama Laboral 2017. América Latina y el Caribe
B4: Anexo Estadístico Nacional
B5: Índice
B6: Cuadro | C6: Título
B7: Cuadro 1 | C7: ='C1N'!B3 -> AMÉRICA LATINA Y EL CARIBE: TASA DE DESOCUPACIÓN NACIONAL SEGÚN PAÍS. 2007 - 2017
B8: Cuadro 2 | C8: ='C2N'!B3 -> AMÉRICA LATINA Y EL CARIBE: TASA DE DESOCUPACIÓN NACIONAL SEGÚN PAÍS Y SEXO. 2007 - 2017
B9: Cuadro 3 | C9: ='C3N'!B3 -> AMÉRICA LATINA Y EL CARIBE: TASA DE DESOCUPACIÓN NACIONAL SEGÚN PAÍS Y TRAMO DE EDAD. 2007 - 2017
B10: Cuadro 4 | C10: ='C4N'!B3 -> AMÉRICA LATINA Y EL CARIBE: TASA DE PARTICIPACIÓN NACIONAL SEGÚN PAÍS Y SEXO. 2007 - 2017.
B11: Cuadro 5 | C11: ='C5N'!B3 -> AMÉRICA LATINA Y EL CARIBE: TASA DE PARTICIPACIÓN NACIONAL SEGÚN PAÍS Y TRAMO DE EDAD. 2007 - 2017.
B12: Cuadro 6 | C12: ='C6N'!B3 -> AMÉRICA LATINA Y EL CARIBE: TASA DE OCUPACIÓN NACIONAL SEGÚN PAÍS Y SEXO. 2007 - 2017
B13: Cuadro 7 | C13: ='C7N'!B3 -> AMÉRICA LATINA Y EL CARIBE: TASA DE OCUPACIÓN NACIONAL SEGUN PAÍS Y TRAMO DE EDAD. 2007 - 2017
B14: Cuadro 8 | C14: ='C8N'!B3 -> AMÉRICA LATINA: POBLACIÓN OCUPADA NACIONAL POR CATEGORÍA OCUPACIONAL SEGÚN AÑOS DE ESTUDIO. 2005, 2011 Y 2013-2015
B15: Cuadro 9 | C15: ='C9N'!B3 -> AMÉRICA LATINA: ÍNDICE DE REMUNERACIONES MEDIAS REALES EN EL SECTOR FORMAL. 2007 - 2017
B16: Cuadro 10 | C16: ='C10N'!B3 -> AMÉRICA LATINA: INDICE DE SALARIOS MÍNIMOS REALES. 2007 - 2017
B18: Anexo Estadístico Urbano
B19: Índice
B20: Cuadro | C20: Título
B21: Cuadro 1 | C21: AMÉRICA LATINA Y EL CARIBE: TASA DE DESOCUPACIÓN URBANA SEGÚN PAÍS. 2007 - 2017
B22: Cuadro 2 | C22: AMÉRICA LATINA Y EL CARIBE: TASA DE DESOCUPACIÓN URBANA SEGÚN PAÍS Y SEXO. 2007 - 2017
B23: Cuadro 3 | C23: AMÉRICA LATINA Y EL CARIBE: TASA DE DESOCUPACIÓN URBANA SEGÚN PAÍS Y TRAMO DE EDAD. 2007 - 2017
B24: Cuadro 4 | C24: AMÉRICA LATINA Y EL CARIBE: TASA DE PARTICIPACIÓN URBANA SEGÚN PAÍS Y SEXO. 2007 - 2017
B25: Cuadro 5 | C25: AMÉRICA LATINA Y EL CARIBE: TASA DE PARTICIPACIÓN URBANA SEGÚN PAÍS Y TRAMO DE EDAD. 2007 - 2017
B26: Cuadro 6 | C26: AMÉRICA LATINA Y EL CARIBE: TASA DE OCUPACIÓN URBANA SEGÚN PAÍS Y SEXO. 2007 - 2017
B27: Cuadro 7 | C27: AMÉRICA LATINA Y EL CARIBE: TASA DE OCUPACIÓN URBANA SEGÚN PAÍS Y TRAMO DE EDAD. 2007 - 2017
B28: Cuadro 8 | C28: AMÉRICA LATINA. POBLACIÓN OCUPADA URBANA POR CATEGORÍA OCUPACIONAL SEGÚN PAÍS Y SEXO. 2011 - 2016
B29: Cuadro 9 | C29: AMÉRICA LATINA. POBLACIÓN OCUPADA URBANA POR RAMA DE ACTIVIDAD ECONÓMICA SEGÚN PAÍS Y SEXO. 2011 - 2016

Sheet C1N
A1: regresar al índice
B2: CUADRO 1
B3: AMÉRICA LATINA Y EL CARIBE: TASA DE DESOCUPACIÓN NACIONAL SEGÚN PAÍS. 2007 - 2017
B4: (tasas anuales medias)
B6: País | C6: 2007 | D6: 2008 | E6: 2009 | F6: 2010 | G6: 2011 | H6: 2012 | I6: 2013 | J6: 2014 | K6: 2015 | L6: 2016 | M6: 2016 | N6: 2017
M8: Promedio al III Trimestre
B10: América Latina
B11: Argentina a/ | C11: … | D11: … | E11: … | F11: … | G11: … | H11: … | I11: … | J11: … | K11: … | L11: 8.4666667 | M11: 9.3 | N11: 8.7
B12: Bolivia (Estado Plur. de) | C12: 5.175338 | D12: 2.8433499 | E12: 3.3193117 | F12: … | G12: 2.6506002 | H12: 2.31137 | I12: 2.8546782 | J12: 2.3406219 | K12: 3.5129571 | L12: 3.36 | M12: … | N12: …
B13: Brasil b/ | C13: 8.1536786 | D13: 7.1413091 | E13: 8.328496 | F13: … | G13: 6.7164767 | H13: 7.3496642 | I13: 7.1301585 | J13: 6.8213718 | K13: 8.5229792 | L13: 11.512998 | M13: 11.339893 | N13: 13.060138
B14: Chile c/ | C14: 7.1356483 | D14: 7.7963869 | E14: 9.6885261 | F14: 8.1529122 | G14: 7.1194985 | H14: 6.4323611 | I14: 5.9323776 | J14: 6.3914035 | K14: 6.2137239 | L14: 6.4900125 | M14: 6.6304453 | N14: 6.7777702
B15: Colombia d/ | C15: 11.191421 | D15: 11.268781 | E15: 12.016504 | F15: 11.774364 | G15: 10.827911 | H15: 10.374884 | I15: 9.644814 | J15: 9.1079401 | K15: 8.9292363 | L15: 9.2232072 | M15: 9.5705587 | N15: 9.6637688
B16: Costa Rica e/ | C16: 4.5972046 | D16: 4.9477742 | E16: 7.8221934 | F16: 8.9150892 | G16: 10.298476 | H16: 10.171754 | I16: 9.3861626 | J16: 9.6173851 | K16: 9.6130075 | L16: 9.5382673 | M16: 9.5368931 | N16: 8.9980045
B17: Cuba | C17: 1.8 | D17: 1.5851548 | E17: 1.6690899 | F17: 2.5036675 | G17: 3.175186 | H17: 3.4600918 | I17: 3.2874558 | J17: 2.6579179 | K17: 2.3897982 | L17: 2.0293628 | M17: … | N17: …
B18: Ecuador f/ | C18: 4.9983546 | D18: 5.951463 | E18: 6.47131 | F18: 5.6176433 | G18: 4.6134263 | H18: 4.1169369 | I18: 4.0328713 | J18: 4.2961808 | K18: 4.3406718 | L18: 5.362265 | M18: 5.4121523 | N18: 4.3423471
B19: El Salvador g/ | C19: 6.3328918 | D19: 5.8839509 | E19: 7.3319912 | F19: 7.0459686 | G19: 6.6167815 | H19: 6.0717041 | I19: 5.9262882 | J19: 6.9966658 | K19: 7.00615 | L19: 7.1166676 | M19: … | N19: …
B20: Guatemala h/ | C20: … | D20: … | E20: … | F20: 3.74 | G20: 4.1261884 | H20: 2.87 | I20: 3.095 | J20: 2.9 | K20: 2.5721019 | L20: 2.6518147 | M20: 3.0840044 | N20: 3.1911188
B21: Honduras i/ | C21: 3.0541287 | D21: 3.0501938 | E21: 3.1294516 | F21: 3.9476972 | G21: 4.2666724 | H21: 3.59056 | I21: 3.9056026 | J21: 5.3128008 | K21: 7.3302633 | L21: 7.3779493 | M21: 7.3779493 | N21: 6.6812682
B22: México | C22: 3.6465571 | D22: 3.9037043 | E22: 5.3741839 | F22: 5.328623 | G22: 5.195428 | H22: 4.9225762 | I22: 4.9431565 | J22: 4.8312132 | K22: 4.3356482 | L22: 3.8853244 | M22: 4.0014849 | N22: 3.4682448
B23: Nicaragua j/ | C23: 5.9 | D23: 6.1 | E23: 7.875 | F23: 7.85 | G23: 5.2711487 | H23: 5.925 | I23: 5.75 | J23: 6.575 | K23: … | L23: … | M23: … | N23: …
B24: Panamá k/ | C24: 6.3716175 | D24: 5.5785461 | E24: 6.557023 | F24: 6.5158598 | G24: 4.4814326 | H24: 4.0457155 | I24: 4.0984138 | J24: 4.8226935 | K24: 5.0522668 | L24: 5.4942879 | M24: 5.6188783 | N24: 5.5536253
B25: Paraguay l/ | C25: 5.5121644 | D25: 5.6516501 | E25: 6.3434511 | F25: 5.6707908 | G25: 5.5492539 | H25: 4.5726782 | I25: 5.0208445 | J25: 6.0381127 | K25: 5.3512201 | L25: 5.9984394 | M25: 8.25 | N25: 8.65
B26: Perú m/ | C26: 4.7381631 | D26: 4.611712 | E26: 4.4701368 | F26: 4.1043283 | G26: 4.0238265 | H26: 3.7209411 | I26: 3.9514586 | J26: 3.6562464 | K26: 3.5106571 | L26: 4.1799782 | M26: 4.5420136 | N26: 4.4666667
B27: República Dominicana n/ | C27: 5.0073414 | D27: 4.6540422 | E27: 5.3132012 | F27: 5.0008137 | G27: 5.7845932 | H27: 6.4869097 | I27: 7.0387965 | J27: 6.3854453 | K27: 7.3260527 | L27: 7.0772537 | M27: 7.3224299 | N27: 5.6450787
B28: Uruguay | C28: 9.3753262 | D28: 8.0070114 | E28: 7.7350182 | F28: 7.1577604 | G28: 6.3182786 | H28: 6.4640763 | I28: 6.4543941 | J28: 6.5506278 | K28: 7.4944488 | L28: 7.8468711 | M28: 7.9728527 | N28: 8.0989527
B29: Venezuela (Rep. Bol. de) o/ | C29: 8.4449249 | D29: 7.3323456 | E29: 7.854541 | F29: 8.6919167 | G29: 8.2917364 | H29: 8.0675772 | I29: 7.7832508 | J29: 7.2557522 | K29: 7.036513 | L29: 7.3338282 | M29: … | N29: …
B30: El Caribe
B31: Bahamas p/ | C31: 7.9 | D31: 8.7 | E31: 15.332573 | F31: … | G31: 15.9 | H31: 14.366007 | I31: 15.8 | J31: 14.635834 | K31: 13.383125 | L31: 12.747823 | M31: 12.747823 | N31: 9.8543022
B32: Barbados q/ | C32: 7.425 | D32: 8.1 | E32: 9.975 | F32: 10.7 | G32: 11.2 | H32: 11.6 | I32: 11.6 | J32: 12.28903 | K32: 11.3 | L32: 9.65 | M32: 9.7 | N32: 10.4
B33: Belice r/ | C33: 10.328711 | D33: 8.2 | E33: 13.1 | F33: 12.5 | G33: … | H33: 15.3 | I33: 14.290122 | J33: 11.569805 | K33: 10.143128 | L33: 9.5314723 | M33: 7.9737923 | N33: 8.9871373
B34: Jamaica d/ | C34: 9.8669997 | D34: 10.569907 | E34: 11.365074 | F34: 12.377241 | G34: 12.682914 | H34: 13.929766 | I34: 15.243855 | J34: 13.739191 | K34: 13.509815 | L34: 13.189153 | M34: 13.287 | N34: 12.054906
B35: Trinidad y Tabago s/ | C35: 5.55 | D35: 4.625 | E35: 5.25 | F35: 5.925 | G35: 5.0666667 | H35: 4.95 | I35: 3.675 | J35: 3.3 | K35: 3.425 | L35: 3.95 | M35: 3.8 | N35: 4.5
B36: América Latina y el Caribe t/ | C36: 6.7406626 | D36: 6.3100919 | E36: 7.3182848 | F36: 6.8898803 | G36: 6.3777278 | H36: 6.4552441 | I36: 6.3077018 | J36: 6.1337021 | K36: 6.6271653 | L36: 7.8723668 | M36: 8.2384187 | N36: 8.7161252
B38: Fuente: OIT con la base de información de las encuestas de hogares de los países.
B40: a/ 31 aglomerados urbanos. El INDEC, en el marco de la emergencia estadística declarada, recomienda desestimar las series publicadas entre el 2007 y 2015 para fines de comparación y análisis del mercado de trabajo en la República Argentina. El dato anual 2016 es el promedio del II, III y IV trimestre y los datos al III trimestre del 2016 y 2017 corresponde al II trimestre respectivamente.
B42: b/ A partir del 2012 datos con base en PNADC serie no comparable con años anteriores.
B43: c/ Nueva medición a partir del 2010, datos no comparables con años anteriores.
B44: d/ Incluye la desocupación oculta.
B45: e/ Datos del 2007-09 corresponden a EHPM levantadas en julio de cada año. A partir del 2010 dato de la ECE, no comparable con años anteriores (el dato del 2010 es el promedio del III y IV trimestre)
B46: f/ A partir del 2007 cambia la edad de la PET de 10 a 15 años, no comparable con años anteriores. Incluye la desocupación oculta.
...

Sheet C2N
A1: regresar al índice
B2: CUADRO 2
B3: AMÉRICA LATINA Y EL CARIBE: TASA DE DESOCUPACIÓN NACIONAL SEGÚN PAÍS Y SEXO. 2007 - 2017
B4: (tasas anuales medias)
B6: País | C6: 2007 | D6: 2008 | E6: 2009 | F6: 2010 | G6: 2011 | H6: 2012 | I6: 2013 | J6: 2014 | K6: 2015 | L6: 2016 | M6: 2016 | N6: 2017
M8: Promedio al III Trimestre
B10: América Latina
B11: Argentina a/ | C11: … | D11: … | E11: … | F11: … | G11: … | H11: … | I11: … | J11: … | K11: … | L11: 8.4666667 | M11: 9.3 | N11: 8.7
B12: Hombre | C12: … | D12: … | E12: … | F12: … | G12: … | H12: … | I12: … | J12: … | K12: … | L12: 7.8 | M12: 8.5 | N12: 8.2
B13: Mujer | C13: … | D13: … | E13: … | F13: … | G13: … | H13: … | I13: … | J13: … | K13: … | L13: 9.3666667 | M13: 10.5 | N13: 9.5
B14: Bolivia (Estado Plur. de) | C14: 5.175338 | D14: 2.8433499 | E14: 3.3193117 | F14: … | G14: 2.6506002 | H14: 2.31137 | I14: 2.8546782 | J14: 2.3406219 | K14: 3.5129571 | L14: 3.36 | M14: … | N14: …
B15: Hombre | C15: 4.5342094 | D15: 2.1081835 | E15: 2.5192083 | F15: … | G15: 2.2236817 | H15: 1.6374931 | I15: 2.2659146 | J15: 1.7095979 | K15: 2.9896677 | L15: 2.56 | M15: … | N15: …
B16: Mujer | C16: 5.952093 | D16: 3.7174093 | E16: 4.2909637 | F16: … | G16: 3.2144043 | H16: 3.1242002 | I16: 3.5495121 | J16: 3.1039989 | K16: 4.2352943 | L16: 4.35 | M16: … | N16: …
B17: Brasil b/ | C17: 8.1536786 | D17: 7.1413091 | E17: 8.328496 | F17: … | G17: 6.7145891 | H17: 7.3496642 | I17: 7.1301585 | J17: 6.8213718 | K17: 8.5229792 | L17: 11.512998 | M17: 11.339893 | N17: 13.060138
B18: Hombre | C18: 6.0818375 | D18: 5.2128582 | E18: 6.1948047 | F18: … | G18: 4.8759988 | H18: 5.9543211 | I18: 5.7936486 | J18: 5.7292249 | K18: 7.2974259 | L18: 10.120468 | M18: 9.9379343 | N18: 11.551849
B19: Mujer | C19: 10.834337 | D19: 9.6359093 | E19: 11.053692 | F19: … | G19: 9.1244515 | H19: 9.1762583 | I19: 8.8796225 | J19: 8.2438612 | K19: 10.103796 | L19: 13.306488 | M19: 13.150629 | N19: 14.956976
B20: Chile c/ | C20: 7.1356483 | D20: 7.7963869 | E20: 9.6885261 | F20: 8.1529122 | G20: 7.1194985 | H20: 6.4323611 | I20: 5.9323776 | J20: 6.3914035 | K20: 6.2137239 | L20: 6.4900125 | M20: 6.6304453 | N20: 6.7777702
B21: Hombre | C21: 6.295161 | D21: 6.7832428 | E21: 9.0895404 | F21: 7.1800645 | G21: 6.0771069 | H21: 5.4259393 | I21: 5.2788894 | J21: 6.0404363 | K21: 5.7798256 | L21: 6.1230639 | M21: 6.2157428 | N21: 6.3915133
B22: Mujer | C22: 8.6128555 | D22: 9.5109821 | E22: 10.681354 | F22: 9.646628 | G22: 8.6637779 | H22: 7.9003894 | I22: 6.8826329 | J22: 6.8929353 | K22: 6.8395629 | L22: 7.0192344 | M22: 7.2301329 | N22: 7.3343623
B23: Colombia d/ | C23: 11.191421 | D23: 11.268781 | E23: 12.016504 | F23: 11.774364 | G23: 10.827911 | H23: 10.374884 | I23: 9.644814 | J23: 9.1079401 | K23: 8.9292363 | L23: 9.2232072 | M23: 9.5705587 | N23: 9.6637688
B24: Hombre | C24: 8.7362363 | D24: 8.8707678 | E24: 9.341961 | F24: 8.9642849 | G24: 8.1918617 | H24: 7.8493869 | I24: 7.3607566 | J24: 6.9806873 | K24: 6.7406675 | L24: 7.086384 | M24: 7.365115 | N24: 7.3593304
B25: Mujer | C25: 14.815498 | D25: 14.753413 | E25: 15.806622 | F25: 15.642078 | G25: 14.429343 | H25: 13.735481 | I25: 12.68007 | J25: 11.930517 | K25: 11.805303 | L25: 12.03046 | M25: 12.470944 | N25: 12.697874
B26: Costa Rica e/ | C26: 4.5972046 | D26: 4.9477742 | E26: 7.8221934 | F26: 8.9150892 | G26: 10.298476 | H26: 10.171754 | I26: 9.3861626 | J26: 9.6173851 | K26: 9.6130075 | L26: 9.5382673 | M26: 9.5368931 | N26: 8.9980045
B27: Hombre | C27: 3.2673652 | D27: 4.1676215 | E27: 6.5690683 | F27: 7.6493639 | G27: 8.7064675 | H27: 8.8797609 | I27: 8.2502437 | J27: 8.1340045 | K27: 7.9771025 | L27: 7.9851912 | M27: 8.3479895 | N27: 7.5158898
B28: Mujer | C28: 6.8247209 | D28: 6.2366486 | E28: 9.8654631 | F28: 11.023824 | G28: 13.0062 | H28: 12.178798 | I28: 11.123098 | J28: 11.942799 | K28: 12.164845 | L28: 12.098753 | M28: 11.502924 | N28: 11.416901
B29: Cuba | C29: 1.8 | D29: 1.5851548 | E29: 1.6690899 | F29: 2.5036675 | G29: 3.175186 | H29: 3.4600918 | I29: 3.2874558 | J29: 2.6579179 | K29: 2.3897982 | L29: 2.0293628 | M29: … | N29: …
B30: Hombre | C30: 1.7 | D30: 1.3482713 | E30: 1.4693416 | F30: 2.3740187 | G30: 2.9725964 | H30: 3.3670034 | I30: 3.1322725 | J30: 2.392569 | K30: 2.2927973 | L30: 1.9397652 | M30: … | N30: …
B31: Mujer | C31: 1.9 | D31: 1.9709327 | E31: 1.9914868 | F31: 2.7133569 | G31: 3.5115681 | H31: 3.6197401 | I31: 3.5463225 | J31: 3.1025628 | K31: 2.5517315 | L31: 2.5517315 | M31: … | N31: …
B32: Ecuador f/ | C32: 4.9983546 | D32: 5.951463 | E32: 6.47131 | F32: 5.6176433 | G32: 4.6134263 | H32: 4.1169369 | I32: 4.0328713 | J32: 4.2961808 | K32: 4.3406718 | L32: 5.362265 | M32: 5.4121523 | N32: 4.3423471
B33: Hombre | C33: 3.8366063 | D33: 4.3492796 | E33: 5.1679257 | F33: 4.5357868 | G33: 3.8048327 | H33: 3.6288781 | I33: 3.4645606 | J33: 3.7069551 | K33: 3.5103379 | L33: 4.2865684 | M33: 4.2108569 | N33: 3.4075428
B34: Mujer | C34: 6.7132979 | D34: 8.3071334 | E34: 8.3920501 | F34: 7.218452 | G34: 5.8406018 | H34: 4.8517589 | I34: 4.896655 | J34: 5.2076993 | K34: 5.5321093 | L34: 6.8140779 | M34: 7.0238004 | N34: 5.5904662
B35: El Salvador g/ | C35: 6.3328918 | D35: 5.8839509 | E35: 7.3319912 | F35: 7.0459686 | G35: 6.6167815 | H35: 6.0717041 | I35: 5.9262882 | J35: 6.9966658 | K35: 7.00615 | L35: 7.1166676 | M35: … | N35: …
B36: Hombre | C36: 8.1741447 | D36: 7.4649077 | E36: 9.0258776 | F36: 8.410215 | G36: 8.1583502 | H36: 7.27868 | I36: 6.8458494 | J36: 8.5971317 | K36: 8.3994383 | L36: 8.1381147 | M36: … | N36: …
B37: Mujer | C37: 3.7486175 | D37: 3.6325529 | E37: 4.9335001 | F37: 5.1085155 | G37: 4.3619424 | H37: 4.3342719 | I37: 4.6545709 | J37: 4.7361901 | K37: 4.9683414 | L37: 5.3380395 | M37: … | N37: …
B38: Guatemala h/ | C38: … | D38: … | E38: … | F38: 3.74 | G38: 4.1261884 | H38: 2.87 | I38: 3.095 | J38: 2.9 | K38: 2.5721019 | L38: 2.6518147 | M38: 3.0840044 | N38: 3.1911188
B39: Hombre | C39: … | D39: … | E39: … | F39: 3.229349 | G39: 2.8585657 | H39: 2.4249689 | I39: 2.732617 | J39: 2.5865038 | K39: 2.0427778 | L39: 2.1982938 | M39: 2.5545636 | N39: 2.6148184
B40: Mujer | C40: … | D40: … | E40: … | F40: 4.0214571 | G40: 6.6215388 | H40: 3.6384252 | I40: 3.7404512 | J40: 3.5229861 | K40: 3.6177087 | L40: 3.497201 | M40: 4.0568632 | N40: 4.2381508
B41: Honduras i/ | C41: 3.0541287 | D41: 3.0501938 | E41: 3.1294516 | F41: 3.9476972 | G41: 4.2666724 | H41: 3.59056 | I41: 3.9056026 | J41: 5.3128008 | K41: 7.3302633 | L41: 7.3779493 | M41: 7.3779493 | N41: 6.6812682
B42: Hombre | C42: 2.5100036 | D42: 2.6754634 | E42: 2.5750956 | F42: 3.2155729 | G42: 3.272542 | H42: 2.8570314 | I42: 3.3065661 | J42: 4.4541337 | K42: 4.3615587 | L42: 5.1442568 | M42: 5.1442568 | N42: 4.0402385
B43: Mujer | C43: 4.0955709 | D43: 3.7372507 | E43: 4.135439 | F43: 5.2459798 | G43: 6.0970239 | H43: 4.9697269 | I43: 4.9464128 | J43: 6.6898355 | K43: 11.762098 | L43: 10.735274 | M43: 10.735274 | N43: 10.767362
...

Sheet C3N
A1: regresar al índice
B2: CUADRO 3
B3: AMÉRICA LATINA Y EL CARIBE: TASA DE DESOCUPACIÓN NACIONAL SEGÚN PAÍS Y TRAMO DE EDAD. 2007 - 2017
B4: (tasas anuales medias)
B6: País | C6: 2007 | D6: 2008 | E6: 2009 | F6: 2010 | G6: 2011 | H6: 2012 | I6: 2013 | J6: 2014 | K6: 2015 | L6: 2016 | M6: 2016 | N6: 2017
M8: Promedio al III Trimestre
B10: América Latina
B11: Argentina a/ | C11: … | D11: … | E11: … | F11: … | G11: … | H11: … | I11: … | J11: … | K11: … | L11: 8.4666667 | M11: 9.3 | N11: 8.7
B12: 15 - 24 | C12: … | D12: … | E12: … | F12: … | G12: … | H12: … | I12: … | J12: … | K12: … | L12: 23.870124 | M12: 24.883158 | N12: 23.110304
B13: 25 y más | C13: … | D13: … | E13: … | F13: … | G13: … | H13: … | I13: … | J13: … | K13: … | L13: 5.925859 | M13: 6.7088795 | N13: 6.2893991
B14: Bolivia (Estado Plur. de) | C14: 5.175338 | D14: 2.8433499 | E14: 3.3193117 | F14: … | G14: 2.6506002 | H14: 2.31137 | I14: 2.8546782 | J14: 2.3406219 | K14: 3.5129571 | L14: 3.36 | M14: … | N14: …
B15: 15 - 24 | C15: 11.488106 | D15: 6.6138974 | E15: 6.1684021 | F15: … | G15: 6.2412575 | H15: 4.3011445 | I15: 6.908418 | J15: 5.4856259 | K15: 8.0477031 | L15: … | M15: … | N15: …
B16: 25 y más | C16: 3.4364115 | D16: 1.9486376 | E16: 2.7020966 | F16: … | G16: 1.7440037 | H16: 1.8819284 | I16: 2.024786 | J16: 1.6310104 | K16: 2.5890092 | L16: … | M16: … | N16: …
B17: Brasil b/ | C17: 8.1536786 | D17: 7.1413091 | E17: 8.328496 | F17: … | G17: 6.7145891 | H17: 7.3496642 | I17: 7.1301585 | J17: 6.8213718 | K17: 8.5229792 | L17: 11.512998 | M17: 11.339893 | N17: 13.060138
B18: 15 - 24 | C18: 16.799901 | D18: 15.49611 | E18: 17.821113 | F18: … | G18: 15.343822 | H18: 16.380086 | I18: 16.176689 | J18: 16.12291 | K18: 20.037506 | L18: 27.168069 | M18: 26.937633 | N18: 29.803462
B19: 25 y más | C19: 5.5865187 | D19: 4.7727063 | E19: 5.735058 | F19: … | G19: 4.5580086 | H19: 5.112796 | I19: 5.0185205 | J19: 4.7549622 | K19: 6.0213058 | L19: 8.1433012 | M19: 7.9755093 | N19: 9.4248596
B20: Chile c/ | C20: 7.1356483 | D20: 7.7963869 | E20: 9.6885261 | F20: 8.1529122 | G20: 7.1194985 | H20: 6.4323611 | I20: 5.9323776 | J20: 6.3914035 | K20: 6.2137239 | L20: 6.4900125 | M20: 6.6304453 | N20: 6.7777702
B21: 15 - 24 | C21: 17.841412 | D21: 19.706843 | E21: 22.574871 | F21: 18.542571 | G21: 17.542261 | H21: 16.264381 | I21: 16.04688 | J21: 16.443281 | K21: 15.504378 | L21: 15.664493 | M21: 15.964538 | N21: 16.848818
B22: 25 y más | C22: 5.507212 | D22: 5.925021 | E22: 7.7362453 | F22: 6.4431738 | G22: 5.450591 | H22: 4.9434635 | I22: 4.4690719 | J22: 4.9793718 | K22: 4.9563153 | L22: 5.3409867 | M22: 5.4457072 | N22: 5.5999408
B23: Colombia d/ | C23: 11.191421 | D23: 11.268781 | E23: 12.016504 | F23: 11.774364 | G23: 10.827911 | H23: 10.374884 | I23: 9.644814 | J23: 9.1079401 | K23: 8.9292363 | L23: 9.2232072 | M23: 9.5705587 | N23: 9.6637688
B24: 15 - 24 | C24: 18.893918 | D24: 21.684364 | E24: 22.554592 | F24: 22.133258 | G24: 20.755997 | H24: 19.572223 | I24: 18.158755 | J24: 17.713309 | K24: 16.761648 | L24: 17.528653 | M24: 18.611439 | N24: 18.202677
B25: 25 y más | C25: 7.6807385 | D25: 7.8457361 | E25: 8.5424564 | F25: 8.2753372 | G25: 7.4938038 | H25: 7.3536711 | I25: 6.8927906 | J25: 6.4418892 | K25: 6.4095535 | L25: 6.6876118 | M25: 7.105773 | N25: 7.3421289
B26: Costa Rica e/ | C26: 4.5972046 | D26: 4.9477742 | E26: 7.8221934 | F26: 8.9150892 | G26: 10.298476 | H26: 10.171754 | I26: 9.3861626 | J26: 9.6173851 | K26: 9.6130075 | L26: 9.5382673 | M26: 9.5368931 | N26: 8.9980045
B27: 15 - 24 | C27: 10.72428 | D27: 11.013248 | E27: 17.909876 | F27: 21.549538 | G27: 22.367669 | H27: 23.131933 | I27: 22.462199 | J27: 25.10198 | K27: 23.045199 | L27: 23.133323 | M27: 22.891781 | N27: 22.005372
B28: 25 y más | C28: 2.6937904 | D28: 3.2592903 | E28: 5.1654824 | F28: 5.9663884 | G28: 7.6885145 | H28: 7.3489001 | I28: 6.4757752 | J28: 6.2865987 | K28: 6.8484255 | L28: 6.8143608 | M28: 6.9072218 | N28: 6.4526389
B29: Cuba | C29: 1.8 | D29: 1.5851548 | E29: 1.6690899 | F29: 2.5036675 | G29: 3.175186 | H29: 3.4600918 | I29: 3.2874558 | J29: 2.6579179 | K29: 2.3897982 | L29: 2.0293628 | M29: … | N29: …
B30: 15 - 24 | C30: … | D30: … | E30: … | F30: … | G30: … | H30: … | I30: … | J30: … | K30: … | L30: … | M30: … | N30: …
B31: 25 y más | C31: … | D31: … | E31: … | F31: … | G31: … | H31: … | I31: … | J31: … | K31: … | L31: … | M31: … | N31: …
B32: Ecuador f/ | C32: 4.9983546 | D32: 5.951463 | E32: 6.47131 | F32: 5.6176433 | G32: 4.6134263 | H32: 4.1169369 | I32: 4.0328713 | J32: 4.2961808 | K32: 4.3406718 | L32: 5.362265 | M32: 5.4121523 | N32: 4.3423471
B33: 15 - 24 | C33: 10.715688 | D33: 13.8119 | E33: 14.139415 | F33: 12.66776 | G33: 11.908294 | H33: 10.742982 | I33: 10.869492 | J33: 11.252896 | K33: 10.382583 | L33: 11.930479 | M33: 11.741559 | N33: 9.3634683
B34: 25 y más | C34: 3.4672285 | D34: 3.8604741 | E34: 4.4260436 | F34: 3.9363457 | G34: 3.0610576 | H34: 2.7264847 | I34: 2.6238115 | J34: 2.8580579 | K34: 3.0905902 | L34: 3.9854948 | M34: 4.0737118 | N34: 3.3038359
B35: El Salvador g/ | C35: 6.3328918 | D35: 5.8839509 | E35: 7.3319912 | F35: 7.0459686 | G35: 6.6167815 | H35: 6.0717041 | I35: 5.9262882 | J35: 6.9966658 | K35: 7.00615 | L35: 7.1166676 | M35: … | N35: …
B36: 15 - 24 | C36: 11.432756 | D36: 11.119623 | E36: 13.969358 | F36: 13.720276 | G36: 12.245634 | H36: 12.401891 | I36: 12.441713 | J36: 15.015587 | K36: 13.99442 | L36: 14.150542 | M36: … | N36: …
B37: 25 y más | C37: 5.0055956 | D37: 4.4325782 | E37: 5.5306425 | F37: 5.2373184 | G37: 5.0151858 | H37: 4.36284 | I37: 4.196792 | J37: 4.8985468 | K37: 5.1108248 | L37: 5.1754761 | M37: … | N37: …
B38: Guatemala h/ | C38: … | D38: … | E38: … | F38: 3.74 | G38: 4.1261884 | H38: 2.87 | I38: 3.095 | J38: 2.9 | K38: 2.5721019 | L38: 2.6518147 | M38: 3.0840044 | N38: 3.1911188
B39: 15 - 24 | C39: … | D39: … | E39: … | F39: 5.8393008 | G39: 7.5389195 | H39: 4.9007757 | I39: 5.7452204 | J39: 6.1364415 | K39: 5.7314352 | L39: 5.8193045 | M39: 6.5176348 | N39: 6.5566943
B40: 25 y más | C40: … | D40: … | E40: … | F40: 2.9273505 | G40: 2.6944344 | H40: 2.0512315 | I40: 2.0968126 | J40: 1.6894476 | K40: 1.3209789 | L40: 1.4182602 | M40: 1.7127588 | N40: 1.9706796
B41: Honduras i/ | C41: 3.0541287 | D41: 3.0501938 | E41: 3.1294516 | F41: 3.9476972 | G41: 4.2666724 | H41: 3.59056 | I41: 3.9056026 | J41: 5.3128008 | K41: 7.3302633 | L41: 7.3779493 | M41: 7.3779493 | N41: 6.6812682
B42: 15 - 24 | C42: 5.4438933 | D42: 5.4852318 | E42: 5.9794305 | F42: 7.4645722 | G42: 7.9603656 | H42: 6.8773784 | I42: 7.0985707 | J42: 9.3538133 | K42: 14.173553 | L42: 15.940978 | M42: 15.940978 | N42: 13.487422
B43: 25 y más | C43: 2.2511676 | D43: 2.188498 | E43: 2.1913797 | F43: 2.7519377 | G43: 2.983978 | H43: 2.5164336 | I43: 2.9140564 | J43: 4.015058 | K43: 4.6499752 | L43: 4.1197212 | M43: 4.1197212 | N43: 3.9424473
...

Sheet C4N
A1: regresar al índice
B2: CUADRO 4
B3: AMÉRICA LATINA Y EL CARIBE: TASA DE PARTICIPACIÓN NACIONAL SEGÚN PAÍS Y SEXO. 2007 - 2017.
B4: (tasas anuales medias)
B6: País | C6: 2007 | D6: 2008 | E6: 2009 | F6: 2010 | G6: 2011 | H6: 2012 | I6: 2013 | J6: 2014 | K6: 2015 | L6: 2016 | M6: 2016 | N6: 2017
M8: Promedio al III Trimestre
B10: América Latina
B11: Argentina a/ | C11: … | D11: … | E11: … | F11: … | G11: … | H11: … | I11: … | J11: … | K11: … | L11: 57.466667 | M11: 57.8 | N11: 57.4
B12: Hombre | C12: … | D12: … | E12: … | F12: … | G12: … | H12: … | I12: … | J12: … | K12: … | L12: 69.4 | M12: 69.6 | N12: 69.2
B13: Mujer | C13: … | D13: … | E13: … | F13: … | G13: … | H13: … | I13: … | J13: … | K13: … | L13: 46.9 | M13: 47.2 | N13: 46.8
B14: Bolivia (Estado Plur. de) | C14: 64.781492 | D14: 64.914132 | E14: 65.130174 | F14: … | G14: 65.930064 | H14: 61.128618 | I14: 63.354967 | J14: 65.846451 | K14: 61.042209 | L14: 65.61 | M14: … | N14: …
B15: Hombre | C15: 74.187675 | D15: 73.723684 | E15: 73.25265 | F15: … | G15: 74.716566 | H15: 70.356104 | I15: 72.643988 | J15: 75.026763 | K15: 72.108401 | L15: 74.98 | M15: … | N15: …
B16: Mujer | C16: 56.155434 | D16: 56.839018 | E16: 57.400748 | F16: … | G16: 57.509034 | H16: 52.568487 | I16: 54.754386 | J16: 57.106912 | K16: 50.371459 | L16: 56.8 | M16: … | N16: …
B17: Brasil b/ | C17: 62.026278 | D17: 61.970416 | E17: 62.104406 | F17: … | G17: 60.035104 | H17: 61.421818 | I17: 61.270418 | J17: 61.010623 | K17: 61.290656 | L17: 61.394864 | M17: 61.398297 | N17: 61.678409
B18: Hombre | C18: 72.358791 | D18: 72.415095 | E18: 72.250975 | F18: … | G18: 70.760784 | H18: 73.084969 | I18: 72.901014 | J18: 72.46933 | K18: 72.35377 | L18: 72.305506 | M18: 72.398026 | N18: 71.984612
B19: Mujer | C19: 52.35361 | D19: 52.226202 | E19: 52.659117 | F19: … | G19: 50.057518 | H19: 50.807811 | I19: 50.685551 | J19: 50.584512 | K19: 51.190831 | L19: 51.402136 | M19: 51.323415 | N19: 52.263048
B20: Chile c/ | C20: 54.940563 | D20: 56.040883 | E20: 55.867241 | F20: 58.466047 | G20: 59.800035 | H20: 59.547852 | I20: 59.550366 | J20: 59.79829 | K20: 59.66343 | L20: 59.461709 | M20: 59.43366 | N20: 59.583689
B21: Hombre | C21: 71.373762 | D21: 71.784033 | E21: 70.99203 | F21: 72.0871 | G21: 72.710597 | H21: 71.925974 | I21: 71.804208 | J21: 71.578538 | K21: 71.482813 | L21: 71.267025 | M21: 71.346253 | N21: 71.263442
B22: Mujer | C22: 39.112979 | D22: 40.871327 | E22: 41.287348 | F22: 45.33188 | G22: 47.345946 | H22: 47.598426 | I22: 47.715945 | J22: 48.412904 | K22: 48.230576 | L22: 48.031355 | M22: 47.900937 | N22: 48.264114
B23: Colombia d/ | C23: 58.290644 | D23: 58.5082 | E23: 61.278686 | F23: 62.727926 | G23: 63.662228 | H23: 64.532597 | I23: 64.150292 | J23: 64.229053 | K23: 64.731653 | L23: 64.474186 | M23: 64.172082 | N23: 64.232923
B24: Hombre | C24: 71.117251 | D24: 71.138822 | E24: 73.353767 | F24: 74.203038 | G24: 75.097535 | H24: 75.401454 | I24: 74.857856 | J24: 74.892261 | K24: 75.164259 | L24: 74.86013 | M24: 74.543045 | N24: 74.626053
B25: Mujer | C25: 46.048975 | D25: 46.446468 | E25: 49.773305 | F25: 51.803906 | G25: 52.762435 | H25: 54.146848 | I25: 53.915706 | J25: 54.033792 | K25: 54.754017 | L25: 54.538925 | M25: 54.251397 | N25: 54.289148
B26: Costa Rica e/ | C26: 56.983213 | D26: 56.713699 | E26: 56.506238 | F26: 60.709615 | G26: 58.994011 | H26: 62.791753 | I26: 62.280861 | J26: 62.531333 | K26: 61.244176 | L26: 58.38893 | M26: 57.843007 | N26: 59.400529
B27: Hombre | C27: 73.164481 | D27: 72.502907 | E27: 71.504754 | F27: 75.356101 | G27: 73.599427 | H27: 75.942595 | I27: 75.112004 | J27: 75.869628 | K27: 74.265498 | L27: 72.355204 | M27: 71.757867 | N27: 73.36878
B28: Mujer | C28: 41.579816 | D28: 41.708025 | E28: 42.105532 | F28: 45.879176 | G28: 44.228657 | H28: 49.483067 | I28: 49.310952 | J28: 49.048815 | K28: 48.091094 | L28: 44.293447 | M28: 43.799138 | N28: 45.311792
B29: Cuba | C29: 73.7 | D29: 74.745418 | E29: 75.408949 | F29: 74.863452 | G29: 76.06315 | H29: 74.181908 | I29: 72.906065 | J29: 71.93682 | K29: 69.132837 | L29: 65.167571 | M29: … | N29: …
B30: Hombre | C30: 86.7 | D30: 87.801235 | E30: 88.364544 | F30: 87.689788 | G30: 89.98579 | H30: 89.457831 | I30: 87.120195 | J30: 86.220472 | K30: 82.854862 | L30: 78.241074 | M30: … | N30: …
B31: Mujer | C31: 59.3 | D31: 60.17365 | E31: 60.978926 | F31: 60.54116 | G31: 60.51649 | H31: 57.378206 | I31: 57.30864 | J31: 56.306067 | K31: 54.159045 | L31: 50.874742 | M31: … | N31: …
B32: Ecuador f/ | C32: 68.059899 | D32: 66.177048 | E32: 65.275815 | F32: 63.704033 | G32: 62.522913 | H32: 63.026916 | I32: 62.87481 | J32: 63.148764 | K32: 66.154702 | L32: 68.216927 | M32: 68.515375 | N32: 68.842196
B33: Hombre | C33: 83.161793 | D33: 81.628421 | E33: 80.161271 | F33: 78.885387 | G33: 77.941528 | H33: 78.106377 | I33: 77.572381 | J33: 78.775745 | K33: 80.461057 | L33: 80.984116 | M33: 81.122154 | N33: 81.104319
B34: Mujer | C34: 53.672114 | D34: 51.769192 | E34: 51.251029 | F34: 49.439357 | G34: 48.116265 | H34: 48.832964 | I34: 48.943187 | J34: 48.471705 | K34: 52.70843 | L34: 56.230355 | M34: 56.711056 | N34: 57.283282
B35: El Salvador g/ | C35: 62.079439 | D35: 62.70831 | E35: 62.764858 | F35: 62.513543 | G35: 62.702372 | H35: 63.239349 | I35: 63.649913 | J35: 62.790697 | K35: 62.122164 | L35: 62.235883 | M35: … | N35: …
B36: Hombre | C36: 81.005481 | D36: 81.349844 | E36: 81.012211 | F36: 80.89275 | G36: 81.198267 | H36: 81.354472 | I36: 80.651945 | J36: 80.685085 | K36: 80.225848 | L36: 80.135779 | M36: … | N36: …
B37: Mujer | C37: 46.749311 | D37: 47.279563 | E37: 47.587501 | F37: 47.263225 | G37: 47.032124 | H37: 47.889358 | I37: 49.282242 | J37: 47.813579 | K37: 46.706764 | L37: 47.261129 | M37: … | N37: …
B38: Guatemala h/ | C38: … | D38: … | E38: … | F38: 62.53 | G38: 61.7549 | H38: 65.42 | I38: 60.608609 | J38: 60.891926 | K38: 60.716796 | L38: 60.779928 | M38: 61.497327 | N38: 60.969075
B39: Hombre | C39: … | D39: … | E39: … | F39: 84.7 | G39: 84.61789 | H39: 87.615451 | I39: 83.425554 | J39: 83.763629 | K39: 84.744769 | L39: 84.002062 | M39: 83.623038 | N39: 84.329929
B40: Mujer | C40: … | D40: … | E40: … | F40: 42.9 | G40: 40.425453 | H40: 45.73591 | I40: 40.572857 | J40: 40.644143 | K40: 38.919001 | L40: 40.110508 | M40: 41.379255 | N40: 40.557102
B41: Honduras i/ | C41: 50.358511 | D41: 51.263564 | E41: 53.14761 | F41: 53.630139 | G41: 51.872497 | H41: 50.768158 | I41: 53.67195 | J41: 56.050978 | K41: 58.06611 | L41: 57.490802 | M41: 57.490802 | N41: 59.014519
B42: Hombre | C42: 69.773521 | D42: 69.945331 | E42: 72.282158 | F42: 71.034132 | G42: 70.401958 | H42: 69.159046 | I42: 72.13421 | J42: 73.596388 | K42: 74.035527 | L42: 74.031037 | M42: 74.031037 | N42: 76.048763
B43: Mujer | C43: 32.858688 | D43: 34.411929 | E43: 35.901169 | F43: 37.38656 | G43: 34.940761 | H43: 33.845867 | I43: 37.151071 | J43: 40.548481 | K43: 43.922691 | L43: 43.038253 | M43: 43.038253 | N43: 43.826462
...

Sheet C5N
A1: regresar al índice
B2: CUADRO 5
B3: AMÉRICA LATINA Y EL CARIBE: TASA DE PARTICIPACIÓN NACIONAL SEGÚN PAÍS Y TRAMO DE EDAD. 2007 - 2017.
B4: (tasas anuales medias)
B6: País | C6: 2007 | D6: 2008 | E6: 2009 | F6: 2010 | G6: 2011 | H6: 2012 | I6: 2013 | J6: 2014 | K6: 2015 | L6: 2016 | M6: 2016 | N6: 2017
M8: Promedio al III Trimestre
B10: América Latina
B11: Argentina a/ | C11: … | D11: … | E11: … | F11: … | G11: … | H11: … | I11: … | J11: … | K11: … | L11: 57.466667 | M11: 57.8 | N11: 57.4
B12: 15 - 24 | C12: … | D12: … | E12: … | F12: … | G12: … | H12: … | I12: … | J12: … | K12: … | L12: 38.340204 | M12: 38.416782 | N12: 38.087862
B13: 25 y más | C13: … | D13: … | E13: … | F13: … | G13: … | H13: … | I13: … | J13: … | K13: … | L13: 64.35056 | M13: 64.907451 | N13: 64.411454
B14: Bolivia (Estado Plur. de) | C14: 64.781492 | D14: 64.914132 | E14: 65.130174 | F14: … | G14: 65.930064 | H14: 61.128618 | I14: 63.354967 | J14: 65.846451 | K14: 61.042209 | L14: 65.61 | M14: … | N14: …
B15: 15 - 24 | C15: 52.151551 | D15: 51.582898 | E15: 51.265191 | F15: … | G15: 53.02607 | H15: 45.390529 | I15: 46.834459 | J15: 51.923147 | K15: 44.595996 | L15: … | M15: … | N15: …
B16: 25 y más | C16: 79.828727 | D16: 80.700501 | E16: 81.218527 | F16: … | G16: 80.044243 | H16: 78.172301 | I16: 77.904579 | J16: 79.13764 | K16: 75.904331 | L16: … | M16: … | N16: …
B17: Brasil b/ | C17: 62.026278 | D17: 61.970416 | E17: 62.104406 | F17: … | G17: 60.035104 | H17: 61.421818 | I17: 61.270418 | J17: 61.010623 | K17: 61.290656 | L17: 61.394864 | M17: 61.398297 | N17: 61.678409
B18: 15 - 24 | C18: 63.593685 | D18: 63.205352 | E18: 62.70307 | F18: … | G18: 59.139945 | H18: 51.940955 | I18: 50.616085 | J18: 49.359512 | K18: 49.621327 | L18: 49.853932 | M18: 49.901866 | N18: 50.794592
B19: 25 y más | C19: 70.153934 | D19: 70.188701 | E19: 70.314287 | F19: … | G19: 68.138864 | H19: 64.330066 | I19: 64.436028 | J19: 64.386527 | K19: 64.591035 | L19: 64.613738 | M19: 64.608232 | N19: 64.687372
B20: Chile c/ | C20: 54.940563 | D20: 56.040883 | E20: 55.867241 | F20: 58.466047 | G20: 59.800035 | H20: 59.547852 | I20: 59.550366 | J20: 59.79829 | K20: 59.66343 | L20: 59.461709 | M20: 59.43366 | N20: 59.583689
B21: 15 - 24 | C21: 32.123246 | D21: 34.191951 | E21: 33.305135 | F21: 37.487967 | G21: 38.424717 | H21: 37.130293 | I21: 36.271246 | J21: 36.005985 | K21: 35.735366 | L21: 34.573784 | M21: 34.683764 | N21: 34.263373
B22: 25 y más | C22: 61.595557 | D22: 62.295382 | E22: 62.256749 | F22: 64.375201 | G22: 65.655171 | H22: 65.538816 | I22: 65.629284 | J22: 65.89097 | K22: 65.610858 | L22: 65.349561 | M22: 65.356248 | N22: 65.232374
B23: Colombia d/ | C23: 58.290644 | D23: 58.5082 | E23: 61.278686 | F23: 62.727926 | G23: 63.662228 | H23: 64.532597 | I23: 64.150292 | J23: 64.229053 | K23: 64.731653 | L23: 64.474186 | M23: 64.172082 | N23: 64.232923
B24: 15 - 24 | C24: 53.014646 | D24: 47.635125 | E24: 51.469159 | F24: 52.363584 | G24: 53.686752 | H24: 55.094757 | I24: 53.990489 | J24: 53.927377 | K24: 54.105759 | L24: 53.103792 | M24: 53.047781 | N24: 52.908341
B25: 25 y más | C25: 61.05332 | D25: 69.178985 | E25: 71.512471 | F25: 72.827487 | G25: 73.303828 | H25: 73.984184 | I25: 73.76767 | J25: 73.77875 | K25: 74.096393 | L25: 73.847562 | M25: 73.726847 | N25: 73.53617
B26: Costa Rica e/ | C26: 56.983213 | D26: 56.713699 | E26: 56.506238 | F26: 60.709615 | G26: 58.994011 | H26: 62.791753 | I26: 62.280861 | J26: 62.531333 | K26: 61.244176 | L26: 58.38893 | M26: 57.843007 | N26: 59.400529
B27: 15 - 24 | C27: 51.41346 | D27: 49.097829 | E27: 47.367828 | F27: 44.239251 | G27: 43.384937 | H27: 48.306163 | I27: 47.952889 | J27: 48.208797 | K27: 45.916277 | L27: 43.151943 | M27: 41.921794 | N27: 44.478514
B28: 25 y más | C28: 65.276515 | D28: 65.231474 | E28: 65.246519 | F28: 66.490666 | G28: 64.007379 | H28: 67.177559 | I28: 66.710832 | J28: 66.801531 | K28: 65.762494 | L28: 62.834287 | M28: 62.518726 | N28: 63.591376
B29: Cuba | C29: 73.7 | D29: 74.745418 | E29: 75.408949 | F29: 74.863452 | G29: 76.06315 | H29: 74.181908 | I29: 72.906065 | J29: 71.93682 | K29: 69.132837 | L29: 65.167571 | M29: … | N29: …
B30: 15 - 24 | C30: … | D30: … | E30: … | F30: … | G30: … | H30: … | I30: … | J30: … | K30: … | L30: … | M30: … | N30: …
B31: 25 y más | C31: … | D31: … | E31: … | F31: … | G31: … | H31: … | I31: … | J31: … | K31: … | L31: … | M31: … | N31: …
B32: Ecuador f/ | C32: 68.059899 | D32: 66.177048 | E32: 65.275815 | F32: 63.704033 | G32: 62.522913 | H32: 63.026916 | I32: 62.87481 | J32: 63.148764 | K32: 66.154702 | L32: 68.216927 | M32: 68.515375 | N32: 68.842196
B33: 15 - 24 | C33: 52.936053 | D33: 51.217293 | E33: 49.997135 | F33: 46.351091 | G33: 43.067673 | H33: 43.932858 | I33: 42.205424 | J33: 41.147388 | K33: 43.516296 | L33: 45.613264 | M33: 46.070122 | N33: 45.990282
B34: 25 y más | C34: 73.698717 | D34: 71.75208 | E34: 71.068497 | F34: 69.936942 | G34: 69.172374 | H34: 69.334575 | I34: 69.922575 | J34: 70.993109 | K34: 74.148697 | L34: 76.113991 | M34: 76.374208 | N34: 76.727025
B35: El Salvador g/ | C35: 62.079439 | D35: 62.70831 | E35: 62.764858 | F35: 62.513543 | G35: 62.702372 | H35: 63.239349 | I35: 63.649913 | J35: 62.790697 | K35: 62.122164 | L35: 62.235883 | M35: … | N35: …
B36: 15 - 24 | C36: 49.902601 | D36: 51.378115 | E36: 50.44496 | F36: 49.427286 | G36: 46.345172 | H36: 50.269486 | I36: 49.571814 | J36: 49.096706 | K36: 45.839649 | L36: 48.536801 | M36: … | N36: …
B37: 25 y más | C37: 66.289262 | D37: 66.791373 | E37: 67.22031 | F37: 67.345292 | G37: 67.535279 | H37: 67.973729 | I37: 68.839383 | J37: 67.733771 | K37: 66.857358 | L37: 66.995177 | M37: … | N37: …
B38: Guatemala h/ | C38: … | D38: … | E38: … | F38: 62.53 | G38: 61.7549 | H38: 65.42 | I38: 60.608609 | J38: 60.891926 | K38: 60.716796 | L38: 60.779928 | M38: 61.497327 | N38: 60.969075
B39: 15 - 24 | C39: … | D39: … | E39: … | F39: 53.095697 | G39: 53.47922 | H39: 58.283081 | I39: 50.266795 | J39: 51.814764 | K39: 52.368771 | L39: 52.637977 | M39: 53.144917 | N39: 52.036521
B40: 25 y más | C40: … | D40: … | E40: … | F40: 67.157432 | G40: 66.11062 | H40: 68.840432 | I40: 65.675697 | J40: 65.256048 | K40: 64.807934 | L40: 64.67589 | M40: 65.615638 | N40: 65.016191
B41: Honduras i/ | C41: 50.358511 | D41: 51.263564 | E41: 53.14761 | F41: 53.630139 | G41: 51.872497 | H41: 50.768158 | I41: 53.67195 | J41: 56.050978 | K41: 58.06611 | L41: 57.490802 | M41: 57.490802 | N41: 59.014519
B42: 15 - 24 | C42: 48.282815 | D42: 49.447049 | E42: 50.471199 | F42: 51.45675 | G42: 49.862302 | H42: 48.069829 | I42: 51.577299 | J42: 52.304213 | K42: 56.590305 | L42: 55.500291 | M42: 55.500291 | N42: 56.686546
B43: 25 y más | C43: 64.480447 | D43: 65.620565 | E43: 67.150153 | F43: 67.384761 | G43: 65.187291 | H43: 63.666708 | I43: 66.406625 | J43: 68.288885 | K43: 69.027978 | L43: 67.727084 | M43: 67.727084 | N43: 68.91577
...

Sheet C6N
A1: regresar al índice
B2: CUADRO 6
B3: AMÉRICA LATINA Y EL CARIBE: TASA DE OCUPACIÓN NACIONAL SEGÚN PAÍS Y SEXO. 2007 - 2017
B4: (tasas anuales medias)
B6: País | C6: 2007 | D6: 2008 | E6: 2009 | F6: 2010 | G6: 2011 | H6: 2012 | I6: 2013 | J6: 2014 | K6: 2015 | L6: 2016 | M6: 2016 | N6: 2017
M8: Promedio al III Trimestre
B10: América Latina
B11: Argentina a/ | C11: … | D11: … | E11: … | F11: … | G11: … | H11: … | I11: … | J11: … | K11: … | L11: 52.6 | M11: 52.4 | N11: 52.4
B12: Hombre | C12: … | D12: … | E12: … | F12: … | G12: … | H12: … | I12: … | J12: … | K12: … | L12: 63.966667 | M12: 63.7 | N12: 63.6
B13: Mujer | C13: … | D13: … | E13: … | F13: … | G13: … | H13: … | I13: … | J13: … | K13: … | L13: 42.5 | M13: 42.2 | N13: 42.4
B14: Bolivia (Estado Plur. de) | C14: 61.42883 | D14: 63.068396 | E14: 62.968301 | F14: … | G14: 64.182522 | H14: 59.71571 | I14: 61.546387 | J14: 64.305235 | K14: 58.897822 | L14: 63.4 | M14: … | N14: …
B15: Hombre | C15: 70.82385 | D15: 72.169454 | E15: 71.407263 | F15: … | G15: 73.056437 | H15: 69.200311 | I15: 70.991112 | J15: 73.739862 | K15: 69.9526 | L15: 73.06 | M15: … | N15: …
B16: Mujer | C16: 52.81301 | D16: 54.726079 | E16: 54.937702 | F16: … | G16: 55.677714 | H16: 50.917057 | I16: 52.80164 | J16: 55.32359 | K16: 48.23808 | L16: 54.33 | M16: … | N16: …
B17: Brasil b/ | C17: 56.968855 | D17: 57.544917 | E17: 56.932044 | F17: … | G17: 56.00286 | H17: 56.907361 | I17: 56.901583 | J17: 56.84917 | K17: 56.066714 | L17: 54.326475 | M17: 54.436218 | N17: 53.623652
B18: Hombre | C18: 67.958047 | D18: 68.640198 | E18: 67.775168 | F18: … | G18: 67.310489 | H18: 68.733255 | I18: 68.677386 | J18: 68.316752 | K18: 67.073489 | L18: 64.987851 | M18: 65.203925 | N18: 63.668691
B19: Mujer | C19: 46.681444 | D19: 47.193732 | E19: 46.83834 | F19: … | G19: 45.490044 | H19: 46.144947 | I19: 46.184865 | J19: 46.4141 | K19: 46.018323 | L19: 44.562317 | M19: 44.574294 | N19: 44.44692
B20: Chile c/ | C20: 51.020198 | D20: 51.671719 | E20: 50.454529 | F20: 53.703857 | G20: 55.542474 | H20: 55.718045 | I20: 56.017515 | J20: 55.976765 | K20: 55.95632 | L20: 55.60276 | M20: 55.492951 | N20: 55.54521
B21: Hombre | C21: 66.880669 | D21: 66.914748 | E21: 64.539181 | F21: 66.913288 | G21: 68.290757 | H21: 68.023563 | I21: 68.013677 | J21: 67.255736 | K21: 67.351704 | L21: 66.903752 | M21: 66.91245 | N21: 66.709294
B22: Mujer | C22: 35.744235 | D22: 36.984062 | E22: 36.8773 | F22: 40.966591 | G22: 43.244921 | H22: 43.837696 | I22: 44.431963 | J22: 45.07585 | K22: 44.933643 | L22: 44.660736 | M22: 44.437621 | N22: 44.725432
B23: Colombia | C23: 51.773823 | D23: 51.914 | E23: 53.922241 | F23: 55.346332 | G23: 56.781257 | H23: 57.839121 | I23: 57.968784 | J23: 58.385927 | K23: 58.956409 | L23: 58.531217 | M23: 58.031083 | N23: 58.028146
B24: Hombre | C24: 64.908826 | D24: 64.828226 | E24: 66.50522 | F24: 67.554199 | G24: 68.953989 | H24: 69.485107 | I24: 69.35079 | J24: 69.669036 | K24: 70.10141 | L24: 69.55775 | M24: 69.052657 | N24: 69.134617
B25: Mujer | C25: 39.237327 | D25: 39.590381 | E25: 41.91804 | F25: 43.706675 | G25: 45.168266 | H25: 46.710795 | I25: 47.089538 | J25: 47.597977 | K25: 48.297448 | L25: 47.983171 | M25: 47.488041 | N25: 47.401872
B26: Costa Rica d/ | C26: 54.363579 | D26: 53.907633 | E26: 52.086211 | F26: 55.296758 | G26: 52.919722 | H26: 56.402671 | I26: 56.440046 | J26: 56.513693 | K26: 55.356768 | L26: 52.819638 | M26: 52.326445 | N26: 54.055563
B27: Hombre | C27: 70.77393 | D27: 69.481261 | E27: 66.807558 | F27: 69.591838 | G27: 67.191517 | H27: 69.199074 | I27: 68.915081 | J27: 69.698389 | K27: 68.341263 | L27: 66.577503 | M27: 65.76735 | N27: 67.853705
B28: Mujer | C28: 38.74211 | D28: 39.106842 | E28: 37.951627 | F28: 40.821536 | G28: 38.476189 | H28: 43.456624 | I28: 43.826046 | J28: 43.191013 | K28: 42.240887 | L28: 38.934492 | M28: 38.76093 | N28: 40.138435
B29: Cuba | C29: 72.422002 | D29: 73.560587 | E29: 74.150306 | F29: 72.98912 | G29: 73.648003 | H29: 71.615146 | I29: 70.50931 | J29: 70.024799 | K29: 67.480702 | L29: 63.845084 | M29: … | N29: …
B30: Hombre | C30: 85.212183 | D30: 86.614617 | E30: 87.066167 | F30: 85.608016 | G30: 87.319234 | H30: 86.445783 | I30: 84.391353 | J30: 84.157588 | K30: 80.955168 | L30: 76.72338 | M30: … | N30: …
B31: Mujer | C31: 58.194789 | D31: 58.990814 | E31: 59.764539 | F31: 58.898463 | G31: 58.382078 | H31: 55.301264 | I31: 55.276291 | J31: 54.559136 | K31: 52.777052 | L31: 49.765668 | M31: … | N31: …
B32: Ecuador e/ | C32: 64.658024 | D32: 62.238546 | E32: 61.051615 | F32: 60.122708 | G32: 59.637771 | H32: 60.432162 | I32: 60.339851 | J32: 60.436158 | K32: 63.283377 | L32: 64.558682 | M32: 64.80745 | N32: 65.85289
B33: Hombre | C33: 79.971202 | D33: 78.078172 | E33: 76.018596 | F33: 75.303045 | G33: 74.977512 | H33: 75.272458 | I33: 74.884459 | J33: 75.858658 | K33: 77.636871 | L33: 77.512753 | M33: 77.7059 | N33: 78.340936
B34: Mujer | C34: 50.068945 | D34: 47.468656 | E34: 46.950017 | F34: 45.859313 | G34: 45.305093 | H34: 46.463128 | I34: 46.552645 | J34: 45.950894 | K34: 49.792826 | L34: 52.397605 | M34: 52.730257 | N34: 54.080972
B35: El Salvador f/ | C35: 58.148016 | D35: 59.018584 | E35: 58.162944 | F35: 58.108859 | G35: 58.553493 | H35: 59.399643 | I35: 59.877835 | J35: 58.397442 | K35: 57.769792 | L35: 57.891678 | M35: … | N35: …
B36: Hombre | C36: 74.383976 | D36: 75.277154 | E36: 73.700148 | F36: 74.089496 | G36: 74.573828 | H36: 75.43294 | I36: 75.130635 | J36: 73.748482 | K36: 73.487328 | L36: 73.614237 | M36: … | N36: …
B37: Mujer | C37: 44.996858 | D37: 45.562108 | E37: 45.239772 | F37: 44.848776 | G37: 44.98061 | H37: 45.813703 | I37: 46.988365 | J37: 45.549037 | K37: 44.386212 | L37: 44.738311 | M37: … | N37: …
B38: Guatemala g/ | C38: … | D38: … | E38: … | F38: 60.191378 | G38: 59.206776 | H38: 63.542446 | I38: 58.734685 | J38: 59.115061 | K38: 59.155098 | L38: 59.168157 | M38: 59.600747 | N38: 59.023479
B39: Hombre | C39: … | D39: … | E39: … | F39: 81.7355 | G39: 82.199032 | H39: 85.490804 | I39: 81.145854 | J39: 81.59708 | K39: 83.013622 | L39: 82.15545 | M39: 81.486834 | N39: 82.124855
B40: Mujer | C40: … | D40: … | E40: … | F40: 41.0982 | G40: 37.748666 | H40: 44.071843 | I40: 39.055249 | J40: 39.212256 | K40: 37.511025 | L40: 38.707763 | M40: 39.700555 | N40: 38.83823
B41: Honduras h/ | C41: 48.820497 | D41: 49.699926 | E41: 51.484381 | F41: 51.512983 | G41: 49.659268 | H41: 48.945297 | I41: 51.575737 | J41: 53.073101 | K41: 53.809711 | L41: 53.249145 | M41: 53.249145 | N41: 55.071601
B42: Hombre | C42: 68.022203 | D42: 68.073969 | E42: 70.420824 | F42: 68.749977 | G42: 68.098025 | H42: 67.183151 | I42: 69.749045 | J42: 70.318306 | K42: 70.806424 | L42: 70.222722 | M42: 70.222722 | N42: 72.976212
B43: Mujer | C43: 31.512937 | D43: 33.125869 | E43: 34.416498 | F43: 35.425269 | G43: 32.810415 | H43: 32.16382 | I43: 35.313426 | J43: 37.835854 | K43: 38.756461 | L43: 38.417978 | M43: 38.417978 | N43: 39.107508
...

Sheet C7N
A1: regresar al índice
B2: CUADRO 7
B3: AMÉRICA LATINA Y EL CARIBE: TASA DE OCUPACIÓN NACIONAL SEGUN PAÍS Y TRAMO DE EDAD. 2007 - 2017
B4: (tasas anuales medias)
B6: País | C6: 2007 | D6: 2008 | E6: 2009 | F6: 2010 | G6: 2011 | H6: 2012 | I6: 2013 | J6: 2014 | K6: 2015 | L6: 2016 | M6: 2016 | N6: 2017
M8: Promedio al III Trimestre
B10: América Latina
B11: Argentina a/ | C11: … | D11: … | E11: … | F11: … | G11: … | H11: … | I11: … | J11: … | K11: … | L11: 52.6 | M11: 52.4 | N11: 52.4
B12: 15 - 24 | C12: … | D12: … | E12: … | F12: … | G12: … | H12: … | I12: … | J12: … | K12: … | L12: 29.18835 | M12: 28.857473 | N12: 29.285641
B13: 25 y más | C13: … | D13: … | E13: … | F13: … | G13: … | H13: … | I13: … | J13: … | K13: … | L13: 60.537237 | M13: 60.552889 | N13: 60.360361
B14: Bolivia (Estado Plur. de) | C14: 61.42883 | D14: 63.068396 | E14: 62.968301 | F14: … | G14: 64.182522 | H14: 59.71571 | I14: 61.546387 | J14: 64.305235 | K14: 58.897822 | L14: 63.4 | M14: … | N14: …
B15: 15 - 24 | C15: 46.160325 | D15: 48.171258 | E15: 48.102948 | F15: … | G15: 49.716577 | H15: 43.438217 | I15: 43.598939 | J15: 49.074837 | K15: 41.007043 | L15: … | M15: … | N15: …
B16: 25 y más | C16: 77.085484 | D16: 79.127941 | E16: 79.023924 | F16: … | G16: 78.648268 | H16: 76.701154 | I16: 76.327178 | J16: 77.846897 | K16: 73.939161 | L16: … | M16: … | N16: …
B17: Brasil b/ | C17: 56.968855 | D17: 57.544917 | E17: 56.932044 | F17: … | G17: 56.00286 | H17: 56.907361 | I17: 56.901583 | J17: 56.84917 | K17: 56.066714 | L17: 54.326475 | M17: 54.436218 | N17: 53.623652
B18: 15 - 24 | C18: 52.910009 | D18: 53.410981 | E18: 51.528685 | F18: … | G18: 50.065617 | H18: 43.432982 | I18: 42.428078 | J18: 41.401322 | K18: 39.677761 | L18: 36.308892 | M18: 36.462269 | N18: 35.658891
B19: 25 y más | C19: 66.234771 | D19: 66.838801 | E19: 66.281722 | F19: … | G19: 65.033088 | H19: 61.041001 | I19: 61.202496 | J19: 61.324972 | K19: 60.702202 | L19: 59.351854 | M19: 59.454957 | N19: 58.591778
B20: Chile c/ | C20: 51.020198 | D20: 51.671719 | E20: 50.454529 | F20: 53.703857 | G20: 55.542474 | H20: 55.718045 | I20: 56.017515 | J20: 55.976765 | K20: 55.95632 | L20: 55.60276 | M20: 55.492951 | N20: 55.54521
B21: 15 - 24 | C21: 26.392005 | D21: 27.453797 | E21: 25.786543 | F21: 30.533057 | G21: 31.694903 | H21: 31.090581 | I21: 30.447562 | J21: 30.088701 | K21: 30.209716 | L21: 29.162797 | M21: 29.154409 | N21: 28.498414
B22: 25 y más | C22: 58.203359 | D22: 58.604367 | E22: 57.440414 | F22: 60.232163 | G22: 62.07662 | H22: 62.312048 | I22: 62.696742 | J22: 62.610464 | K22: 62.359172 | L22: 61.859041 | M22: 61.796887 | N22: 61.579187
B23: Colombia d/ | C23: 51.773823 | D23: 51.914 | E23: 53.922241 | F23: 55.346332 | G23: 56.781257 | H23: 57.839121 | I23: 57.968784 | J23: 58.385927 | K23: 58.956409 | L23: 58.531217 | M23: 58.031083 | N23: 58.028146
B24: 15 - 24 | C24: 43.004628 | D24: 37.305751 | E24: 39.8605 | F24: 40.773817 | G24: 42.543531 | H24: 44.311488 | I24: 44.186489 | J24: 44.375054 | K24: 45.036742 | L24: 43.795413 | M24: 43.174825 | N24: 43.277606
B25: 25 y más | C25: 56.369769 | D25: 63.751385 | E25: 65.40355 | F25: 66.800767 | G25: 67.810583 | H25: 68.54363 | I25: 68.683019 | J25: 69.026004 | K25: 69.347145 | L25: 68.908924 | M25: 68.487985 | N25: 68.13705
B26: Costa Rica e/ | C26: 54.363579 | D26: 53.907633 | E26: 52.086211 | F26: 55.296758 | G26: 52.919722 | H26: 56.402671 | I26: 56.440046 | J26: 56.513693 | K26: 55.356768 | L26: 52.819638 | M26: 52.326445 | N26: 54.055563
B27: 15 - 24 | C27: 45.899736 | D27: 43.690563 | E27: 38.884309 | F27: 34.705897 | G27: 33.680738 | H27: 37.132014 | I27: 37.181616 | J27: 36.107435 | K27: 35.33478 | L27: 33.169464 | M27: 32.326212 | N27: 34.699427
B28: 25 y más | C28: 63.518103 | D28: 63.105391 | E28: 61.876221 | F28: 62.523575 | G28: 59.086163 | H28: 62.240747 | I28: 62.390789 | J28: 62.601987 | K28: 61.258799 | L28: 58.552532 | M28: 58.200177 | N28: 59.488832
B29: Cuba | C29: 72.422002 | D29: 73.560587 | E29: 74.150306 | F29: 72.98912 | G29: 73.648003 | H29: 71.615146 | I29: 70.50931 | J29: 70.024799 | K29: 67.480702 | L29: 63.845084 | M29: … | N29: …
B30: 15 - 24 | C30: … | D30: … | E30: … | F30: … | G30: … | H30: … | I30: … | J30: … | K30: … | L30: … | M30: … | N30: …
B31: 25 y más | C31: … | D31: … | E31: … | F31: … | G31: … | H31: … | I31: … | J31: … | K31: … | L31: … | M31: … | N31: …
B32: Ecuador f/ | C32: 64.658024 | D32: 62.238546 | E32: 61.051615 | F32: 60.122708 | G32: 59.637771 | H32: 60.432162 | I32: 60.339851 | J32: 60.436158 | K32: 63.283377 | L32: 64.558682 | M32: 64.80745 | N32: 65.85289
B33: 15 - 24 | C33: 47.26359 | D33: 44.143212 | E33: 42.927833 | F33: 40.479446 | G33: 37.939048 | H33: 39.213159 | I33: 37.617909 | J33: 36.517115 | K33: 38.99818 | L33: 40.171383 | M33: 40.656967 | N33: 41.684676
B34: 25 y más | C34: 71.143414 | D34: 68.98211 | E34: 67.922974 | F34: 67.183983 | G34: 67.054968 | H34: 67.444178 | I34: 68.087938 | J34: 68.964085 | K34: 71.857065 | L34: 73.080471 | M34: 73.263535 | N34: 74.191916
B35: El Salvador g/ | C35: 58.148016 | D35: 59.018584 | E35: 58.162944 | F35: 58.108859 | G35: 58.553493 | H35: 59.399643 | I35: 59.877835 | J35: 58.397442 | K35: 57.769792 | L35: 57.891678 | M35: … | N35: …
B36: 15 - 24 | C36: 44.197359 | D36: 45.665062 | E36: 43.398122 | F36: 42.645726 | G36: 40.669912 | H36: 44.035119 | I36: 43.404231 | J36: 41.724548 | K36: 39.424656 | L36: 41.668581 | M36: … | N36: …
B37: 25 y más | C37: 62.97109 | D37: 63.830793 | E37: 63.502595 | F37: 63.818204 | G37: 64.148259 | H37: 65.008144 | I37: 65.950337 | J37: 64.415801 | K37: 63.440396 | L37: 63.527857 | M37: … | N37: …
B38: Guatemala h/ | C38: … | D38: … | E38: … | F38: 60.191378 | G38: 59.206776 | H38: 63.542446 | I38: 58.734685 | J38: 59.115061 | K38: 59.155098 | L38: 59.168157 | M38: 59.600747 | N38: 59.023479
B39: 15 - 24 | C39: … | D39: … | E39: … | F39: 49.99528 | G39: 49.447465 | H39: 55.426758 | I39: 47.378857 | J39: 48.635181 | K39: 49.367289 | L39: 49.574813 | M39: 49.681126 | N39: 48.624646
B40: 25 y más | C40: … | D40: … | E40: … | F40: 65.191499 | G40: 64.329312 | H40: 67.428355 | I40: 64.298601 | J40: 64.153581 | K40: 63.951835 | L40: 63.758618 | M40: 64.4918 | N40: 63.734931
B41: Honduras i/ | C41: 48.820497 | D41: 49.699926 | E41: 51.484381 | F41: 51.512983 | G41: 49.659268 | H41: 48.945297 | I41: 51.575737 | J41: 53.073101 | K41: 53.809711 | L41: 53.249145 | M41: 53.249145 | N41: 55.071601
B42: 15 - 24 | C42: 45.65435 | D42: 46.734763 | E42: 47.453308 | F42: 47.615724 | G42: 45.89308 | H42: 44.763885 | I42: 47.916048 | J42: 47.411775 | K42: 48.569449 | L42: 46.653001 | M42: 46.653001 | N42: 49.040992
B43: 25 y más | C43: 63.028884 | D43: 64.18446 | E43: 65.678638 | F43: 65.530374 | G43: 63.242117 | H43: 62.064578 | I43: 64.471499 | J43: 65.547047 | K43: 65.818194 | L43: 64.936917 | M43: 64.936917 | N43: 66.198802
...

Sheet C8N
A1: regresar al índice
B2: CUADRO 8
B3: AMÉRICA LATINA: POBLACIÓN OCUPADA NACIONAL POR CATEGORÍA OCUPACIONAL SEGÚN AÑOS DE ESTUDIO. 2005, 2011 Y 2013-2015
B4: (porcentajes)
B6: Año y años de estudio | D6: TOTAL | E6: Categoría Ocupacional
E7: Asalariado | H7: No Asalariado | K7: Trabajo doméstico | L7: Trabajadores familiares auxiliares | M7: Otros
E8: Total | F8: Público | G8: Privado | H8: Total | I8: Empleadores | J8: Cuenta propia
B9: 2005 | C9: Total | D9: =SUM(D10:D13) -> 100 | E9: =SUM(E10:E13) -> 100 | F9: =SUM(F10:F13) -> 100 | G9: =SUM(G10:G13) -> 100 | H9: =SUM(H10:H13) -> 100 | I9: =SUM(I10:I13) -> 100 | J9: =SUM(J10:J13) -> 100 | K9: =SUM(K10:K13) -> 100 | ... M9: =SUM(M10:M13) -> 100
C10: Sin instrucción | D10: =#REF!/SUM(D$10:D$13)*100 -> 8.1661618 | E10: =#REF!/SUM(E$10:E$13)*100 -> 4.4392473 | F10: =#REF!/SUM(F$10:F$13)*100 -> 1.9199721 | G10: =#REF!/SUM(G$10:G$13)*100 -> 5.0470372 | H10: =#REF!/SUM(H$10:H$13)*100 -> 13.428503 | I10: =#REF!/SUM(I$10:I$13)*100 -> 4.5512621 | J10: =#REF!/SUM(J$10:J$13)*100 -> 14.906772 | K10: =#REF!/SUM(K$10:K$13)*100 -> 9.6627098 | ... M10: =#REF!/SUM(M$10:M$13)*100 -> 12.508535
C11: 1 a 6 | D11: =#REF!/SUM(D$10:D$13)*100 -> 32.246297 | E11: =#REF!/SUM(E$10:E$13)*100 -> 23.250841 | F11: =#REF!/SUM(F$10:F$13)*100 -> 10.067755 | G11: =#REF!/SUM(G$10:G$13)*100 -> 26.431337 | H11: =#REF!/SUM(H$10:H$13)*100 -> 41.212137 | I11: =#REF!/SUM(I$10:I$13)*100 -> 26.539922 | J11: =#REF!/SUM(J$10:J$13)*100 -> 43.655405 | K11: =#REF!/SUM(K$10:K$13)*100 -> 47.992767 | ... M11: =#REF!/SUM(M$10:M$13)*100 -> 31.742022
C12: 7 a 12 | D12: =#REF!/SUM(D$10:D$13)*100 -> 44.270393 | E12: =#REF!/SUM(E$10:E$13)*100 -> 51.362508 | F12: =#REF!/SUM(F$10:F$13)*100 -> 42.78749 | G12: =#REF!/SUM(G$10:G$13)*100 -> 53.431281 | H12: =#REF!/SUM(H$10:H$13)*100 -> 34.4649 | I12: =#REF!/SUM(I$10:I$13)*100 -> 41.631119 | J12: =#REF!/SUM(J$10:J$13)*100 -> 33.271557 | K12: =#REF!/SUM(K$10:K$13)*100 -> 41.105793 | ... M12: =#REF!/SUM(M$10:M$13)*100 -> 47.983403
C13: 13 y más | D13: =#REF!/SUM(D$10:D$13)*100 -> 15.317149 | E13: =#REF!/SUM(E$10:E$13)*100 -> 20.947405 | F13: =#REF!/SUM(F$10:F$13)*100 -> 45.224783 | G13: =#REF!/SUM(G$10:G$13)*100 -> 15.090345 | H13: =#REF!/SUM(H$10:H$13)*100 -> 10.89446 | I13: =#REF!/SUM(I$10:I$13)*100 -> 27.277696 | J13: =#REF!/SUM(J$10:J$13)*100 -> 8.1662671 | K13: =#REF!/SUM(K$10:K$13)*100 -> 1.2387296 | ... M13: =#REF!/SUM(M$10:M$13)*100 -> 7.7660394
B14: 2011 | C14: Total | D14: =SUM(D15:D18) -> 100 | E14: =SUM(E15:E18) -> 100 | F14: =SUM(F15:F18) -> 100 | G14: =SUM(G15:G18) -> 100 | H14: =SUM(H15:H18) -> 100 | I14: =SUM(I15:I18) -> 100 | J14: =SUM(J15:J18) -> 100 | K14: =SUM(K15:K18) -> 100 | ... M14: =SUM(M15:M18) -> 100
C15: Sin instrucción | D15: =#REF!/SUM(D$15:D$18)*100 -> 7.0411733 | E15: =#REF!/SUM(E$15:E$18)*100 -> 4.0134025 | F15: =#REF!/SUM(F$15:F$18)*100 -> 1.5578242 | G15: =#REF!/SUM(G$15:G$18)*100 -> 4.6075287 | H15: =#REF!/SUM(H$15:H$18)*100 -> 11.878524 | I15: =#REF!/SUM(I$15:I$18)*100 -> 3.5698368 | J15: =#REF!/SUM(J$15:J$18)*100 -> 13.154681 | K15: =#REF!/SUM(K$15:K$18)*100 -> 10.287495 | ... M15: =#REF!/SUM(M$15:M$18)*100 -> 4.0679498
C16: 1 a 6 | D16: =#REF!/SUM(D$15:D$18)*100 -> 24.91713 | E16: =#REF!/SUM(E$15:E$18)*100 -> 17.279925 | F16: =#REF!/SUM(F$15:F$18)*100 -> 6.3019418 | G16: =#REF!/SUM(G$15:G$18)*100 -> 19.936044 | H16: =#REF!/SUM(H$15:H$18)*100 -> 34.727766 | I16: =#REF!/SUM(I$15:I$18)*100 -> 21.309944 | J16: =#REF!/SUM(J$15:J$18)*100 -> 36.788651 | K16: =#REF!/SUM(K$15:K$18)*100 -> 38.247796 | ... M16: =#REF!/SUM(M$15:M$18)*100 -> 40.697007
C17: 7 a 12 | D17: =#REF!/SUM(D$15:D$18)*100 -> 48.829056 | E17: =#REF!/SUM(E$15:E$18)*100 -> 53.597916 | F17: =#REF!/SUM(F$15:F$18)*100 -> 39.919733 | G17: =#REF!/SUM(G$15:G$18)*100 -> 56.907346 | H17: =#REF!/SUM(H$15:H$18)*100 -> 40.327732 | I17: =#REF!/SUM(I$15:I$18)*100 -> 44.584869 | J17: =#REF!/SUM(J$15:J$18)*100 -> 39.673865 | K17: =#REF!/SUM(K$15:K$18)*100 -> 49.03105 | ... M17: =#REF!/SUM(M$15:M$18)*100 -> 41.247468
C18: 13 y más | D18: =#REF!/SUM(D$15:D$18)*100 -> 19.212641 | E18: =#REF!/SUM(E$15:E$18)*100 -> 25.108756 | F18: =#REF!/SUM(F$15:F$18)*100 -> 52.220501 | G18: =#REF!/SUM(G$15:G$18)*100 -> 18.549081 | H18: =#REF!/SUM(H$15:H$18)*100 -> 13.065978 | I18: =#REF!/SUM(I$15:I$18)*100 -> 30.535349 | J18: =#REF!/SUM(J$15:J$18)*100 -> 10.382803 | K18: =#REF!/SUM(K$15:K$18)*100 -> 2.4336594 | ... M18: =#REF!/SUM(M$15:M$18)*100 -> 13.987575
B19: 2013 | C19: Total | D19: =SUM(D20:D23) -> 100 | E19: =SUM(E20:E23) -> 100 | F19: =SUM(F20:F23) -> 100 | G19: =SUM(G20:G23) -> 100 | H19: =SUM(H20:H23) -> 100 | I19: =SUM(I20:I23) -> 100 | J19: =SUM(J20:J23) -> 100 | K19: =SUM(K20:K23) -> 100 | ... M19: =SUM(M20:M23) -> 100
C20: Sin instrucción | D20: =#REF!/SUM(D$20:D$23)*100 -> 5.8396526 | E20: =#REF!/SUM(E$20:E$23)*100 -> 3.1603089 | F20: =#REF!/SUM(F$20:F$23)*100 -> 1.062127 | G20: =#REF!/SUM(G$20:G$23)*100 -> 3.6575367 | H20: =#REF!/SUM(H$20:H$23)*100 -> 10.340829 | I20: =#REF!/SUM(I$20:I$23)*100 -> 2.9228953 | J20: =#REF!/SUM(J$20:J$23)*100 -> 11.487997 | K20: =#REF!/SUM(K$20:K$23)*100 -> 7.917775 | ... M20: =#REF!/SUM(M$20:M$23)*100 -> 0.18653154
C21: 1 a 6 | D21: =#REF!/SUM(D$20:D$23)*100 -> 24.187191 | E21: =#REF!/SUM(E$20:E$23)*100 -> 16.476167 | F21: =#REF!/SUM(F$20:F$23)*100 -> 6.0476927 | G21: =#REF!/SUM(G$20:G$23)*100 -> 18.94751 | H21: =#REF!/SUM(H$20:H$23)*100 -> 34.877599 | I21: =#REF!/SUM(I$20:I$23)*100 -> 20.379638 | J21: =#REF!/SUM(J$20:J$23)*100 -> 37.119678 | K21: =#REF!/SUM(K$20:K$23)*100 -> 38.751574 | ... M21: =#REF!/SUM(M$20:M$23)*100 -> 21.205032
C22: 7 a 12 | D22: =#REF!/SUM(D$20:D$23)*100 -> 49.417184 | E22: =#REF!/SUM(E$20:E$23)*100 -> 53.763535 | F22: =#REF!/SUM(F$20:F$23)*100 -> 38.16044 | G22: =#REF!/SUM(G$20:G$23)*100 -> 57.461162 | H22: =#REF!/SUM(H$20:H$23)*100 -> 41.102136 | I22: =#REF!/SUM(I$20:I$23)*100 -> 44.842935 | J22: =#REF!/SUM(J$20:J$23)*100 -> 40.523629 | K22: =#REF!/SUM(K$20:K$23)*100 -> 50.389681 | ... M22: =#REF!/SUM(M$20:M$23)*100 -> 62.955518
C23: 13 y más | D23: =#REF!/SUM(D$20:D$23)*100 -> 20.555972 | E23: =#REF!/SUM(E$20:E$23)*100 -> 26.599989 | F23: =#REF!/SUM(F$20:F$23)*100 -> 54.72974 | G23: =#REF!/SUM(G$20:G$23)*100 -> 19.933792 | H23: =#REF!/SUM(H$20:H$23)*100 -> 13.679437 | I23: =#REF!/SUM(I$20:I$23)*100 -> 31.854532 | J23: =#REF!/SUM(J$20:J$23)*100 -> 10.868696 | K23: =#REF!/SUM(K$20:K$23)*100 -> 2.9409696 | ... M23: =#REF!/SUM(M$20:M$23)*100 -> 15.652918
B24: 2014 | C24: Total | D24: =SUM(D25:D28) -> 100 | E24: =SUM(E25:E28) -> 100 | F24: =SUM(F25:F28) -> 100 | G24: =SUM(G25:G28) -> 100 | H24: =SUM(H25:H28) -> 100 | I24: =SUM(I25:I28) -> 100 | J24: =SUM(J25:J28) -> 100 | K24: =SUM(K25:K28) -> 100 | ... M24: =SUM(M25:M28) -> 100
C25: Sin instrucción | D25: =#REF!/SUM(D$25:D$28)*100 -> 5.4481169 | E25: =#REF!/SUM(E$25:E$28)*100 -> 2.8527584 | F25: =#REF!/SUM(F$25:F$28)*100 -> 0.98969098 | G25: =#REF!/SUM(G$25:G$28)*100 -> 3.2882999 | H25: =#REF!/SUM(H$25:H$28)*100 -> 9.7541441 | I25: =#REF!/SUM(I$25:I$28)*100 -> 3.0343259 | J25: =#REF!/SUM(J$25:J$28)*100 -> 10.778504 | K25: =#REF!/SUM(K$25:K$28)*100 -> 7.6996423 | ... M25: =#REF!/SUM(M$25:M$28)*100 -> 2.0999661
C26: 1 a 6 | D26: =#REF!/SUM(D$25:D$28)*100 -> 24.176936 | E26: =#REF!/SUM(E$25:E$28)*100 -> 16.54821 | F26: =#REF!/SUM(F$25:F$28)*100 -> 5.946366 | G26: =#REF!/SUM(G$25:G$28)*100 -> 19.026673 | H26: =#REF!/SUM(H$25:H$28)*100 -> 34.667357 | I26: =#REF!/SUM(I$25:I$28)*100 -> 20.900136 | J26: =#REF!/SUM(J$25:J$28)*100 -> 36.766014 | K26: =#REF!/SUM(K$25:K$28)*100 -> 38.831745 | ... M26: =#REF!/SUM(M$25:M$28)*100 -> 38.776824
C27: 7 a 12 | D27: =#REF!/SUM(D$25:D$28)*100 -> 49.838329 | E27: =#REF!/SUM(E$25:E$28)*100 -> 54.002265 | F27: =#REF!/SUM(F$25:F$28)*100 -> 37.699111 | G27: =#REF!/SUM(G$25:G$28)*100 -> 57.81356 | H27: =#REF!/SUM(H$25:H$28)*100 -> 41.823999 | I27: =#REF!/SUM(I$25:I$28)*100 -> 44.996985 | J27: =#REF!/SUM(J$25:J$28)*100 -> 41.340313 | K27: =#REF!/SUM(K$25:K$28)*100 -> 50.6556 | ... M27: =#REF!/SUM(M$25:M$28)*100 -> 47.205901
C28: 13 y más | D28: =#REF!/SUM(D$25:D$28)*100 -> 20.536617 | E28: =#REF!/SUM(E$25:E$28)*100 -> 26.596767 | F28: =#REF!/SUM(F$25:F$28)*100 -> 55.364832 | G28: =#REF!/SUM(G$25:G$28)*100 -> 19.871467 | H28: =#REF!/SUM(H$25:H$28)*100 -> 13.7545 | I28: =#REF!/SUM(I$25:I$28)*100 -> 31.068553 | J28: =#REF!/SUM(J$25:J$28)*100 -> 11.115169 | K28: =#REF!/SUM(K$25:K$28)*100 -> 2.8130128 | ... M28: =#REF!/SUM(M$25:M$28)*100 -> 11.917309
B29: 2015 | C29: Total | D29: =SUM(D30:D33) -> 100 | E29: =SUM(E30:E33) -> 100 | F29: =SUM(F30:F33) -> 100 | G29: =SUM(G30:G33) -> 100 | H29: =SUM(H30:H33) -> 100 | I29: =SUM(I30:I33) -> 100 | J29: =SUM(J30:J33) -> 100 | K29: =SUM(K30:K33) -> 100 | ... M29: =SUM(M30:M33) -> 100
C30: Sin instrucción | D30: =#REF!/SUM(D$30:D$33)*100 -> 5.0461307 | E30: =#REF!/SUM(E$30:E$33)*100 -> 2.7022976 | F30: =#REF!/SUM(F$30:F$33)*100 -> 0.85344841 | G30: =#REF!/SUM(G$30:G$33)*100 -> 3.1384053 | H30: =#REF!/SUM(H$30:H$33)*100 -> 8.8711399 | I30: =#REF!/SUM(I$30:I$33)*100 -> 2.3967306 | J30: =#REF!/SUM(J$30:J$33)*100 -> 9.8103057 | K30: =#REF!/SUM(K$30:K$33)*100 -> 7.0978853 | ... M30: =#REF!/SUM(M$30:M$33)*100 -> 0.080372546
