Workbook

Sheet Índice
B2: Panorama Laboral 2017. América Latina y el Caribe
B4: Anexo Estadístico Nacional
B5: Índice
B6: Cuadro | C6: Título
B7: Cuadro 1 | C7: ='C1N'!B3 -> AMÉRICA LATINA Y EL CARIBE: TASA DE DESOCUPACIÓN NACIONAL SEGÚN PAÍS. 2007 - 2017
B8: Cuadro 2 | C8: ='C2N'!B3 -> AMÉRICA LATINA Y EL CARIBE: TASA DE DESOCUPACIÓN NACIONAL SEGÚN PAÍS Y SEXO. 2007 - 2017
B9: Cuadro 3 | C9: ='C3N'!B3 -> AMÉRICA LATINA Y EL CARIBE: TASA DE DESOCUPACIÓN NACIONAL SEGÚN PAÍS Y TRAMO DE EDAD. 2007 - 2017
B10: Cuadro 4 | C10: ='C4N'!B3 -> AMÉRICA LATINA Y EL CARIBE: TASA DE PARTICIPACIÓN NACIONAL SEGÚN PAÍS Y SEXO. 2007 - 2017.
B11: Cuadro 5 | C11: ='C5N'!B3 -> AMÉRICA LATINA Y EL CARIBE: TASA DE PARTICIPACIÓN NACIONAL SEGÚN PAÍS Y TRAMO DE EDAD. 2007 - 2017.
B12: Cuadro 6 | C12: ='C6N'!B3 -> AMÉRICA LATINA Y EL CARIBE: TASA DE OCUPACIÓN NACIONAL SEGÚN PAÍS Y SEXO. 2007 - 2017
B13: Cuadro 7 | C13: ='C7N'!B3 -> AMÉRICA LATINA Y EL CARIBE: TASA DE OCUPACIÓN NACIONAL SEGUN PAÍS Y TRAMO DE EDAD. 2007 - 2017
B14: Cuadro 8 | C14: ='C8N'!B3 -> AMÉRICA LATINA: POBLACIÓN OCUPADA NACIONAL POR CATEGORÍA OCUPACIONAL SEGÚN AÑOS DE ESTUDIO. 2005, 2011 Y 2013-2015
B15: Cuadro 9 | C15: ='C9N'!B3 -> AMÉRICA LATINA: ÍNDICE DE REMUNERACIONES MEDIAS REALES EN EL SECTOR FORMAL. 2007 - 2017
B16: Cuadro 10 | C16: ='C10N'!B3 -> AMÉRICA LATINA: INDICE DE SALARIOS MÍNIMOS REALES. 2007 - 2017
B18: Anexo Estadístico Urbano
B19: Índice
B20: Cuadro | C20: Título
B21: Cuadro 1 | C21: AMÉRICA LATINA Y EL CARIBE: TASA DE DESOCUPACIÓN URBANA SEGÚN PAÍS. 2007 - 2017
B22: Cuadro 2 | C22: AMÉRICA LATINA Y EL CARIBE: TASA DE DESOCUPACIÓN URBANA SEGÚN PAÍS Y SEXO. 2007 - 2017
B23: Cuadro 3 | C23: AMÉRICA LATINA Y EL CARIBE: TASA DE DESOCUPACIÓN URBANA SEGÚN PAÍS Y TRAMO DE EDAD. 2007 - 2017
B24: Cuadro 4 | C24: AMÉRICA LATINA Y EL CARIBE: TASA DE PARTICIPACIÓN URBANA SEGÚN PAÍS Y SEXO. 2007 - 2017
B25: Cuadro 5 | C25: AMÉRICA LATINA Y EL CARIBE: TASA DE PARTICIPACIÓN URBANA SEGÚN PAÍS Y TRAMO DE EDAD. 2007 - 2017
B26: Cuadro 6 | C26: AMÉRICA LATINA Y EL CARIBE: TASA DE OCUPACIÓN URBANA SEGÚN PAÍS Y SEXO. 2007 - 2017
B27: Cuadro 7 | C27: AMÉRICA LATINA Y EL CARIBE: TASA DE OCUPACIÓN URBANA SEGÚN PAÍS Y TRAMO DE EDAD. 2007 - 2017
B28: Cuadro 8 | C28: AMÉRICA LATINA. POBLACIÓN OCUPADA URBANA POR CATEGORÍA OCUPACIONAL SEGÚN PAÍS Y SEXO. 2011 - 2016
B29: Cuadro 9 | C29: AMÉRICA LATINA. POBLACIÓN OCUPADA URBANA POR RAMA DE ACTIVIDAD ECONÓMICA SEGÚN PAÍS Y SEXO. 2011 - 2016

Sheet C1N
A1: regresar al índice
B2: CUADRO 1
B3: AMÉRICA LATINA Y EL CARIBE: TASA DE DESOCUPACIÓN NACIONAL SEGÚN PAÍS. 2007 - 2017
B4: (tasas anuales medias)
B6: País | C6: 2007 | D6: 2008 | E6: 2009 | F6: 2010 | G6: 2011 | H6: 2012 | I6: 2013 | J6: 2014 | K6: 2015 | L6: 2016 | M6: 2016 | N6: 2017
M8: Promedio al III Trimestre
B10: América Latina
B11: Argentina a/ | C11: … | D11: … | E11: … | F11: … | G11: … | H11: … | I11: … | J11: … | K11: … | L11: 8.4666667 | M11: 9.3 | N11: 8.7
B12: Bolivia (Estado Plur. de) | C12: 5.175338 | D12: 2.8433499 | E12: 3.3193117 | F12: … | G12: 2.6506002 | H12: 2.31137 | I12: 2.8546782 | J12: 2.3406219 | K12: 3.5129571 | L12: 3.36 | M12: … | N12: …
B13: Brasil b/ | C13: 8.1536786 | D13: 7.1413091 | E13: 8.328496 | F13: … | G13: 6.7164767 | H13: 7.3496642 | I13: 7.1301585 | J13: 6.8213718 | K13: 8.5229792 | L13: 11.512998 | M13: 11.339893 | N13: 13.060138
B14: Chile c/ | C14: 7.1356483 | D14: 7.7963869 | E14: 9.6885261 | F14: 8.1529122 | G14: 7.1194985 | H14: 6.4323611 | I14: 5.9323776 | J14: 6.3914035 | K14: 6.2137239 | L14: 6.4900125 | M14: 6.6304453 | N14: 6.7777702
B15: Colombia d/ | C15: 11.191421 | D15: 11.268781 | E15: 12.016504 | F15: 11.774364 | G15: 10.827911 | H15: 10.374884 | I15: 9.644814 | J15: 9.1079401 | K15: 8.9292363 | L15: 9.2232072 | M15: 9.5705587 | N15: 9.6637688
B16: Costa Rica e/ | C16: 4.5972046 | D16: 4.9477742 | E16: 7.8221934 | F16: 8.9150892 | G16: 10.298476 | H16: 10.171754 | I16: 9.3861626 | J16: 9.6173851 | K16: 9.6130075 | L16: 9.5382673 | M16: 9.5368931 | N16: 8.9980045
B17: Cuba | C17: 1.8 | D17: 1.5851548 | E17: 1.6690899 | F17: 2.5036675 | G17: 3.175186 | H17: 3.4600918 | I17: 3.2874558 | J17: 2.6579179 | K17: 2.3897982 | L17: 2.0293628 | M17: … | N17: …
B18: Ecuador f/ | C18: 4.9983546 | D18: 5.951463 | E18: 6.47131 | F18: 5.6176433 | G18: 4.6134263 | H18: 4.1169369 | I18: 4.0328713 | J18: 4.2961808 | K18: 4.3406718 | L18: 5.362265 | M18: 5.4121523 | N18: 4.3423471
B19: El Salvador g/ | C19: 6.3328918 | D19: 5.8839509 | E19: 7.3319912 | F19: 7.0459686 | G19: 6.6167815 | H19: 6.0717041 | I19: 5.9262882 | J19: 6.9966658 | K19: 7.00615 | L19: 7.1166676 | M19: … | N19: …
B20: Guatemala h/ | C20: … | D20: … | E20: … | F20: 3.74 | G20: 4.1261884 | H20: 2.87 | I20: 3.095 | J20: 2.9 | K20: 2.5721019 | L20: 2.6518147 | M20: 3.0840044 | N20: 3.1911188
B21: Honduras i/ | C21: 3.0541287 | D21: 3.0501938 | E21: 3.1294516 | F21: 3.9476972 | G21: 4.2666724 | H21: 3.59056 | I21: 3.9056026 | J21: 5.3128008 | K21: 7.3302633 | L21: 7.3779493 | M21: 7.3779493 | N21: 6.6812682
B22: México | C22: 3.6465571 | D22: 3.9037043 | E22: 5.3741839 | F22: 5.328623 | G22: 5.195428 | H22: 4.9225762 | I22: 4.9431565 | J22: 4.8312132 | K22: 4.3356482 | L22: 3.8853244 | M22: 4.0014849 | N22: 3.4682448
B23: Nicaragua j/ | C23: 5.9 | D23: 6.1 | E23: 7.875 | F23: 7.85 | G23: 5.2711487 | H23: 5.925 | I23: 5.75 | J23: 6.575 | K23: … | L23: … | M23: … | N23: …
B24: Panamá k/ | C24: 6.3716175 | D24: 5.5785461 | E24: 6.557023 | F24: 6.5158598 | G24: 4.4814326 | H24: 4.0457155 | I24: 4.0984138 | J24: 4.8226935 | K24: 5.0522668 | L24: 5.4942879 | M24: 5.6188783 | N24: 5.5536253
B25: Paraguay l/ | C25: 5.5121644 | D25: 5.6516501 | E25: 6.3434511 | F25: 5.6707908 | G25: 5.5492539 | H25: 4.5726782 | I25: 5.0208445 | J25: 6.0381127 | K25: 5.3512201 | L25: 5.9984394 | M25: 8.25 | N25: 8.65
B26: Perú m/ | C26: 4.7381631 | D26: 4.611712 | E26: 4.4701368 | F26: 4.1043283 | G26: 4.0238265 | H26: 3.7209411 | I26: 3.9514586 | J26: 3.6562464 | K26: 3.5106571 | L26: 4.1799782 | M26: 4.5420136 | N26: 4.4666667
B27: República Dominicana n/ | C27: 5.0073414 | D27: 4.6540422 | E27: 5.3132012 | F27: 5.0008137 | G27: 5.7845932 | H27: 6.4869097 | I27: 7.0387965 | J27: 6.3854453 | K27: 7.3260527 | L27: 7.0772537 | M27: 7.3224299 | N27: 5.6450787
B28: Uruguay | C28: 9.3753262 | D28: 8.0070114 | E28: 7.7350182 | F28: 7.1577604 | G28: 6.3182786 | H28: 6.4640763 | I28: 6.4543941 | J28: 6.5506278 | K28: 7.4944488 | L28: 7.8468711 | M28: 7.9728527 | N28: 8.0989527
B29: Venezuela (Rep. Bol. de) o/ | C29: 8.4449249 | D29: 7.3323456 | E29: 7.854541 | F29: 8.6919167 | G29: 8.2917364 | H29: 8.0675772 | I29: 7.7832508 | J29: 7.2557522 | K29: 7.036513 | L29: 7.3338282 | M29: … | N29: …
B30: El Caribe
B31: Bahamas p/ | C31: 7.9 | D31: 8.7 | E31: 15.332573 | F31: … | G31: 15.9 | H31: 14.366007 | I31: 15.8 | J31: 14.635834 | K31: 13.383125 | L31: 12.747823 | M31: 12.747823 | N31: 9.8543022
B32: Barbados q/ | C32: 7.425 | D32: 8.1 | E32: 9.975 | F32: 10.7 | G32: 11.2 | H32: 11.6 | I32: 11.6 | J32: 12.28903 | K32: 11.3 | L32: 9.65 | M32: 9.7 | N32: 10.4
B33: Belice r/ | C33: 10.328711 | D33: 8.2 | E33: 13.1 | F33: 12.5 | G33: … | H33: 15.3 | I33: 14.290122 | J33: 11.569805 | K33: 10.143128 | L33: 9.5314723 | M33: 7.9737923 | N33: 8.9871373
B34: Jamaica d/ | C34: 9.8669997 | D34: 10.569907 | E34: 11.365074 | F34: 12.377241 | G34: 12.682914 | H34: 13.929766 | I34: 15.243855 | J34: 13.739191 | K34: 13.509815 | L34: 13.189153 | M34: 13.287 | N34: 12.054906
B35: Trinidad y Tabago s/ | C35: 5.55 | D35: 4.625 | E35: 5.25 | F35: 5.925 | G35: 5.0666667 | H35: 4.95 | I35: 3.675 | J35: 3.3 | K35: 3.425 | L35: 3.95 | M35: 3.8 | N35: 4.5
B36: América Latina y el Caribe t/ | C36: 6.7406626 | D36: 6.3100919 | E36: 7.3182848 | F36: 6.8898803 | G36: 6.3777278 | H36: 6.4552441 | I36: 6.3077018 | J36: 6.1337021 | K36: 6.6271653 | L36: 7.8723668 | M36: 8.2384187 | N36: 8.7161252
B38: Fuente: OIT con la base de información de las encuestas de hogares de los países.
B40: a/ 31 aglomerados urbanos. El INDEC, en el marco de la emergencia estadística declarada, recomienda desestimar las series publicadas entre el 2007 y 2015 para fines de comparación y análisis del mercado de trabajo en la República Argentina. El dato anual 2016 es el promedio del II, III y IV trimestre y los datos al III trimestre del 2016 y 2017 corresponde al II trimestre respectivamente.
B42: b/ A partir del 2012 datos con base en PNADC serie no comparable con años anteriores.
B43: c/ Nueva medición a partir del 2010, datos no comparables con años anteriores.
B44: d/ Incluye la desocupación oculta.
B45: e/ Datos del 2007-09 corresponden a EHPM levantadas en julio de cada año. A partir del 2010 dato de la ECE, no comparable con años anteriores (el dato del 2010 es el promedio del III y IV trimestre)
B46: f/ A partir del 2007 cambia la edad de la PET de 10 a 15 años, no comparable con años anteriores. Incluye la desocupación oculta.
B47: g/ A partir del 2007 cambia la edad de la PET de 10 a 16 años, no comparable con años anteriores.
B48: h/ El dato al III trimestre del 2016 y 2017 corresponden al levantamiento de febrero - marzo.
B49: i/ Dato al III trimestre de 2016 y 2017 corresponde a junio.
B50: j/ Nueva medición (ECH) a partir del 2009. Datos no comparables con años anteriores
B51: k/ Incluye desocupación oculta. El dato al III trimestre del 2016 y 2017 corresponden al dato de marzo.
... B60: t/ Promedio ponderado. Excluye la desocupación oculta de Colombia, Ecuador, Jamaica y Panamá

Sheet C2N
A1: regresar al índice
B2: CUADRO 2
B3: AMÉRICA LATINA Y EL CARIBE: TASA DE DESOCUPACIÓN NACIONAL SEGÚN PAÍS Y SEXO. 2007 - 2017
B4: (tasas anuales medias)
B6: País | C6: 2007 | D6: 2008 | E6: 2009 | F6: 2010 | G6: 2011 | H6: 2012 | I6: 2013 | J6: 2014 | K6: 2015 | L6: 2016 | M6: 2016 | N6: 2017
M8: Promedio al III Trimestre
B10: América Latina
B11: Argentina a/ | C11: … | D11: … | E11: … | F11: … | G11: … | H11: … | I11: … | J11: … | K11: … | L11: 8.4666667 | M11: 9.3 | N11: 8.7
B12: Hombre | C12: … | D12: … | E12: … | F12: … | G12: … | H12: … | I12: … | J12: … | K12: … | L12: 7.8 | M12: 8.5 | N12: 8.2
B13: Mujer | C13: … | D13: … | E13: … | F13: … | G13: … | H13: … | I13: … | J13: … | K13: … | L13: 9.3666667 | M13: 10.5 | N13: 9.5
B14: Bolivia (Estado Plur. de) | C14: 5.175338 | D14: 2.8433499 | E14: 3.3193117 | F14: … | G14: 2.6506002 | H14: 2.31137 | I14: 2.8546782 | J14: 2.3406219 | K14: 3.5129571 | L14: 3.36 | M14: … | N14: …
B15: Hombre | C15: 4.5342094 | D15: 2.1081835 | E15: 2.5192083 | F15: … | G15: 2.2236817 | H15: 1.6374931 | I15: 2.2659146 | J15: 1.7095979 | K15: 2.9896677 | L15: 2.56 | M15: … | N15: …
B16: Mujer | C16: 5.952093 | D16: 3.7174093 | E16: 4.2909637 | F16: … | G16: 3.2144043 | H16: 3.1242002 | I16: 3.5495121 | J16: 3.1039989 | K16: 4.2352943 | L16: 4.35 | M16: … | N16: …
B17: Brasil b/ | C17: 8.1536786 | D17: 7.1413091 | E17: 8.328496 | F17: … | G17: 6.7145891 | H17: 7.3496642 | I17: 7.1301585 | J17: 6.8213718 | K17: 8.5229792 | L17: 11.512998 | M17: 11.339893 | N17: 13.060138
B18: Hombre | C18: 6.0818375 | D18: 5.2128582 | E18: 6.1948047 | F18: … | G18: 4.8759988 | H18: 5.9543211 | I18: 5.7936486 | J18: 5.7292249 | K18: 7.2974259 | L18: 10.120468 | M18: 9.9379343 | N18: 11.551849
B19: Mujer | C19: 10.834337 | D19: 9.6359093 | E19: 11.053692 | F19: … | G19: 9.1244515 | H19: 9.1762583 | I19: 8.8796225 | J19: 8.2438612 | K19: 10.103796 | L19: 13.306488 | M19: 13.150629 | N19: 14.956976
B20: Chile c/ | C20: 7.1356483 | D20: 7.7963869 | E20: 9.6885261 | F20: 8.1529122 | G20: 7.1194985 | H20: 6.4323611 | I20: 5.9323776 | J20: 6.3914035 | K20: 6.2137239 | L20: 6.4900125 | M20: 6.6304453 | N20: 6.7777702
B21: Hombre | C21: 6.295161 | D21: 6.7832428 | E21: 9.0895404 | F21: 7.1800645 | G21: 6.0771069 | H21: 5.4259393 | I21: 5.2788894 | J21: 6.0404363 | K21: 5.7798256 | L21: 6.1230639 | M21: 6.2157428 | N21: 6.3915133
B22: Mujer | C22: 8.6128555 | D22: 9.5109821 | E22: 10.681354 | F22: 9.646628 | G22: 8.6637779 | H22: 7.9003894 | I22: 6.8826329 | J22: 6.8929353 | K22: 6.8395629 | L22: 7.0192344 | M22: 7.2301329 | N22: 7.3343623
B23: Colombia d/ | C23: 11.191421 | D23: 11.268781 | E23: 12.016504 | F23: 11.774364 | G23: 10.827911 | H23: 10.374884 | I23: 9.644814 | J23: 9.1079401 | K23: 8.9292363 | L23: 9.2232072 | M23: 9.5705587 | N23: 9.6637688
B24: Hombre | C24: 8.7362363 | D24: 8.8707678 | E24: 9.341961 | F24: 8.9642849 | G24: 8.1918617 | H24: 7.8493869 | I24: 7.3607566 | J24: 6.9806873 | K24: 6.7406675 | L24: 7.086384 | M24: 7.365115 | N24: 7.3593304
B25: Mujer | C25: 14.815498 | D25: 14.753413 | E25: 15.806622 | F25: 15.642078 | G25: 14.429343 | H25: 13.735481 | I25: 12.68007 | J25: 11.930517 | K25: 11.805303 | L25: 12.03046 | M25: 12.470944 | N25: 12.697874
B26: Costa Rica e/ | C26: 4.5972046 | D26: 4.9477742 | E26: 7.8221934 | F26: 8.9150892 | G26: 10.298476 | H26: 10.171754 | I26: 9.3861626 | J26: 9.6173851 | K26: 9.6130075 | L26: 9.5382673 | M26: 9.5368931 | N26: 8.9980045
B27: Hombre | C27: 3.2673652 | D27: 4.1676215 | E27: 6.5690683 | F27: 7.6493639 | G27: 8.7064675 | H27: 8.8797609 | I27: 8.2502437 | J27: 8.1340045 | K27: 7.9771025 | L27: 7.9851912 | M27: 8.3479895 | N27: 7.5158898
B28: Mujer | C28: 6.8247209 | D28: 6.2366486 | E28: 9.8654631 | F28: 11.023824 | G28: 13.0062 | H28: 12.178798 | I28: 11.123098 | J28: 11.942799 | K28: 12.164845 | L28: 12.098753 | M28: 11.502924 | N28: 11.416901
B29: Cuba | C29: 1.8 | D29: 1.5851548 | E29: 1.6690899 | F29: 2.5036675 | G29: 3.175186 | H29: 3.4600918 | I29: 3.2874558 | J29: 2.6579179 | K29: 2.3897982 | L29: 2.0293628 | M29: … | N29: …
B30: Hombre | C30: 1.7 | D30: 1.3482713 | E30: 1.4693416 | F30: 2.3740187 | G30: 2.9725964 | H30: 3.3670034 | I30: 3.1322725 | J30: 2.392569 | K30: 2.2927973 | L30: 1.9397652 | M30: … | N30: …
B31: Mujer | C31: 1.9 | D31: 1.9709327 | E31: 1.9914868 | F31: 2.7133569 | G31: 3.5115681 | H31: 3.6197401 | I31: 3.5463225 | J31: 3.1025628 | K31: 2.5517315 | L31: 2.5517315 | M31: … | N31: …
B32: Ecuador f/ | C32: 4.9983546 | D32: 5.951463 | E32: 6.47131 | F32: 5.6176433 | G32: 4.6134263 | H32: 4.1169369 | I32: 4.0328713 | J32: 4.2961808 | K32: 4.3406718 | L32: 5.362265 | M32: 5.4121523 | N32: 4.3423471
B33: Hombre | C33: 3.8366063 | D33: 4.3492796 | E33: 5.1679257 | F33: 4.5357868 | G33: 3.8048327 | H33: 3.6288781 | I33: 3.4645606 | J33: 3.7069551 | K33: 3.5103379 | L33: 4.2865684 | M33: 4.2108569 | N33: 3.4075428
B34: Mujer | C34: 6.7132979 | D34: 8.3071334 | E34: 8.3920501 | F34: 7.218452 | G34: 5.8406018 | H34: 4.8517589 | I34: 4.896655 | J34: 5.2076993 | K34: 5.5321093 | L34: 6.8140779 | M34: 7.0238004 | N34: 5.5904662
B35: El Salvador g/ | C35: 6.3328918 | D35: 5.8839509 | E35: 7.3319912 | F35: 7.0459686 | G35: 6.6167815 | H35: 6.0717041 | I35: 5.9262882 | J35: 6.9966658 | K35: 7.00615 | L35: 7.1166676 | M35: … | N35: …
B36: Hombre | C36: 8.1741447 | D36: 7.4649077 | E36: 9.0258776 | F36: 8.410215 | G36: 8.1583502 | H36: 7.27868 | I36: 6.8458494 | J36: 8.5971317 | K36: 8.3994383 | L36: 8.1381147 | M36: … | N36: …
B37: Mujer | C37: 3.7486175 | D37: 3.6325529 | E37: 4.9335001 | F37: 5.1085155 | G37: 4.3619424 | H37: 4.3342719 | I37: 4.6545709 | J37: 4.7361901 | K37: 4.9683414 | L37: 5.3380395 | M37: … | N37: …
B38: Guatemala h/ | C38: … | D38: … | E38: … | F38: 3.74 | G38: 4.1261884 | H38: 2.87 | I38: 3.095 | J38: 2.9 | K38: 2.5721019 | L38: 2.6518147 | M38: 3.0840044 | N38: 3.1911188
B39: Hombre | C39: … | D39: … | E39: … | F39: 3.229349 | G39: 2.8585657 | H39: 2.4249689 | I39: 2.732617 | J39: 2.5865038 | K39: 2.0427778 | L39: 2.1982938 | M39: 2.5545636 | N39: 2.6148184
B40: Mujer | C40: … | D40: … | E40: … | F40: 4.0214571 | G40: 6.6215388 | H40: 3.6384252 | I40: 3.7404512 | J40: 3.5229861 | K40: 3.6177087 | L40: 3.497201 | M40: 4.0568632 | N40: 4.2381508
B41: Honduras i/ | C41: 3.0541287 | D41: 3.0501938 | E41: 3.1294516 | F41: 3.9476972 | G41: 4.2666724 | H41: 3.59056 | I41: 3.9056026 | J41: 5.3128008 | K41: 7.3302633 | L41: 7.3779493 | M41: 7.3779493 | N41: 6.6812682
B42: Hombre | C42: 2.5100036 | D42: 2.6754634 | E42: 2.5750956 | F42: 3.2155729 | G42: 3.272542 | H42: 2.8570314 | I42: 3.3065661 | J42: 4.4541337 | K42: 4.3615587 | L42: 5.1442568 | M42: 5.1442568 | N42: 4.0402385
B43: Mujer | C43: 4.0955709 | D43: 3.7372507 | E43: 4.135439 | F43: 5.2459798 | G43: 6.0970239 | H43: 4.9697269 | I43: 4.9464128 | J43: 6.6898355 | K43: 11.762098 | L43: 10.735274 | M43: 10.735274 | N43: 10.767362
B44: México | C44: 3.6465571 | D44: 3.9037043 | E44: 5.3741839 | F44: 5.328623 | G44: 5.195428 | H44: 4.9225762 | I44: 4.9431565 | J44: 4.8312132 | K44: 4.3356482 | L44: 3.8853244 | M44: 4.0014849 | N44: 3.4682448
B45: Hombre | C45: 3.4233124 | D45: 3.8042337 | E45: 5.3780363 | F45: 5.4002016 | G45: 5.2185897 | H45: 4.9258802 | I45: 4.9152885 | J45: 4.8049713 | K45: 4.2509063 | L45: 3.8493787 | M45: 3.9602188 | N45: 3.3567448
B46: Mujer | C46: 4.0164492 | D46: 4.068995 | E46: 5.3623884 | F46: 5.2071111 | G46: 5.1566064 | H46: 4.9158942 | I46: 4.9877765 | J46: 4.8744104 | K46: 4.4728128 | L46: 3.9431032 | M46: 4.067749 | N46: 3.6496492
B47: Nicaragua j/ | C47: 5.9 | D47: 6.1 | E47: 7.875 | F47: 7.85 | G47: 5.2711487 | H47: 5.925 | I47: 5.75 | J47: 6.575 | K47: … | L47: … | M47: … | N47: …
B48: Hombre | C48: 6 | D48: 5.6371973 | E48: 7.1 | F48: 7.25 | G48: 4.7407685 | H48: 5.375 | I48: 5.6 | J48: 6.175 | K48: … | L48: … | M48: … | N48: …
B49: Mujer | C49: 5.8 | D49: 7.4 | E49: 9.075 | F49: 8.725 | G49: 5.976269 | H49: 6.575 | I49: 5.95 | J49: 7.025 | K49: … | L49: … | M49: … | N49: …
B50: Panamá k/ | C50: 6.3716175 | D50: 5.5785461 | E50: 6.557023 | F50: 6.5158598 | G50: 4.4814326 | H50: 4.0457155 | I50: 4.0984138 | J50: 4.8226935 | K50: 5.0522668 | L50: 5.4942879 | M50: 5.6188783 | N50: 5.5536253
B51: Hombre | C51: 4.9789214 | D51: 4.3740638 | E51: 5.1126288 | F51: 5.2859254 | G51: 4.2070219 | H51: 3.4585565 | I51: 3.3179405 | J51: 3.9919445 | K51: 4.2326069 | L51: 4.6884231 | M51: 4.5661023 | N51: 4.6185847
B52: Mujer | C52: 8.6405129 | D52: 7.5488772 | E52: 8.8512971 | F52: 8.4912655 | G52: 4.9218837 | H52: 4.9462366 | I52: 5.2852433 | J52: 6.0468333 | K52: 6.2408179 | L52: 6.657858 | M52: 7.123323 | N52: 6.8876232
B53: Paraguay l/ | C53: 5.5121644 | D53: 5.6516501 | E53: 6.3434511 | F53: 5.6707908 | G53: 5.5492539 | H53: 4.5726782 | I53: 5.0208445 | J53: 6.0381127 | K53: 5.3512201 | L53: 5.9984394 | M53: 8.25 | N53: 8.65
B54: Hombre | C54: 4.2306477 | D54: 4.6271394 | E54: 5.3222853 | F54: 4.5774804 | G54: 4.3329267 | H54: 3.6777289 | I54: 4.5332074 | J54: 4.6166861 | K54: 4.8524904 | L54: 4.9666173 | M54: 6.6 | N54: 6.9
B55: Mujer | C55: 7.4528429 | D55: 7.266 | E55: 7.94519 | F55: 7.4028404 | G55: 7.3480606 | H55: 5.8224942 | I55: 5.6994463 | J55: 8.148831 | K55: 6.0756899 | L55: 7.5136117 | M55: 10.1 | N55: 10.65
B56: Perú m/ | C56: 4.7381631 | D56: 4.611712 | E56: 4.4701368 | F56: 4.1043283 | G56: 4.0238265 | H56: 3.7209411 | I56: 3.9514586 | J56: 3.6562464 | K56: 3.5106571 | L56: 4.1799782 | M56: 4.5420136 | N56: 4.4666667
B57: Hombre | C57: 4.31555 | D57: 4.0546286 | E57: 4.276247 | F57: 3.6128608 | G57: 3.7299243 | H57: 3.173313 | I57: 3.3806181 | J57: 3.3792893 | K57: 3.408465 | L57: 3.8784002 | M57: 4.2 | N57: 4.1333333
B58: Mujer | C58: 5.2766856 | D58: 5.3218077 | E58: 4.7161276 | F58: 4.718595 | G58: 4.3935098 | H58: 4.4119527 | I58: 4.6705609 | J58: 4.0095792 | K58: 3.6423086 | L58: 4.5636225 | M58: 4.9 | N58: 4.8333333
B59: República Dominicana n/ | C59: 5.0073414 | D59: 4.6540422 | E59: 5.3132012 | F59: 5.0008137 | G59: 5.7845932 | H59: 6.4869097 | I59: 7.0387965 | J59: 6.3854453 | K59: 7.3260527 | L59: 7.0772537 | M59: 7.3224299 | N59: 5.6450787
B60: Hombre | C60: 3.6925116 | D60: 3.1392017 | E60: 3.9945032 | F60: 3.8903678 | G60: 4.3817235 | H60: 4.8484375 | I60: 5.0293024 | J60: 4.4928411 | K60: 5.2170062 | L60: 4.7819326 | M60: 5.0115405 | N60: 4.0742241
B61: Mujer | C61: 7.4382475 | D61: 7.2847422 | E61: 7.7717842 | F61: 6.9429824 | G61: 8.1734096 | H61: 9.232591 | I61: 10.400896 | J61: 9.5346419 | K61: 10.487181 | L61: 10.451381 | M61: 10.718973 | N61: 7.9341674
... B64: Mujer | C64: 12.563761 | D64: 10.757548 | E64: 10.35713 | F64: 9.3813556 | G64: 8.0882713 | H64: 8.2619165 | I64: 8.2134343 | J64: 8.3497635 | K64: 8.8465549 | L64: 9.4465911 | M64: 9.6033703 | N64: 9.7149073
B65: Venezuela (Rep. Bol. de) o/ | C65: 8.4449249 | D65: 7.3323456 | E65: 7.854541 | F65: 8.6919167 | G65: 8.2917364 | H65: 8.0675772 | I65: 7.7832508 | J65: 7.2557522 | K65: 7.036513 | L65: 7.3338282 | M65: … | N65: …
B66: Hombre | C66: 7.9325917 | D66: 7.00682 | E66: 7.4230043 | F66: 8.4697407 | G66: 7.6709948 | H66: 7.4293435 | I66: 7.0982079 | J66: 6.7046287 | K66: 6.6043033 | L66: 7.0501696 | M66: … | N66: …
B67: Mujer | C67: 9.2549494 | D67: 7.8450882 | E67: 8.5190577 | F67: 9.0355395 | G67: 9.2489034 | H67: 9.0453911 | I67: 8.8232778 | J67: 8.0889654 | K67: 7.7047613 | L67: 7.7660209 | M67: … | N67: …
B68: El Caribe
B69: Bahamas p/ | C69: 7.9 | D69: 8.7 | E69: 15.332573 | F69: … | G69: 15.9 | H69: 14.366007 | I69: 15.8 | J69: 14.635834 | K69: 13.383125 | L69: 12.747823 | M69: 12.747823 | N69: 9.8543022
B70: Hombre | C70: 6.7 | D70: 7.7 | E70: … | F70: … | G70: … | H70: 15.006903 | I70: 15.557291 | J70: 13.519361 | K70: 11.848873 | L70: 11.13312 | M70: 11.13312 | N70: 8.8583959
B71: Mujer | C71: 9.1 | D71: 9.7 | E71: … | F71: … | G71: … | H71: 13.705107 | I71: 16.011439 | J71: 15.763339 | K71: 14.966462 | L71: 14.458808 | M71: 14.458808 | N71: 10.927121
B72: Barbados q/ | C72: 7.425 | D72: 8.1 | E72: 9.975 | F72: 10.7 | G72: 11.2 | H72: 11.6 | I72: 11.6 | J72: 12.28903 | K72: 11.3 | L72: 9.65 | M72: 9.7 | N72: 10.4
B73: Hombre | C73: 6.4 | D73: 6.9 | E73: 10.1 | F73: 10.9 | G73: 9.8 | H73: 10.9 | I73: 11.7 | J73: 11.787204 | K73: 12.3 | L73: 9.275 | M73: 9.05 | N73: 10.3
B74: Mujer | C74: 8.5 | D74: 9.5 | E74: 9.8 | F74: 10.6 | G74: 12.6 | H74: 12.3 | I74: 11.6 | J74: 12.811388 | K74: 10.3 | L74: 10.075 | M74: 10.45 | N74: 10.55
B75: Belice r/ | C75: 10.328711 | D75: 8.2 | E75: 13.1 | F75: 12.5 | G75: … | H75: 15.3 | I75: 14.290122 | J75: 11.569805 | K75: 10.143128 | L75: 9.5314723 | M75: 7.9737923 | N75: 8.9871373
B76: Hombre | C76: 7.1500939 | D76: … | E76: … | F76: … | G76: … | H76: 10.529596 | I76: 10.592676 | J76: 6.2627001 | K76: 6.8245463 | L76: 5.5733734 | M76: 4.2538839 | N76: 4.8026866
B77: Mujer | C77: 15.813208 | D77: … | E77: … | F77: … | G77: … | H77: 22.325835 | I77: 20.037692 | J77: 19.914452 | K77: 15.354331 | L77: 15.604852 | M77: 13.638805 | N77: 15.577716
B78: Jamaica d/ | C78: 9.8669997 | D78: 10.569907 | E78: 11.365074 | F78: 12.377241 | G78: 12.682914 | H78: 13.929766 | I78: 15.243855 | J78: 13.739191 | K78: 13.509815 | L78: 13.189153 | M78: 13.287 | N78: 12.054906
B79: Hombre | C79: 6.1576971 | D79: 7.2845825 | E79: 8.5182534 | F79: 9.2085597 | G79: 9.2653825 | H79: 10.509062 | I79: 11.227395 | J79: 10.095527 | K79: 9.9021466 | L79: 9.5950885 | M79: 9.8179954 | N79: 8.8222741
B80: Mujer | C80: 14.480121 | D80: 14.559175 | E80: 14.835213 | F80: 16.199681 | G80: 16.69964 | H80: 18.083161 | I80: 20.058519 | J80: 18.135826 | K80: 17.848703 | L80: 17.389083 | M80: 17.345989 | N80: 15.812456
B81: Trinidad y Tabago s/ | C81: 5.55 | D81: 4.625 | E81: 5.25 | F81: 5.925 | G81: 5.0666667 | H81: 4.95 | I81: 3.675 | J81: 3.3 | K81: 3.425 | L81: 3.95 | M81: 3.8 | N81: 4.5
B82: Hombre | C82: … | D82: … | E82: … | F82: … | G82: … | H82: … | I82: … | J82: … | K82: …
B83: Mujer | C83: … | D83: … | E83: … | F83: … | G83: … | H83: … | I83: … | J83: … | K83: …
B84: América Latina y el Caribe t/ | C84: 6.7406626 | D84: 6.3100919 | E84: 7.3182848 | F84: 6.8898803 | G84: 6.3777278 | H84: 6.4552441 | I84: 6.3077018 | J84: 6.1337021 | K84: 6.6271845 | L84: 7.8723668 | M84: 8.2384187 | N84: 8.7161252
B85: América Latina y el Caribe - Hombre t/ | C85: 5.4180797 | D85: 5.0974508 | E85: 6.081186 | F85: 5.7153763 | G85: 5.2572656 | H85: 5.4491969 | I85: 5.3629722 | J85: 5.3248041 | K85: 5.6685237 | L85: 6.8984738 | M85: 7.1522759 | N85: 7.5794891
B86: América Latina y el Caribe - Mujer t/ | C86: 8.6560444 | D86: 8.0737836 | E86: 9.081127 | F86: 8.5692967 | G86: 8.0014801 | H86: 7.8590693 | I86: 7.6376457 | J86: 7.2672656 | K86: 7.8695551 | L86: 9.2309074 | M86: 9.9009359 | N86: 10.410873
B88: Fuente: OIT con la base de información de las encuestas de hogares de los países.
B90: a/ 31 aglomerados urbanos. El INDEC, en el marco de la emergencia estadística declarada, recomienda desestimar las series publicadas entre el 2007 y 2015 para fines de comparación y análisis del mercado de trabajo en la República Argentina. El dato anual 2016 es el promedio del II, III y IV trimestre y el del III trimestre del 2016 y 2017 corresponde al II trimestre.
B92: b/ A partir del 2012 datos con base en PNADC serie no comparable con años anteriores.
B93: c/ Nueva medición a partir del 2010, datos no comparables con años anteriores.
B94: d/ Incluye la desocupación oculta.
B95: e/ Datos del 2007-09 corresponden a EHPM levantadas en julio de cada año. A partir del 2010 dato de la ECE, no comparable con años anteriores (el dato del 2010 es el promedio del III y IV trimestre).
B96: f/ A partir del 2007 cambia la edad de la PET de 10 a 15 años, no comparable con años anteriores. Incluye la desocupación oculta.
B97: g/ A partir del 2007 cambia la edad de la PET de 10 a 16 años, no comparable con años anteriores.
B98: h/ El dato al III trimestre del 2016 y 2017 corresponde al levantamiento de febrero - marzo.
B99: i/ Dato al III trimestre de 2016 y 2017 corresponde a junio.
B100: j/ Nueva medición (ECH) a partir del 2009. Datos no comparables con años anteriores.
B101: k/ Incluye desocupación oculta. El dato al III trimestre del 2016 y 2017 corresponde al dato de marzo.
... B110: t/ Promedio ponderado. Excluye la desocupación oculta de Colombia, Ecuador, Jamaica y Panamá

Sheet C3N
A1: regresar al índice
B2: CUADRO 3
B3: AMÉRICA LATINA Y EL CARIBE: TASA DE DESOCUPACIÓN NACIONAL SEGÚN PAÍS Y TRAMO DE EDAD. 2007 - 2017
B4: (tasas anuales medias)
B6: País | C6: 2007 | D6: 2008 | E6: 2009 | F6: 2010 | G6: 2011 | H6: 2012 | I6: 2013 | J6: 2014 | K6: 2015 | L6: 2016 | M6: 2016 | N6: 2017
M8: Promedio al III Trimestre
B10: América Latina
B11: Argentina a/ | C11: … | D11: … | E11: … | F11: … | G11: … | H11: … | I11: … | J11: … | K11: … | L11: 8.4666667 | M11: 9.3 | N11: 8.7
B12: 15 - 24 | C12: … | D12: … | E12: … | F12: … | G12: … | H12: … | I12: … | J12: … | K12: … | L12: 23.870124 | M12: 24.883158 | N12: 23.110304
B13: 25 y más | C13: … | D13: … | E13: … | F13: … | G13: … | H13: … | I13: … | J13: … | K13: … | L13: 5.925859 | M13: 6.7088795 | N13: 6.2893991
B14: Bolivia (Estado Plur. de) | C14: 5.175338 | D14: 2.8433499 | E14: 3.3193117 | F14: … | G14: 2.6506002 | H14: 2.31137 | I14: 2.8546782 | J14: 2.3406219 | K14: 3.5129571 | L14: 3.36 | M14: … | N14: …
B15: 15 - 24 | C15: 11.488106 | D15: 6.6138974 | E15: 6.1684021 | F15: … | G15: 6.2412575 | H15: 4.3011445 | I15: 6.908418 | J15: 5.4856259 | K15: 8.0477031 | L15: … | M15: … | N15: …
B16: 25 y más | C16: 3.4364115 | D16: 1.9486376 | E16: 2.7020966 | F16: … | G16: 1.7440037 | H16: 1.8819284 | I16: 2.024786 | J16: 1.6310104 | K16: 2.5890092 | L16: … | M16: … | N16: …
B17: Brasil b/ | C17: 8.1536786 | D17: 7.1413091 | E17: 8.328496 | F17: … | G17: 6.7145891 | H17: 7.3496642 | I17: 7.1301585 | J17: 6.8213718 | K17: 8.5229792 | L17: 11.512998 | M17: 11.339893 | N17: 13.060138
B18: 15 - 24 | C18: 16.799901 | D18: 15.49611 | E18: 17.821113 | F18: … | G18: 15.343822 | H18: 16.380086 | I18: 16.176689 | J18: 16.12291 | K18: 20.037506 | L18: 27.168069 | M18: 26.937633 | N18: 29.803462
B19: 25 y más | C19: 5.5865187 | D19: 4.7727063 | E19: 5.735058 | F19: … | G19: 4.5580086 | H19: 5.112796 | I19: 5.0185205 | J19: 4.7549622 | K19: 6.0213058 | L19: 8.1433012 | M19: 7.9755093 | N19: 9.4248596
B20: Chile c/ | C20: 7.1356483 | D20: 7.7963869 | E20: 9.6885261 | F20: 8.1529122 | G20: 7.1194985 | H20: 6.4323611 | I20: 5.9323776 | J20: 6.3914035 | K20: 6.2137239 | L20: 6.4900125 | M20: 6.6304453 | N20: 6.7777702
B21: 15 - 24 | C21: 17.841412 | D21: 19.706843 | E21: 22.574871 | F21: 18.542571 | G21: 17.542261 | H21: 16.264381 | I21: 16.04688 | J21: 16.443281 | K21: 15.504378 | L21: 15.664493 | M21: 15.964538 | N21: 16.848818
B22: 25 y más | C22: 5.507212 | D22: 5.925021 | E22: 7.7362453 | F22: 6.4431738 | G22: 5.450591 | H22: 4.9434635 | I22: 4.4690719 | J22: 4.9793718 | K22: 4.9563153 | L22: 5.3409867 | M22: 5.4457072 | N22: 5.5999408
B23: Colombia d/ | C23: 11.191421 | D23: 11.268781 | E23: 12.016504 | F23: 11.774364 | G23: 10.827911 | H23: 10.374884 | I23: 9.644814 | J23: 9.1079401 | K23: 8.9292363 | L23: 9.2232072 | M23: 9.5705587 | N23: 9.6637688
B24: 15 - 24 | C24: 18.893918 | D24: 21.684364 | E24: 22.554592 | F24: 22.133258 | G24: 20.755997 | H24: 19.572223 | I24: 18.158755 | J24: 17.713309 | K24: 16.761648 | L24: 17.528653 | M24: 18.611439 | N24: 18.202677
B25: 25 y más | C25: 7.6807385 | D25: 7.8457361 | E25: 8.5424564 | F25: 8.2753372 | G25: 7.4938038 | H25: 7.3536711 | I25: 6.8927906 | J25: 6.4418892 | K25: 6.4095535 | L25: 6.6876118 | M25: 7.105773 | N25: 7.3421289
B26: Costa Rica e/ | C26: 4.5972046 | D26: 4.9477742 | E26: 7.8221934 | F26: 8.9150892 | G26: 10.298476 | H26: 10.171754 | I26: 9.3861626 | J26: 9.6173851 | K26: 9.6130075 | L26: 9.5382673 | M26: 9.5368931 | N26: 8.9980045
B27: 15 - 24 | C27: 10.72428 | D27: 11.013248 | E27: 17.909876 | F27: 21.549538 | G27: 22.367669 | H27: 23.131933 | I27: 22.462199 | J27: 25.10198 | K27: 23.045199 | L27: 23.133323 | M27: 22.891781 | N27: 22.005372
B28: 25 y más | C28: 2.6937904 | D28: 3.2592903 | E28: 5.1654824 | F28: 5.9663884 | G28: 7.6885145 | H28: 7.3489001 | I28: 6.4757752 | J28: 6.2865987 | K28: 6.8484255 | L28: 6.8143608 | M28: 6.9072218 | N28: 6.4526389
B29: Cuba | C29: 1.8 | D29: 1.5851548 | E29: 1.6690899 | F29: 2.5036675 | G29: 3.175186 | H29: 3.4600918 | I29: 3.2874558 | J29: 2.6579179 | K29: 2.3897982 | L29: 2.0293628 | M29: … | N29: …
B30: 15 - 24 | C30: … | D30: … | E30: … | F30: … | G30: … | H30: … | I30: … | J30: … | K30: … | L30: … | M30: … | N30: …
B31: 25 y más | C31: … | D31: … | E31: … | F31: … | G31: … | H31: … | I31: … | J31: … | K31: … | L31: … | M31: … | N31: …
B32: Ecuador f/ | C32: 4.9983546 | D32: 5.951463 | E32: 6.47131 | F32: 5.6176433 | G32: 4.6134263 | H32: 4.1169369 | I32: 4.0328713 | J32: 4.2961808 | K32: 4.3406718 | L32: 5.362265 | M32: 5.4121523 | N32: 4.3423471
B33: 15 - 24 | C33: 10.715688 | D33: 13.8119 | E33: 14.139415 | F33: 12.66776 | G33: 11.908294 | H33: 10.742982 | I33: 10.869492 | J33: 11.252896 | K33: 10.382583 | L33: 11.930479 | M33: 11.741559 | N33: 9.3634683
B34: 25 y más | C34: 3.4672285 | D34: 3.8604741 | E34: 4.4260436 | F34: 3.9363457 | G34: 3.0610576 | H34: 2.7264847 | I34: 2.6238115 | J34: 2.8580579 | K34: 3.0905902 | L34: 3.9854948 | M34: 4.0737118 | N34: 3.3038359
B35: El Salvador g/ | C35: 6.3328918 | D35: 5.8839509 | E35: 7.3319912 | F35: 7.0459686 | G35: 6.6167815 | H35: 6.0717041 | I35: 5.9262882 | J35: 6.9966658 | K35: 7.00615 | L35: 7.1166676 | M35: … | N35: …
B36: 15 - 24 | C36: 11.432756 | D36: 11.119623 | E36: 13.969358 | F36: 13.720276 | G36: 12.245634 | H36: 12.401891 | I36: 12.441713 | J36: 15.015587 | K36: 13.99442 | L36: 14.150542 | M36: … | N36: …
B37: 25 y más | C37: 5.0055956 | D37: 4.4325782 | E37: 5.5306425 | F37: 5.2373184 | G37: 5.0151858 | H37: 4.36284 | I37: 4.196792 | J37: 4.8985468 | K37: 5.1108248 | L37: 5.1754761 | M37: … | N37: …
B38: Guatemala h/ | C38: … | D38: … | E38: … | F38: 3.74 | G38: 4.1261884 | H38: 2.87 | I38: 3.095 | J38: 2.9 | K38: 2.5721019 | L38: 2.6518147 | M38: 3.0840044 | N38: 3.1911188
B39: 15 - 24 | C39: … | D39: … | E39: … | F39: 5.8393008 | G39: 7.5389195 | H39: 4.9007757 | I39: 5.7452204 | J39: 6.1364415 | K39: 5.7314352 | L39: 5.8193045 | M39: 6.5176348 | N39: 6.5566943
B40: 25 y más | C40: … | D40: … | E40: … | F40: 2.9273505 | G40: 2.6944344 | H40: 2.0512315 | I40: 2.0968126 | J40: 1.6894476 | K40: 1.3209789 | L40: 1.4182602 | M40: 1.7127588 | N40: 1.9706796
B41: Honduras i/ | C41: 3.0541287 | D41: 3.0501938 | E41: 3.1294516 | F41: 3.9476972 | G41: 4.2666724 | H41: 3.59056 | I41: 3.9056026 | J41: 5.3128008 | K41: 7.3302633 | L41: 7.3779493 | M41: 7.3779493 | N41: 6.6812682
B42: 15 - 24 | C42: 5.4438933 | D42: 5.4852318 | E42: 5.9794305 | F42: 7.4645722 | G42: 7.9603656 | H42: 6.8773784 | I42: 7.0985707 | J42: 9.3538133 | K42: 14.173553 | L42: 15.940978 | M42: 15.940978 | N42: 13.487422
B43: 25 y más | C43: 2.2511676 | D43: 2.188498 | E43: 2.1913797 | F43: 2.7519377 | G43: 2.983978 | H43: 2.5164336 | I43: 2.9140564 | J43: 4.015058 | K43: 4.6499752 | L43: 4.1197212 | M43: 4.1197212 | N43: 3.9424473
B44: México | C44: 3.6465571 | D44: 3.9037043 | E44: 5.3741839 | F44: 5.328623 | G44: 5.195428 | H44: 4.9225762 | I44: 4.9431565 | J44: 4.8312132 | K44: 4.3356482 | L44: 3.8853244 | M44: 4.0014849 | N44: 3.4682448
B45: 15 - 24 | C45: 7.2039411 | D45: 7.7010374 | E45: 10.100291 | F45: 9.7669642 | G45: 9.8389527 | H45: 9.4390352 | I45: 9.4783319 | J45: 9.4730394 | K45: 8.6101018 | L45: 7.7259539 | M45: 7.9883471 | N45: 6.9716286
B46: 25 y más | C46: 2.67541 | D46: 2.8926551 | E46: 4.1591575 | F46: 4.1678818 | G46: 4.0113234 | H46: 3.7958941 | I46: 3.8603278 | J46: 3.7590361 | K46: 3.3850147 | L46: 3.0572561 | M46: 3.140828 | N46: 2.7291674
B47: Nicaragua j/ | C47: 5.9 | D47: 6.1 | E47: 7.875 | F47: 7.85 | G47: 5.2711487 | H47: 5.925 | I47: 5.75 | J47: 6.575 | K47: … | L47: … | M47: … | N47: …
B48: 15 - 24 | C48: 7.3619603 | D48: 9.5835944 | E48: … | F48: 11.912857 | G48: 7.7741345 | H48: 8.9940273 | I48: … | J48: … | K48: … | L48: … | M48: … | N48: …
B49: 25 y más | C49: 4.47922 | D49: 4.8791054 | E49: … | F49: 6.288251 | G49: 4.3639529 | H49: 4.7879463 | I49: … | J49: … | K49: … | L49: … | M49: … | N49: …
B50: Panamá k/ | C50: 6.3716175 | D50: 5.5785461 | E50: 6.557023 | F50: 6.5158598 | G50: 4.4814326 | H50: 4.0457155 | I50: 4.0984138 | J50: 4.8226935 | K50: 5.0522668 | L50: 5.4942879 | M50: 5.6188783 | N50: 5.5536253
B51: 15 - 24 | C51: 14.82784 | D51: 13.646308 | E51: 15.225501 | F51: 14.971164 | G51: 12.357055 | H51: 10.299905 | I51: 10.762201 | J51: 12.570286 | K51: 13.071762 | L51: 13.662241 | M51: 15.435975 | N51: 14.746913
B52: 25 y más | C52: 4.2999077 | D52: 3.5919254 | E52: 4.5849985 | F52: 4.6799237 | G52: 2.9784252 | H52: 2.7521042 | I52: 2.6841457 | J52: 3.2879683 | K52: 3.5129585 | L52: 3.8758768 | M52: 3.6696988 | N52: 3.7556944
B53: Paraguay l/ | C53: 5.5121644 | D53: 5.6516501 | E53: 6.3434511 | F53: 5.6707908 | G53: 5.5492539 | H53: 4.5726782 | I53: 5.0208445 | J53: 6.0381127 | K53: 5.3512201 | L53: 5.9984394 | M53: 8.25 | N53: 8.65
B54: 15 - 24 | C54: 11.919585 | D54: 11.690328 | E54: 13.105825 | F54: 12.540575 | G54: 12.60299 | H54: 10.375069 | I54: 10.413536 | J54: 12.331206 | K54: 11.812774 | L54: 12.8608 | M54: 21.776475 | N54: 20.283779
B55: 25 y más | C55: 3.2656092 | D55: 3.3640235 | E55: 3.9253227 | F55: 3.3810627 | G55: 3.0352022 | H55: 2.5828238 | I55: 3.3051742 | J55: 3.9608939 | K55: 3.3320314 | L55: 3.9323327 | M55: 4.7808779 | N55: 5.8922873
B56: Perú m/ | C56: 4.7381631 | D56: 4.611712 | E56: 4.4701368 | F56: 4.1043283 | G56: 4.0238265 | H56: 3.7209411 | I56: 3.9514586 | J56: 3.6562464 | K56: 3.5106571 | L56: 4.1799782 | M56: 4.5420136 | N56: 4.4666667
B57: 15 - 24 | C57: 10.012502 | D57: 9.8033975 | E57: 9.2290185 | F57: 9.4568876 | G57: 9.5357116 | H57: 9.1285839 | I57: 9.0043651 | J57: 9.8709158 | K57: 8.4285709 | L57: 10.67503 | M57: 11.190109 | N57: 11.410018
B58: 25 y más | C58: 2.9739154 | D58: 2.9463757 | E58: 3.0208999 | F58: 2.4809806 | G58: 2.3593816 | H58: 2.146213 | I58: 2.6613932 | J58: 1.9694818 | K58: 2.28581 | L58: 2.6158518 | M58: 3.0549291 | N58: 3.1870108
B59: República Dominicana n/ | C59: 5.0073414 | D59: 4.6540422 | E59: 5.3132012 | F59: 5.0008137 | G59: 5.7845932 | H59: 6.4869097 | I59: 7.0387965 | J59: 6.3854453 | K59: 7.3260527 | L59: 7.0772537 | M59: 7.3224299 | N59: 5.6450787
B60: 15 - 24 | C60: 12.249019 | D60: 10.350874 | E60: 12.179104 | F60: 10.461281 | G60: 13.369035 | H60: 14.586181 | I60: 16.795734 | J60: 12.814155 | K60: 15.974837 | L60: 16.437517 | M60: 16.949458 | N60: 13.273608
B61: 25 y más | C61: 3.2184051 | D61: 3.2016593 | E61: 3.7372057 | F61: 3.7262631 | G61: 3.9620938 | H61: 4.6511304 | I61: 4.795077 | J61: 4.970186 | K61: 5.3779313 | L61: 4.9306265 | M61: 5.1037403 | N61: 3.9934004
... B64: 25 y más | C64: 6.2322818 | D64: 5.1761485 | E64: 5.1620127 | F64: 4.4952637 | G64: 4.0448991 | H64: 4.121441 | I64: 3.971223 | J64: 4.1568267 | K64: 4.7019428 | L64: 4.9801401 | M64: 5.0816333 | N64: 5.0971333
B65: Venezuela (Rep. Bol. de) p/ | C65: 8.4449249 | D65: 7.3323456 | E65: 7.854541 | F65: 8.6919167 | G65: 8.2917364 | H65: 8.0675772 | I65: 7.7832508 | J65: 7.2557522 | K65: 7.036513 | L65: 7.3338282 | M65: … | N65: …
B66: 15 - 24 | C66: 15.396136 | D66: 14.223334 | E66: 15.566129 | F66: 17.63799 | G66: 17.465614 | H66: 17.112077 | I66: 16.540473 | J66: 15.034648 | K66: 15.09685 | L66: 15.776116 | M66: … | N66: …
B67: 25 y más | C67: 6.6922448 | D67: 5.7553222 | E67: 6.1352209 | F67: 6.7341216 | G67: 6.4655176 | H67: 6.3044317 | I67: 6.1344372 | J67: 5.8210266 | K67: 5.6408553 | L67: 5.9295326 | M67: … | N67: …
B68: El Caribe
B69: Bahamas q/ | C69: 7.9 | D69: 8.7 | E69: 15.332573 | F69: … | G69: 15.9 | H69: 14.366007 | I69: 15.8 | J69: 14.635834 | K69: 13.383125 | L69: 12.747823 | M69: 12.747823 | N69: 9.8543022
B70: 15 - 24 | C70: … | D70: … | E70: … | F70: … | G70: … | H70: … | I70: … | J70: … | K70: … | M70: … | N70: …
B71: 25 y más | C71: … | D71: … | E71: … | F71: … | G71: … | H71: … | I71: … | J71: … | K71: … | M71: … | N71: …
B72: Barbados r/ | C72: 7.425 | D72: 8.1 | E72: 9.975 | F72: 10.7 | G72: 11.2 | H72: 11.6 | I72: 11.6 | J72: 12.28903 | K72: 11.3 | L72: 9.65 | M72: 9.7 | N72: 10.4
B73: 15 - 24 | C73: … | D73: … | E73: … | F73: … | G73: … | H73: … | I73: … | J73: … | K73: … | M73: … | N73: …
B74: 25 y más | C74: … | D74: … | E74: … | F74: … | G74: … | H74: … | I74: … | J74: … | K74: … | M74: … | N74: …
B75: Belice s/ | C75: 10.328711 | D75: 8.2 | E75: 13.1 | F75: 12.5 | G75: … | H75: 15.3 | I75: 14.290122 | J75: 11.569805 | K75: 10.143128 | L75: 9.5314723 | M75: 7.9737923 | N75: 8.9871373
B76: 15 - 24 | C76: … | D76: … | E76: … | F76: … | G76: … | H76: 27.718749 | I76: 21.834153 | J76: 22.89263 | K76: 21.205715 | L76: 21.269422 | M76: 17.796782 | N76: 18.854627
B77: 25 y más | C77: … | D77: … | E77: … | F77: … | G77: … | H77: 11.159539 | I77: 11.899537 | J77: 7.9149131 | K77: 6.7144378 | L77: 5.8972387 | M77: 5.0057096 | N77: 5.8592862
B78: Jamaica t/ | C78: 9.8669997 | D78: 10.569907 | E78: 11.365074 | F78: 12.377241 | G78: 12.682914 | H78: 13.929766 | I78: 15.243855 | J78: 13.739191 | K78: 13.509815 | L78: 13.189153 | M78: 13.287 | N78: 12.054906
B79: 15 - 24 | C79: 23.7 | D79: 26.5 | E79: … | F79: 30.772337 | G79: 30.101538 | H79: 33.490566 | I79: 37.771203 | J79: 34.27182 | K79: 32.861438 | L79: 31.821872 | M79: 31.620156 | N79: 29.206884
B80: 25 y más | C80: … | D80: … | E80: … | F80: … | G80: … | H80: 10.397624 | I80: 11.119904 | J80: 10.13597 | K80: 10.055041 | L80: 9.6588538 | M80: 9.8540228 | N80: 8.8479307
B81: Trinidad y Tabago u/ | C81: 5.55 | D81: 4.625 | E81: 5.25 | F81: 5.925 | G81: 5.0666667 | H81: 4.95 | I81: 3.675 | J81: 3.3 | K81: 3.425 | L81: 3.95 | M81: 3.8 | N81: 4.5
B82: 15 - 24 | C82: … | D82: … | E82: … | F82: … | G82: … | H82: … | I82: … | J82: … | K82: … | L82: … | M82: … | N82: …
B83: 25 y más | C83: … | D83: … | E83: … | F83: … | G83: … | H83: … | I83: … | J83: … | K83: … | L83: … | M83: … | N83: …
B84: América Latina y el Caribe v/ | C84: 6.7406626 | D84: 6.3100919 | E84: 7.3182848 | F84: 6.8898803 | G84: 6.3777278 | H84: 6.4552441 | I84: 6.3077018 | J84: 6.1337021 | K84: 6.6271653 | L84: 7.8723668 | M84: 8.2384188 | N84: 8.7161253
B85: América Latina y el Caribe - 15 a 24 años v/ | C85: 14.016843 | D85: 13.657854 | E85: 15.452697 | F85: 14.725973 | G85: 14.063359 | H85: 14.009668 | I85: 13.958665 | J85: 13.88819 | K85: 15.075754 | L85: 18.091668 | M85: 18.92886 | N85: 19.490289
B86: América Latina y el Caribe - 25 y más v/ | C86: 4.9098034 | D86: 4.5667005 | E86: 5.439185 | F86: 5.0978833 | G86: 4.6333209 | H86: 4.7501732 | I86: 4.672034 | J86: 4.5215681 | K86: 4.9383321 | L86: 5.8372223 | M86: 6.0062582 | N86: 6.474399
B88: Fuente: OIT con la base de información de las encuestas de hogares de los países.
B90: a/ 31 aglomerados urbanos. El INDEC, en el marco de la emergencia estadística declarada, recomienda desestimar las series publicadas entre el 2007 y 2015 para fines de comparación y análisis del mercado de trabajo en la República Argentina. El dato anual 2016 es el promedio del II, III y IV trimestre y el dato al III trimestre del 2016 y 2017 corresponden al II trimestre.
B92: b/ A partir del 2012 datos con base en PNADC serie no comparable con años anteriores. El dato 15 - 24 corresponde a 14 -24.
B93: c/ Nueva medición a partir del 2010, datos no comparables con años anteriores.
B94: d/ Incluye la desocupación oculta. Dato del 2007 para el tramo 15 a 24 corresponde a 15 a 28 años. El dato de TD total de coyuntura del 2016 y 2017 corresponden al promedio del III trimestre y los datos por edad al promedio al II trimestre.
B95: e/ Datos del 2007-09 corresponden a EHPM levantadas en julio de cada año. A partir del 2010 dato de la ECE, no comparable con años anteriores (el dato del 2010 es el promedio del III y IV trimestre).
B96: f/ A partir del 2007 cambia la edad de la PET de 10 a 15 años, no comparable con años anteriores. Incluye la desocupación oculta.
B97: g/ A partir del 2007 cambia la edad de la PET de 10 a 16 años, no comparable con años anteriores.
B98: h/ El dato al III trimestre del 2016 y 2017 corresponde al levantamiento de febrero - marzo.
B99: i/ Dato al III trimestre de 2016 y 2017 corresponde a junio.
B100: j/ Nueva medición (ECH) a partir del 2009. Datos no comparables con años anteriores
B101: k/ Incluye desocupación oculta. El dato al III trimestre del 2016 y 2017 corresponde al levantamiento de marzo.
... B112: v/ Promedio ponderado.

Sheet C4N
A1: regresar al índice
B2: CUADRO 4
B3: AMÉRICA LATINA Y EL CARIBE: TASA DE PARTICIPACIÓN NACIONAL SEGÚN PAÍS Y SEXO. 2007 - 2017.
B4: (tasas anuales medias)
B6: País | C6: 2007 | D6: 2008 | E6: 2009 | F6: 2010 | G6: 2011 | H6: 2012 | I6: 2013 | J6: 2014 | K6: 2015 | L6: 2016 | M6: 2016 | N6: 2017
M8: Promedio al III Trimestre
B10: América Latina
B11: Argentina a/ | C11: … | D11: … | E11: … | F11: … | G11: … | H11: … | I11: … | J11: … | K11: … | L11: 57.466667 | M11: 57.8 | N11: 57.4
B12: Hombre | C12: … | D12: … | E12: … | F12: … | G12: … | H12: … | I12: … | J12: … | K12: … | L12: 69.4 | M12: 69.6 | N12: 69.2
B13: Mujer | C13: … | D13: … | E13: … | F13: … | G13: … | H13: … | I13: … | J13: … | K13: … | L13: 46.9 | M13: 47.2 | N13: 46.8
B14: Bolivia (Estado Plur. de) | C14: 64.781492 | D14: 64.914132 | E14: 65.130174 | F14: … | G14: 65.930064 | H14: 61.128618 | I14: 63.354967 | J14: 65.846451 | K14: 61.042209 | L14: 65.61 | M14: … | N14: …
B15: Hombre | C15: 74.187675 | D15: 73.723684 | E15: 73.25265 | F15: … | G15: 74.716566 | H15: 70.356104 | I15: 72.643988 | J15: 75.026763 | K15: 72.108401 | L15: 74.98 | M15: … | N15: …
B16: Mujer | C16: 56.155434 | D16: 56.839018 | E16: 57.400748 | F16: … | G16: 57.509034 | H16: 52.568487 | I16: 54.754386 | J16: 57.106912 | K16: 50.371459 | L16: 56.8 | M16: … | N16: …
B17: Brasil b/ | C17: 62.026278 | D17: 61.970416 | E17: 62.104406 | F17: … | G17: 60.035104 | H17: 61.421818 | I17: 61.270418 | J17: 61.010623 | K17: 61.290656 | L17: 61.394864 | M17: 61.398297 | N17: 61.678409
B18: Hombre | C18: 72.358791 | D18: 72.415095 | E18: 72.250975 | F18: … | G18: 70.760784 | H18: 73.084969 | I18: 72.901014 | J18: 72.46933 | K18: 72.35377 | L18: 72.305506 | M18: 72.398026 | N18: 71.984612
B19: Mujer | C19: 52.35361 | D19: 52.226202 | E19: 52.659117 | F19: … | G19: 50.057518 | H19: 50.807811 | I19: 50.685551 | J19: 50.584512 | K19: 51.190831 | L19: 51.402136 | M19: 51.323415 | N19: 52.263048
B20: Chile c/ | C20: 54.940563 | D20: 56.040883 | E20: 55.867241 | F20: 58.466047 | G20: 59.800035 | H20: 59.547852 | I20: 59.550366 | J20: 59.79829 | K20: 59.66343 | L20: 59.461709 | M20: 59.43366 | N20: 59.583689
B21: Hombre | C21: 71.373762 | D21: 71.784033 | E21: 70.99203 | F21: 72.0871 | G21: 72.710597 | H21: 71.925974 | I21: 71.804208 | J21: 71.578538 | K21: 71.482813 | L21: 71.267025 | M21: 71.346253 | N21: 71.263442
B22: Mujer | C22: 39.112979 | D22: 40.871327 | E22: 41.287348 | F22: 45.33188 | G22: 47.345946 | H22: 47.598426 | I22: 47.715945 | J22: 48.412904 | K22: 48.230576 | L22: 48.031355 | M22: 47.900937 | N22: 48.264114
B23: Colombia d/ | C23: 58.290644 | D23: 58.5082 | E23: 61.278686 | F23: 62.727926 | G23: 63.662228 | H23: 64.532597 | I23: 64.150292 | J23: 64.229053 | K23: 64.731653 | L23: 64.474186 | M23: 64.172082 | N23: 64.232923
B24: Hombre | C24: 71.117251 | D24: 71.138822 | E24: 73.353767 | F24: 74.203038 | G24: 75.097535 | H24: 75.401454 | I24: 74.857856 | J24: 74.892261 | K24: 75.164259 | L24: 74.86013 | M24: 74.543045 | N24: 74.626053
B25: Mujer | C25: 46.048975 | D25: 46.446468 | E25: 49.773305 | F25: 51.803906 | G25: 52.762435 | H25: 54.146848 | I25: 53.915706 | J25: 54.033792 | K25: 54.754017 | L25: 54.538925 | M25: 54.251397 | N25: 54.289148
B26: Costa Rica e/ | C26: 56.983213 | D26: 56.713699 | E26: 56.506238 | F26: 60.709615 | G26: 58.994011 | H26: 62.791753 | I26: 62.280861 | J26: 62.531333 | K26: 61.244176 | L26: 58.38893 | M26: 57.843007 | N26: 59.400529
B27: Hombre | C27: 73.164481 | D27: 72.502907 | E27: 71.504754 | F27: 75.356101 | G27: 73.599427 | H27: 75.942595 | I27: 75.112004 | J27: 75.869628 | K27: 74.265498 | L27: 72.355204 | M27: 71.757867 | N27: 73.36878
B28: Mujer | C28: 41.579816 | D28: 41.708025 | E28: 42.105532 | F28: 45.879176 | G28: 44.228657 | H28: 49.483067 | I28: 49.310952 | J28: 49.048815 | K28: 48.091094 | L28: 44.293447 | M28: 43.799138 | N28: 45.311792
B29: Cuba | C29: 73.7 | D29: 74.745418 | E29: 75.408949 | F29: 74.863452 | G29: 76.06315 | H29: 74.181908 | I29: 72.906065 | J29: 71.93682 | K29: 69.132837 | L29: 65.167571 | M29: … | N29: …
B30: Hombre | C30: 86.7 | D30: 87.801235 | E30: 88.364544 | F30: 87.689788 | G30: 89.98579 | H30: 89.457831 | I30: 87.120195 | J30: 86.220472 | K30: 82.854862 | L30: 78.241074 | M30: … | N30: …
B31: Mujer | C31: 59.3 | D31: 60.17365 | E31: 60.978926 | F31: 60.54116 | G31: 60.51649 | H31: 57.378206 | I31: 57.30864 | J31: 56.306067 | K31: 54.159045 | L31: 50.874742 | M31: … | N31: …
B32: Ecuador f/ | C32: 68.059899 | D32: 66.177048 | E32: 65.275815 | F32: 63.704033 | G32: 62.522913 | H32: 63.026916 | I32: 62.87481 | J32: 63.148764 | K32: 66.154702 | L32: 68.216927 | M32: 68.515375 | N32: 68.842196
B33: Hombre | C33: 83.161793 | D33: 81.628421 | E33: 80.161271 | F33: 78.885387 | G33: 77.941528 | H33: 78.106377 | I33: 77.572381 | J33: 78.775745 | K33: 80.461057 | L33: 80.984116 | M33: 81.122154 | N33: 81.104319
B34: Mujer | C34: 53.672114 | D34: 51.769192 | E34: 51.251029 | F34: 49.439357 | G34: 48.116265 | H34: 48.832964 | I34: 48.943187 | J34: 48.471705 | K34: 52.70843 | L34: 56.230355 | M34: 56.711056 | N34: 57.283282
B35: El Salvador g/ | C35: 62.079439 | D35: 62.70831 | E35: 62.764858 | F35: 62.513543 | G35: 62.702372 | H35: 63.239349 | I35: 63.649913 | J35: 62.790697 | K35: 62.122164 | L35: 62.235883 | M35: … | N35: …
B36: Hombre | C36: 81.005481 | D36: 81.349844 | E36: 81.012211 | F36: 80.89275 | G36: 81.198267 | H36: 81.354472 | I36: 80.651945 | J36: 80.685085 | K36: 80.225848 | L36: 80.135779 | M36: … | N36: …
B37: Mujer | C37: 46.749311 | D37: 47.279563 | E37: 47.587501 | F37: 47.263225 | G37: 47.032124 | H37: 47.889358 | I37: 49.282242 | J37: 47.813579 | K37: 46.706764 | L37: 47.261129 | M37: … | N37: …
B38: Guatemala h/ | C38: … | D38: … | E38: … | F38: 62.53 | G38: 61.7549 | H38: 65.42 | I38: 60.608609 | J38: 60.891926 | K38: 60.716796 | L38: 60.779928 | M38: 61.497327 | N38: 60.969075
B39: Hombre | C39: … | D39: … | E39: … | F39: 84.7 | G39: 84.61789 | H39: 87.615451 | I39: 83.425554 | J39: 83.763629 | K39: 84.744769 | L39: 84.002062 | M39: 83.623038 | N39: 84.329929
B40: Mujer | C40: … | D40: … | E40: … | F40: 42.9 | G40: 40.425453 | H40: 45.73591 | I40: 40.572857 | J40: 40.644143 | K40: 38.919001 | L40: 40.110508 | M40: 41.379255 | N40: 40.557102
B41: Honduras i/ | C41: 50.358511 | D41: 51.263564 | E41: 53.14761 | F41: 53.630139 | G41: 51.872497 | H41: 50.768158 | I41: 53.67195 | J41: 56.050978 | K41: 58.06611 | L41: 57.490802 | M41: 57.490802 | N41: 59.014519
B42: Hombre | C42: 69.773521 | D42: 69.945331 | E42: 72.282158 | F42: 71.034132 | G42: 70.401958 | H42: 69.159046 | I42: 72.13421 | J42: 73.596388 | K42: 74.035527 | L42: 74.031037 | M42: 74.031037 | N42: 76.048763
B43: Mujer | C43: 32.858688 | D43: 34.411929 | E43: 35.901169 | F43: 37.38656 | G43: 34.940761 | H43: 33.845867 | I43: 37.151071 | J43: 40.548481 | K43: 43.922691 | L43: 43.038253 | M43: 43.038253 | N43: 43.826462
B44: México | C44: 60.111638 | D44: 59.955501 | E44: 59.901608 | F44: 59.677574 | G44: 59.767401 | H44: 60.429943 | I44: 60.294008 | J44: 59.774413 | K44: 59.807244 | L44: 59.691277 | M44: 59.681015 | N44: 59.324446
B45: Hombre | C45: 80.321772 | D45: 79.963152 | E45: 79.020131 | F45: 78.719629 | G45: 78.476219 | H45: 78.802817 | I45: 78.489788 | J45: 78.257672 | K45: 77.985622 | L45: 77.719236 | M45: 77.651451 | N45: 77.626437
B46: Mujer | C46: 42.443693 | D46: 42.285374 | E46: 42.767683 | F46: 42.527421 | G46: 42.844965 | H46: 43.854282 | I46: 43.882547 | J46: 43.053954 | K46: 43.351205 | L46: 43.401512 | M46: 43.419838 | N46: 42.879169
B47: Nicaragua j/ | C47: 53.4 | D47: 53.3 | E47: 66.55 | F47: 71.175 | G47: 75.665737 | H47: 76.8 | I47: 75.8 | J47: 73.975 | K47: … | L47: … | M47: … | N47: …
B48: Hombre | C48: 94 | D48: 69.1 | E48: 82.925 | F48: 85.275 | G48: 88.098722 | H48: 87.7 | I48: 87.275 | J48: 85.8 | K48: … | L48: … | M48: … | N48: …
B49: Mujer | C49: 38.9 | D49: 38.6 | E49: 51.15 | F49: 57.875 | G49: 63.933395 | H49: 66.55 | I49: 65.1 | J49: 62.95 | K49: … | L49: … | M49: … | N49: …
B50: Panamá k/ | C50: 62.747477 | D50: 63.894522 | E50: 64.148414 | F50: 63.543239 | G50: 61.851816 | H50: 63.540545 | I50: 64.114743 | J50: 64.026504 | K50: 64.15033 | L50: 64.387367 | M50: 64.714921 | N50: 64.655315
B51: Hombre | C51: 79.26639 | D51: 81.539354 | E51: 80.909789 | F51: 80.399456 | G51: 79.153406 | H51: 80.128512 | I51: 79.719257 | J51: 79.355382 | K51: 78.35236 | L51: 78.608486 | M51: 78.88368 | N51: 78.062749
B52: Mujer | C52: 46.843662 | D52: 47.18986 | E52: 48.266195 | F52: 47.536343 | G52: 45.787564 | H52: 48.228107 | I52: 49.40805 | J52: 49.840056 | K52: 50.79868 | L52: 51.051939 | M52: 51.496911 | N52: 51.930558
B53: Paraguay l/ | C53: 60.775822 | D53: 62.187513 | E53: 63.135212 | F53: 60.764506 | G53: 61.063696 | H53: 64.437005 | I53: 62.428953 | J53: 62.323875 | K53: 62.060449 | L53: 62.642928 | M53: 66.4 | N53: 66.2
B54: Hombre | C54: 74.149055 | D54: 76.120048 | E54: 76.390185 | F54: 73.942774 | G54: 73.201024 | H54: 75.146989 | I54: 74.011053 | J54: 74.591176 | K54: 74.114845 | L54: 74.482457 | M54: 72.9 | N54: 73
B55: Mujer | C55: 47.737546 | D55: 48.266818 | E55: 49.628054 | F55: 47.385474 | G55: 49.038834 | H55: 53.740814 | I55: 52.660093 | J55: 50.091033 | K55: 50.200049 | L55: 50.788005 | M55: 60.35 | N55: 59.85
B56: Perú m/ | C56: 73.803031 | D56: 73.823228 | E56: 74.003421 | F56: 74.142916 | G56: 73.908697 | H56: 73.574402 | I56: 73.212449 | J56: 72.206958 | K56: 71.624382 | L56: 72.232933 | M56: 72.315013 | N56: 72.5
B57: Hombre | C57: 82.966877 | D57: 83.011846 | E57: 83.054085 | F57: 82.672272 | G57: 82.655731 | H57: 82.408876 | I57: 81.954676 | J57: 81.286008 | K57: 80.993191 | L57: 81.240701 | M57: 79.215873 | N57: 80.133683
B58: Mujer | C58: 64.697202 | D58: 64.695164 | E58: 65.014758 | F58: 65.674271 | G58: 65.226336 | H58: 64.807759 | I58: 64.539799 | J58: 63.201178 | K58: 62.335194 | L58: 63.303925 | M58: 62.153675 | N58: 64.077249
B59: República Dominicana n/ | C59: 49.905706 | D59: 50.004312 | E59: 48.359114 | F59: 49.592278 | G59: 50.987785 | H59: 51.435332 | I59: 51.325263 | J59: 52.342171 | K59: 61.819971 | L59: 62.312568 | M59: 62.288991 | N59: 62.185481
B60: Hombre | C60: 65.223365 | D60: 64.120555 | E60: 63.318619 | F60: 63.609889 | G60: 64.419374 | H60: 64.52602 | I60: 64.580209 | J60: 65.631754 | K60: 76.283929 | L60: 76.578639 | M60: 76.68388 | N60: 76.163612
B61: Mujer | C61: 34.796941 | D61: 36.174212 | E61: 33.571548 | F61: 35.795737 | G61: 37.628272 | H61: 38.385479 | I61: 38.205448 | J61: 39.151072 | K61: 48.140614 | L61: 48.916716 | M61: 48.821014 | N61: 49.046211
... B64: Mujer | C64: 52.746861 | D64: 53.613793 | E64: 54.279672 | F64: 53.984286 | G64: 55.849009 | H64: 55.649751 | I64: 54.440867 | J64: 55.949296 | K64: 55.371311 | L64: 55.350558 | M64: 55.407541 | N64: 55.049769
B65: Venezuela (Rep. Bol. de) o/ | C65: 64.871328 | D65: 64.897037 | E65: 65.06737 | F65: 64.491606 | G65: 64.350321 | H65: 63.879478 | I65: 64.253938 | J65: 65.071976 | K65: 63.734381 | L65: 63.961622 | M65: … | N65: …
B66: Hombre | C66: 79.847748 | D66: 79.863304 | E66: 79.362312 | F66: 79.043083 | G66: 78.588034 | H66: 77.840581 | I66: 78.119972 | J66: 79.0896 | K66: 77.864984 | L66: 77.916441 | M66: … | N66: …
B67: Mujer | C67: 50.03088 | D67: 50.149963 | E67: 50.925557 | F67: 50.105977 | G67: 50.288477 | H67: 50.10296 | I67: 50.583618 | J67: 51.264912 | K67: 49.819071 | L67: 50.221622 | M67: … | N67: …
B68: El Caribe
B69: Bahamas p/ | C69: 76.2 | D69: 76.3 | E69: 73.4 | F69: … | G69: 72.1 | H69: 72.45 | I69: 73.2 | J69: 73.65 | K69: 74.3 | L69: 76.9 | M69: 76.9 | N69: 80
B70: Hombre | C70: 82.8 | D70: 83 | E70: … | F70: … | G70: … | H70: 75.8 | I70: 76.85 | J70: 77.75 | K70: 79.5 | L70: 81.2 | M70: 81.2 | N70: 83
B71: Mujer | C71: 70.6 | D71: 70.8 | E71: … | F71: … | G71: … | H71: 69.45 | I71: 70.05 | J71: 70.05 | K71: 71.7 | L71: 72 | M71: 72 | N71: 74.9
B72: Barbados q/ | C72: 67.75 | D72: 67.6 | E72: 67 | F72: 66.55 | G72: 67.625 | H72: 66.2 | I72: 66.7 | J72: 63.867056 | K72: 65.1 | L72: 66.471259 | M72: 66.577765 | N72: 65.374211
B73: Hombre | C73: 74.3 | D73: 73.3 | E73: 72.3 | F73: 71.8 | G73: 72.7 | H73: 71.9 | I73: 72 | J73: 67.654669 | K73: 68.7 | L73: 70.4 | M73: 71.1 | N73: 69.3
B74: Mujer | C74: 61.9 | D74: 62.5 | E74: 62.2 | F74: 62 | G74: 63 | H74: 61 | I74: 62 | J74: 60.365199 | K74: 61.7 | L74: 62.825 | M74: 62.4 | N74: 62.4
B75: Belice r/ | C75: 61.202137 | D75: 59.174556 | E75: … | F75: … | G75: … | H75: 65.8 | I75: 64.179609 | J75: 63.621729 | K75: 63.17029 | L75: 64.034995 | M75: 63.73479 | N75: 64.250559
B76: Hombre | C76: 77.653113 | D76: … | E76: … | F76: … | G76: … | H76: 79.218047 | I76: 78.411335 | J76: 78.211111 | K76: 77.833497 | L76: 77.994749 | M76: 77.359505 | N76: 78.952849
B77: Mujer | C77: 43.339221 | D77: … | E77: … | F77: … | G77: … | H77: 52.6164 | I77: 50.056817 | J77: 49.192026 | K77: 48.788553 | L77: 50.24086 | M77: 50.258479 | N77: 49.679802
B78: Jamaica d/ | C78: 64.9 | D78: 65.454343 | E78: 63.534039 | F78: 62.374654 | G78: 62.14249 | H78: 61.888697 | I78: 63.007507 | J78: 62.8208 | K78: 63.133414 | L78: 64.772457 | M78: 64.759961 | N78: 65.292608
B79: Hombre | C79: 73.543721 | D79: 73.855634 | E79: 71.810425 | F79: 70.36657 | G79: 70.105935 | H79: 69.163191 | I79: 70.008253 | J79: 70.013281 | K79: 70.263796 | L79: 71.154414 | M79: 71.180904 | N79: 71.569789
B80: Mujer | C80: 56.471947 | D80: 57.500061 | E80: 55.694045 | F80: 54.806104 | G80: 54.974051 | H80: 54.879705 | I80: 56.262058 | J80: 55.891373 | K80: 56.264109 | L80: 58.624907 | M80: 58.574528 | N80: 59.246651
B81: Trinidad y Tabago s/ | C81: 63.5 | D81: 63.4875 | E81: 62.6525 | F81: 62.0875 | G81: 61.293333 | H81: 61.865 | I81: 61.36 | J81: 61.925 | K81: 60.6 | L81: 59.725 | M81: 60.1 | N81: 59.8
B82: Hombre | C82: … | D82: … | E82: … | F82: … | G82: … | H82: … | I82: … | J82: … | K82: … | L82: … | M82: … | N82: …
B83: Mujer | C83: … | D83: … | E83: … | F83: … | G83: … | H83: … | I83: … | J83: … | K83: … | L83: … | M83: … | N83: …
B84: América Latina y el Caribe t/ | C84: 61.629823 | D84: 61.608984 | E84: 62.023572 | F84: 61.751261 | G84: 61.590261 | H84: 62.27309 | I84: 62.041694 | J84: 61.874371 | K84: 61.9711 | L84: 62.017777 | M84: 61.7119 | N84: 61.771564
B85: América Latina y el Caribe - Hombre t/ | C85: 75.751504 | D85: 75.424724 | E85: 75.411222 | F85: 75.106805 | G85: 74.987603 | H85: 75.781873 | I85: 75.479518 | J85: 75.313839 | K85: 75.210589 | L85: 75.020943 | M85: 74.472221 | N85: 74.391767
B86: América Latina y el Caribe - Mujer t/ | C86: 48.698801 | D86: 48.730372 | E86: 49.487516 | F86: 49.236308 | G86: 48.989658 | H86: 49.690093 | I86: 49.563693 | J86: 49.350101 | K86: 49.613455 | L86: 49.917997 | M86: 49.803716 | N86: 50.156625
B88: Fuente: OIT con la base de información de las encuestas de hogares de los países.
B90: a/ 31 aglomerados urbanos. El INDEC, en el marco de la emergencia estadística declarada, recomienda desestimar las series publicadas entre el 2007 y 2015 para fines de comparación y análisis del mercado de trabajo en la República Argentina. El dato anual 2016 es el promedio del II, III y IV trimestre y el dato al III trimestre del 2016 y 2017 corresponden al II trimestre.
B92: b/ A partir del 2012 datos con base en PNADC serie no comparable con años anteriores.
B93: c/ Nueva medición a partir del 2010, datos no comparables con años anteriores.
B94: d/ Incluye la desocupación oculta.
B95: e/ Datos del 2007-09 corresponden a EHPM levantadas en julio de cada año. A partir del 2010 dato de la ECE, no comparable con años anteriores (el dato del 2010 es el promedio del III y IV trimestre).
B96: f/ A partir del 2007 cambia la edad de la PET de 10 a 15 años, no comparable con años anteriores. Incluye la desocupación oculta.
B97: g/ A partir del 2007 cambia la edad de la PET de 10 a 16 años, no comparable con años anteriores.
B98: h/ El dato al III trimestre del 2016 y 2017 corresponde al levantamiento de febrero - marzo.
B99: i/ Dato al III trimestre de 2016 y 2017 corresponde a junio.
B100: j/ Nueva medición (ECH) a partir del 2009. Datos no comparables con años anteriores.
B101: k/ Incluye desocupación oculta. El dato al III trimestre del 2016 y 2017 corresponde al dato de marzo.
... B111: t/ Promedio ponderado. Excluye la desocupación oculta de Colombia, Ecuador, Jamaica y Panamá.

Sheet C5N
A1: regresar al índice
B2: CUADRO 5
B3: AMÉRICA LATINA Y EL CARIBE: TASA DE PARTICIPACIÓN NACIONAL SEGÚN PAÍS Y TRAMO DE EDAD. 2007 - 2017.
B4: (tasas anuales medias)
B6: País | C6: 2007 | D6: 2008 | E6: 2009 | F6: 2010 | G6: 2011 | H6: 2012 | I6: 2013 | J6: 2014 | K6: 2015 | L6: 2016 | M6: 2016 | N6: 2017
M8: Promedio al III Trimestre
B10: América Latina
B11: Argentina a/ | C11: … | D11: … | E11: … | F11: … | G11: … | H11: … | I11: … | J11: … | K11: … | L11: 57.466667 | M11: 57.8 | N11: 57.4
B12: 15 - 24 | C12: … | D12: … | E12: … | F12: … | G12: … | H12: … | I12: … | J12: … | K12: … | L12: 38.340204 | M12: 38.416782 | N12: 38.087862
B13: 25 y más | C13: … | D13: … | E13: … | F13: … | G13: … | H13: … | I13: … | J13: … | K13: … | L13: 64.35056 | M13: 64.907451 | N13: 64.411454
B14: Bolivia (Estado Plur. de) | C14: 64.781492 | D14: 64.914132 | E14: 65.130174 | F14: … | G14: 65.930064 | H14: 61.128618 | I14: 63.354967 | J14: 65.846451 | K14: 61.042209 | L14: 65.61 | M14: … | N14: …
B15: 15 - 24 | C15: 52.151551 | D15: 51.582898 | E15: 51.265191 | F15: … | G15: 53.02607 | H15: 45.390529 | I15: 46.834459 | J15: 51.923147 | K15: 44.595996 | L15: … | M15: … | N15: …
B16: 25 y más | C16: 79.828727 | D16: 80.700501 | E16: 81.218527 | F16: … | G16: 80.044243 | H16: 78.172301 | I16: 77.904579 | J16: 79.13764 | K16: 75.904331 | L16: … | M16: … | N16: …
B17: Brasil b/ | C17: 62.026278 | D17: 61.970416 | E17: 62.104406 | F17: … | G17: 60.035104 | H17: 61.421818 | I17: 61.270418 | J17: 61.010623 | K17: 61.290656 | L17: 61.394864 | M17: 61.398297 | N17: 61.678409
B18: 15 - 24 | C18: 63.593685 | D18: 63.205352 | E18: 62.70307 | F18: … | G18: 59.139945 | H18: 51.940955 | I18: 50.616085 | J18: 49.359512 | K18: 49.621327 | L18: 49.853932 | M18: 49.901866 | N18: 50.794592
B19: 25 y más | C19: 70.153934 | D19: 70.188701 | E19: 70.314287 | F19: … | G19: 68.138864 | H19: 64.330066 | I19: 64.436028 | J19: 64.386527 | K19: 64.591035 | L19: 64.613738 | M19: 64.608232 | N19: 64.687372
B20: Chile c/ | C20: 54.940563 | D20: 56.040883 | E20: 55.867241 | F20: 58.466047 | G20: 59.800035 | H20: 59.547852 | I20: 59.550366 | J20: 59.79829 | K20: 59.66343 | L20: 59.461709 | M20: 59.43366 | N20: 59.583689
B21: 15 - 24 | C21: 32.123246 | D21: 34.191951 | E21: 33.305135 | F21: 37.487967 | G21: 38.424717 | H21: 37.130293 | I21: 36.271246 | J21: 36.005985 | K21: 35.735366 | L21: 34.573784 | M21: 34.683764 | N21: 34.263373
B22: 25 y más | C22: 61.595557 | D22: 62.295382 | E22: 62.256749 | F22: 64.375201 | G22: 65.655171 | H22: 65.538816 | I22: 65.629284 | J22: 65.89097 | K22: 65.610858 | L22: 65.349561 | M22: 65.356248 | N22: 65.232374
B23: Colombia d/ | C23: 58.290644 | D23: 58.5082 | E23: 61.278686 | F23: 62.727926 | G23: 63.662228 | H23: 64.532597 | I23: 64.150292 | J23: 64.229053 | K23: 64.731653 | L23: 64.474186 | M23: 64.172082 | N23: 64.232923
B24: 15 - 24 | C24: 53.014646 | D24: 47.635125 | E24: 51.469159 | F24: 52.363584 | G24: 53.686752 | H24: 55.094757 | I24: 53.990489 | J24: 53.927377 | K24: 54.105759 | L24: 53.103792 | M24: 53.047781 | N24: 52.908341
B25: 25 y más | C25: 61.05332 | D25: 69.178985 | E25: 71.512471 | F25: 72.827487 | G25: 73.303828 | H25: 73.984184 | I25: 73.76767 | J25: 73.77875 | K25: 74.096393 | L25: 73.847562 | M25: 73.726847 | N25: 73.53617
B26: Costa Rica e/ | C26: 56.983213 | D26: 56.713699 | E26: 56.506238 | F26: 60.709615 | G26: 58.994011 | H26: 62.791753 | I26: 62.280861 | J26: 62.531333 | K26: 61.244176 | L26: 58.38893 | M26: 57.843007 | N26: 59.400529
B27: 15 - 24 | C27: 51.41346 | D27: 49.097829 | E27: 47.367828 | F27: 44.239251 | G27: 43.384937 | H27: 48.306163 | I27: 47.952889 | J27: 48.208797 | K27: 45.916277 | L27: 43.151943 | M27: 41.921794 | N27: 44.478514
B28: 25 y más | C28: 65.276515 | D28: 65.231474 | E28: 65.246519 | F28: 66.490666 | G28: 64.007379 | H28: 67.177559 | I28: 66.710832 | J28: 66.801531 | K28: 65.762494 | L28: 62.834287 | M28: 62.518726 | N28: 63.591376
B29: Cuba | C29: 73.7 | D29: 74.745418 | E29: 75.408949 | F29: 74.863452 | G29: 76.06315 | H29: 74.181908 | I29: 72.906065 | J29: 71.93682 | K29: 69.132837 | L29: 65.167571 | M29: … | N29: …
B30: 15 - 24 | C30: … | D30: … | E30: … | F30: … | G30: … | H30: … | I30: … | J30: … | K30: … | L30: … | M30: … | N30: …
B31: 25 y más | C31: … | D31: … | E31: … | F31: … | G31: … | H31: … | I31: … | J31: … | K31: … | L31: … | M31: … | N31: …
B32: Ecuador f/ | C32: 68.059899 | D32: 66.177048 | E32: 65.275815 | F32: 63.704033 | G32: 62.522913 | H32: 63.026916 | I32: 62.87481 | J32: 63.148764 | K32: 66.154702 | L32: 68.216927 | M32: 68.515375 | N32: 68.842196
B33: 15 - 24 | C33: 52.936053 | D33: 51.217293 | E33: 49.997135 | F33: 46.351091 | G33: 43.067673 | H33: 43.932858 | I33: 42.205424 | J33: 41.147388 | K33: 43.516296 | L33: 45.613264 | M33: 46.070122 | N33: 45.990282
B34: 25 y más | C34: 73.698717 | D34: 71.75208 | E34: 71.068497 | F34: 69.936942 | G34: 69.172374 | H34: 69.334575 | I34: 69.922575 | J34: 70.993109 | K34: 74.148697 | L34: 76.113991 | M34: 76.374208 | N34: 76.727025
B35: El Salvador g/ | C35: 62.079439 | D35: 62.70831 | E35: 62.764858 | F35: 62.513543 | G35: 62.702372 | H35: 63.239349 | I35: 63.649913 | J35: 62.790697 | K35: 62.122164 | L35: 62.235883 | M35: … | N35: …
B36: 15 - 24 | C36: 49.902601 | D36: 51.378115 | E36: 50.44496 | F36: 49.427286 | G36: 46.345172 | H36: 50.269486 | I36: 49.571814 | J36: 49.096706 | K36: 45.839649 | L36: 48.536801 | M36: … | N36: …
B37: 25 y más | C37: 66.289262 | D37: 66.791373 | E37: 67.22031 | F37: 67.345292 | G37: 67.535279 | H37: 67.973729 | I37: 68.839383 | J37: 67.733771 | K37: 66.857358 | L37: 66.995177 | M37: … | N37: …
B38: Guatemala h/ | C38: … | D38: … | E38: … | F38: 62.53 | G38: 61.7549 | H38: 65.42 | I38: 60.608609 | J38: 60.891926 | K38: 60.716796 | L38: 60.779928 | M38: 61.497327 | N38: 60.969075
B39: 15 - 24 | C39: … | D39: … | E39: … | F39: 53.095697 | G39: 53.47922 | H39: 58.283081 | I39: 50.266795 | J39: 51.814764 | K39: 52.368771 | L39: 52.637977 | M39: 53.144917 | N39: 52.036521
B40: 25 y más | C40: … | D40: … | E40: … | F40: 67.157432 | G40: 66.11062 | H40: 68.840432 | I40: 65.675697 | J40: 65.256048 | K40: 64.807934 | L40: 64.67589 | M40: 65.615638 | N40: 65.016191
B41: Honduras i/ | C41: 50.358511 | D41: 51.263564 | E41: 53.14761 | F41: 53.630139 | G41: 51.872497 | H41: 50.768158 | I41: 53.67195 | J41: 56.050978 | K41: 58.06611 | L41: 57.490802 | M41: 57.490802 | N41: 59.014519
B42: 15 - 24 | C42: 48.282815 | D42: 49.447049 | E42: 50.471199 | F42: 51.45675 | G42: 49.862302 | H42: 48.069829 | I42: 51.577299 | J42: 52.304213 | K42: 56.590305 | L42: 55.500291 | M42: 55.500291 | N42: 56.686546
B43: 25 y más | C43: 64.480447 | D43: 65.620565 | E43: 67.150153 | F43: 67.384761 | G43: 65.187291 | H43: 63.666708 | I43: 66.406625 | J43: 68.288885 | K43: 69.027978 | L43: 67.727084 | M43: 67.727084 | N43: 68.91577
B44: México | C44: 60.111638 | D44: 59.955501 | E44: 59.901608 | F44: 59.677574 | G44: 59.767401 | H44: 60.429943 | I44: 60.294008 | J44: 59.774413 | K44: 59.807244 | L44: 59.691277 | M44: 59.681015 | N44: 59.324446
B45: 15 - 24 | C45: 48.370664 | D45: 47.750357 | E45: 46.939761 | F45: 47.085841 | G45: 46.88687 | H45: 47.256646 | I45: 46.366959 | J45: 45.560387 | K45: 44.820072 | L45: 44.220559 | M45: 44.254238 | N45: 43.629247
B46: 25 y más | C46: 64.37241 | D46: 64.331148 | E46: 64.510495 | F46: 64.16606 | G46: 64.270225 | H46: 64.950571 | I46: 64.951868 | J46: 64.416728 | K46: 64.615648 | L46: 64.556406 | M46: 64.539045 | N46: 64.199699
B47: Nicaragua j/ | C47: 53.4 | D47: 53.3 | E47: 66.55 | F47: 71.175 | G47: 75.665737 | H47: 76.8 | I47: 75.8 | J47: 73.975 | K47: … | L47: … | M47: … | N47: …
B48: 15 - 24 | C48: 47.42622 | D48: 48.339665 | E48: … | F48: 64.521909 | G48: 69.798139 | H48: 71.217349 | I48: … | J48: … | K48: … | L48: … | M48: … | N48: …
B49: 25 y más | C49: 65.41087 | D49: 66.668371 | E49: … | F49: 76.280666 | G49: 79.559128 | H49: 80.519755 | I49: … | J49: … | K49: … | L49: … | M49: … | N49: …
B50: Panamá k/ | C50: 62.747477 | D50: 63.894522 | E50: 64.148414 | F50: 63.543239 | G50: 61.851816 | H50: 63.540545 | I50: 64.114743 | J50: 64.026504 | K50: 64.15033 | L50: 64.387367 | M50: 64.714921 | N50: 64.655315
B51: 15 - 24 | C51: 48.455193 | D51: 50.595303 | E51: 49.787184 | F51: 47.829643 | G51: 44.133328 | H51: 46.277009 | I51: 46.893336 | J51: 45.19946 | K51: 43.890961 | L51: 44.23522 | M51: 45.818617 | N51: 45.215529
B52: 25 y más | C52: 67.634957 | D52: 68.316358 | E52: 68.653535 | F52: 68.424335 | G52: 66.783193 | H52: 68.632185 | I52: 69.534347 | J52: 69.784505 | K52: 70.386513 | L52: 70.776111 | M52: 70.486717 | N52: 70.590768
B53: Paraguay l/ | C53: 60.775822 | D53: 62.187513 | E53: 63.135212 | F53: 60.764506 | G53: 61.063696 | H53: 64.437005 | I53: 62.428953 | J53: 62.323875 | K53: 62.060449 | L53: 62.642928 | M53: 66.4 | N53: 66.2
B54: 15 - 24 | C54: 58.162417 | D54: 59.831078 | E54: 63.530874 | F54: 58.046691 | G54: 58.238663 | H54: 60.100324 | I54: 59.613726 | J54: 58.063152 | K54: 55.062436 | L54: 58.561525 | M54: 61.280612 | N54: 58.746821
B55: 25 y más | C55: 74.490799 | D55: 74.580528 | E55: 74.403364 | F55: 73.890253 | G55: 73.959952 | H55: 77.755052 | I55: 76.248971 | J55: 74.643435 | K55: 75.408873 | L55: 75.234347 | M55: 78.180127 | N55: 78.914963
B56: Perú m/ | C56: 73.803031 | D56: 73.823228 | E56: 74.003421 | F56: 74.142916 | G56: 73.908697 | H56: 73.574402 | I56: 73.212449 | J56: 72.206958 | K56: 71.624382 | L56: 72.232933 | M56: 72.315013 | N56: 72.5
B57: 15 - 24 | C57: 60.659252 | D57: 61.364064 | E57: 60.55269 | F57: 60.371956 | G57: 59.571938 | H57: 58.888746 | I57: 57.852786 | J57: 56.141103 | K57: 53.742409 | L57: 53.698065 | M57: 53.314401 | N57: 53.597857
B58: 25 y más | C58: 80.664164 | D58: 80.259504 | E58: 80.695928 | F58: 80.919946 | G58: 80.883945 | H58: 80.424147 | I58: 80.295649 | J58: 79.379267 | K58: 79.398959 | L58: 80.07127 | M58: 77.945715 | N58: 79.716696
B59: República Dominicana n/ | C59: 49.905706 | D59: 50.004312 | E59: 48.359114 | F59: 49.592278 | G59: 50.987785 | H59: 51.435332 | I59: 51.325263 | J59: 52.342171 | K59: 61.819971 | L59: 62.312568 | M59: 62.288991 | N59: 62.185481
B60: 15 - 24 | C60: 41.67918 | D60: 41.794647 | E60: 37.246841 | F60: 38.478367 | G60: 40.376708 | H60: 40.758804 | I60: 40.719907 | J60: 41.026248 | K60: 43.760316 | L60: 44.555305 | M60: 44.553052 | N60: 43.411496
B61: 25 y más | C61: 63.122036 | D61: 63.58804 | E61: 62.271712 | F61: 63.515922 | G61: 64.745142 | H61: 65.584616 | I61: 65.508799 | J61: 65.602238 | K61: 68.155626 | L61: 68.580832 | M61: 68.576124 | N61: 68.600513
... B64: 25 y más | C64: 65.870329 | D64: 66.406972 | E64: 67.264401 | F64: 66.864367 | G64: 68.756685 | H64: 68.129835 | I64: 67.688043 | J64: 68.948953 | K64: 68.510463 | L64: 68.369669 | M64: 68.398591 | N64: 68.033739
B65: Venezuela (Rep. Bol. de) p/ | C65: 64.871328 | D65: 64.897037 | E65: 65.06737 | F65: 64.491606 | G65: 64.350321 | H65: 63.879478 | I65: 64.253938 | J65: 65.071976 | K65: 63.734381 | L65: 63.961622 | M65: … | N65: …
B66: 15 - 24 | C66: 44.664704 | D66: 44.675205 | E66: 43.962199 | F66: 42.481202 | G66: 41.807431 | H66: 40.877335 | I66: 40.98959 | J66: 41.618714 | K66: 39.197351 | L66: 38.529746 | M66: … | N66: …
B67: 25 y más | C67: 72.439165 | D67: 72.527307 | E67: 72.677762 | F67: 72.490659 | G67: 72.280803 | H67: 71.842299 | I67: 72.025698 | J67: 72.618637 | K67: 71.482226 | L67: 71.856434 | M67: … | N67: …
B68: El Caribe
B69: Bahamas q/ | C69: 76.2 | D69: 76.3 | E69: 73.4 | F69: … | G69: 72.1 | H69: 72.45 | I69: 73.2 | J69: 73.65 | K69: 74.3 | L69: 76.9 | M69: 76.9 | N69: 80
B70: 15 - 24 | C70: … | D70: … | E70: … | F70: … | G70: … | H70: … | I70: … | J70: … | K70: … | L70: … | M70: … | N70: …
B71: 25 y más | C71: … | D71: … | E71: … | F71: … | G71: … | H71: … | I71: … | J71: … | K71: … | L71: … | M71: … | N71: …
B72: Barbados r/ | C72: 67.75 | D72: 67.6 | E72: 67 | F72: 66.55 | G72: 67.625 | H72: 66.2 | I72: 66.7 | J72: 63.867056 | K72: 65.1 | L72: 66.471259 | M72: 66.577765 | N72: 65.374211
B73: 15 - 24 | C73: … | D73: … | E73: … | F73: … | G73: … | H73: … | I73: … | J73: … | K73: … | L73: … | M73: … | N73: …
B74: 25 y más | C74: … | D74: … | E74: … | F74: … | G74: … | H74: … | I74: … | J74: … | K74: … | L74: … | M74: … | N74: …
B75: Belice s/ | C75: 61.202137 | D75: 59.174556 | E75: … | F75: … | G75: … | H75: 65.8 | I75: 64.179609 | J75: 63.621729 | K75: 63.17029 | L75: 64.034995 | M75: 63.73479 | N75: 64.250559
B76: 15 - 24 | C76: … | D76: … | E76: … | F76: … | G76: … | H76: 49.452649 | I76: 46.261553 | J76: 46.562648 | K76: 44.665551 | L76: 44.887764 | M76: 43.900936 | N76: 45.910307
B77: 25 y más | C77: … | D77: … | E77: … | F77: … | G77: … | H77: 73.915037 | I77: 73.44359 | J77: 72.957534 | K77: 73.014203 | L77: 73.78025 | M77: 73.811846 | N77: 73.566202
B78: Jamaica t/ | C78: 64.9 | D78: 65.454343 | E78: 63.534039 | F78: 62.374654 | G78: 62.14249 | H78: 61.888697 | I78: 63.007507 | J78: 62.8208 | K78: 63.133414 | L78: 64.772457 | M78: 64.759961 | N78: 65.292608
B79: 15 - 24 | C79: … | D79: … | E79: … | F79: … | G79: … | H79: 33.620505 | I79: 34.69929 | J79: 33.321962 | K79: 34.000682 | L79: 36.665533 | M79: 36.320682 | N79: 36.589398
B80: 25 y más | C80: … | D80: … | E80: … | F80: … | G80: … | H80: 72.969658 | I80: 74.093247 | J80: 74.385208 | K80: 74.539693 | L80: 75.775684 | M80: 75.891507 | N80: 76.510592
B81: Trinidad y Tabago u/ | C81: 63.5 | D81: 63.4875 | E81: 62.6525 | F81: 62.0875 | G81: 61.293333 | H81: 61.865 | I81: 61.36 | J81: 61.925 | K81: 60.6 | L81: 59.725 | M81: 60.1 | N81: 59.8
B82: 15 - 24 | C82: … | D82: … | E82: … | F82: … | G82: … | H82: … | I82: … | J82: … | K82: … | L82: … | M82: … | N82: …
B83: 25 y más | C83: … | D83: … | E83: … | F83: … | G83: … | H83: … | I83: … | J83: … | K83: … | L83: … | M83: … | N83: …
B85: América Latina y el Caribe v/ | C85: 61.629823 | D85: 61.608984 | E85: 62.023572 | F85: 61.751261 | G85: 61.590261 | H85: 62.27309 | I85: 62.041694 | J85: 61.874371 | K85: 61.9711 | L85: 62.017777 | M85: 61.7119 | N85: 61.771564
B86: América Latina y el Caribe - 15 a 24 años v/ | C86: 54.113036 | D86: 53.301394 | E86: 53.152209 | F86: 52.357946 | G86: 51.725828 | H86: 49.551765 | I86: 48.504698 | J86: 47.840675 | K86: 47.356133 | L86: 47.374801 | M86: 47.740691 | N86: 47.836221
B87: América Latina y el Caribe - 25 y más v/ | C87: 68.207314 | D87: 68.877393 | E87: 69.276229 | F87: 68.939097 | G87: 68.631207 | H87: 67.460409 | I87: 67.501349 | J87: 67.40708 | K87: 67.507146 | L87: 67.498209 | M87: 66.917689 | N87: 66.951439
B89: Fuente: OIT con la base de información de las encuestas de hogares de los países.
B91: a/ 31 aglomerados urbanos. El INDEC, en el marco de la emergencia estadística declarada, recomienda desestimar las series publicadas entre el 2007 y 2015 para fines de comparación y análisis del mercado de trabajo en la República Argentina. El dato anual 2016 es el promedio del II, III y IV trimestre y el dato al III trimestre del 2016 y 2017 corresponde al II trimestre.
B93: b/ A partir del 2012 datos con base en PNADC serie no comparable con años anteriores. El dato 15 - 24 corresponde a 14 -24.
B94: c/ Nueva medición a partir del 2010, datos no comparables con años anteriores.
B95: d/ Incluye la desocupación oculta. Dato del 2007 para el tramo 15 a 24 corresponde a 15 a 28 años. El dato de TP total de coyuntura del 2016 y 2017 corresponde al promedio al III trimestre y los datos por edad al promedio al II trimestre.
B97: e/ Datos del 2007-09 corresponden a EHPM levantadas en julio de cada año. A partir del 2010 dato de la ECE, no comparable con años anteriores (el dato del 2010 es el promedio del III y IV trimestre).
B98: f/ A partir del 2007 cambia la edad de la PET de 10 a 15 años, no comparable con años anteriores. Incluye la desocupación oculta.
B99: g/ A partir del 2007 cambia la edad de la PET de 10 a 16 años, no comparable con años anteriores.
B100: h/ El dato al III trimestre del 2016 y 2017 corresponde al levantamiento de febrero - marzo.
B101: i/ Dato al III trimestre de 2016 y 2017 corresponde a junio.
B102: j/ Nueva medición (ECH) a partir del 2009. Datos no comparables con años anteriores
B103: k/ Incluye desocupación oculta. El dato al III trimestre del 2016 y 2017 corresponde al levantamiento de marzo.
... B114: v/ Promedio ponderado.

Sheet C6N
A1: regresar al índice
B2: CUADRO 6
B3: AMÉRICA LATINA Y EL CARIBE: TASA DE OCUPACIÓN NACIONAL SEGÚN PAÍS Y SEXO. 2007 - 2017
B4: (tasas anuales medias)
B6: País | C6: 2007 | D6: 2008 | E6: 2009 | F6: 2010 | G6: 2011 | H6: 2012 | I6: 2013 | J6: 2014 | K6: 2015 | L6: 2016 | M6: 2016 | N6: 2017
M8: Promedio al III Trimestre
B10: América Latina
B11: Argentina a/ | C11: … | D11: … | E11: … | F11: … | G11: … | H11: … | I11: … | J11: … | K11: … | L11: 52.6 | M11: 52.4 | N11: 52.4
B12: Hombre | C12: … | D12: … | E12: … | F12: … | G12: … | H12: … | I12: … | J12: … | K12: … | L12: 63.966667 | M12: 63.7 | N12: 63.6
B13: Mujer | C13: … | D13: … | E13: … | F13: … | G13: … | H13: … | I13: … | J13: … | K13: … | L13: 42.5 | M13: 42.2 | N13: 42.4
B14: Bolivia (Estado Plur. de) | C14: 61.42883 | D14: 63.068396 | E14: 62.968301 | F14: … | G14: 64.182522 | H14: 59.71571 | I14: 61.546387 | J14: 64.305235 | K14: 58.897822 | L14: 63.4 | M14: … | N14: …
B15: Hombre | C15: 70.82385 | D15: 72.169454 | E15: 71.407263 | F15: … | G15: 73.056437 | H15: 69.200311 | I15: 70.991112 | J15: 73.739862 | K15: 69.9526 | L15: 73.06 | M15: … | N15: …
B16: Mujer | C16: 52.81301 | D16: 54.726079 | E16: 54.937702 | F16: … | G16: 55.677714 | H16: 50.917057 | I16: 52.80164 | J16: 55.32359 | K16: 48.23808 | L16: 54.33 | M16: … | N16: …
B17: Brasil b/ | C17: 56.968855 | D17: 57.544917 | E17: 56.932044 | F17: … | G17: 56.00286 | H17: 56.907361 | I17: 56.901583 | J17: 56.84917 | K17: 56.066714 | L17: 54.326475 | M17: 54.436218 | N17: 53.623652
B18: Hombre | C18: 67.958047 | D18: 68.640198 | E18: 67.775168 | F18: … | G18: 67.310489 | H18: 68.733255 | I18: 68.677386 | J18: 68.316752 | K18: 67.073489 | L18: 64.987851 | M18: 65.203925 | N18: 63.668691
B19: Mujer | C19: 46.681444 | D19: 47.193732 | E19: 46.83834 | F19: … | G19: 45.490044 | H19: 46.144947 | I19: 46.184865 | J19: 46.4141 | K19: 46.018323 | L19: 44.562317 | M19: 44.574294 | N19: 44.44692
B20: Chile c/ | C20: 51.020198 | D20: 51.671719 | E20: 50.454529 | F20: 53.703857 | G20: 55.542474 | H20: 55.718045 | I20: 56.017515 | J20: 55.976765 | K20: 55.95632 | L20: 55.60276 | M20: 55.492951 | N20: 55.54521
B21: Hombre | C21: 66.880669 | D21: 66.914748 | E21: 64.539181 | F21: 66.913288 | G21: 68.290757 | H21: 68.023563 | I21: 68.013677 | J21: 67.255736 | K21: 67.351704 | L21: 66.903752 | M21: 66.91245 | N21: 66.709294
B22: Mujer | C22: 35.744235 | D22: 36.984062 | E22: 36.8773 | F22: 40.966591 | G22: 43.244921 | H22: 43.837696 | I22: 44.431963 | J22: 45.07585 | K22: 44.933643 | L22: 44.660736 | M22: 44.437621 | N22: 44.725432
B23: Colombia | C23: 51.773823 | D23: 51.914 | E23: 53.922241 | F23: 55.346332 | G23: 56.781257 | H23: 57.839121 | I23: 57.968784 | J23: 58.385927 | K23: 58.956409 | L23: 58.531217 | M23: 58.031083 | N23: 58.028146
B24: Hombre | C24: 64.908826 | D24: 64.828226 | E24: 66.50522 | F24: 67.554199 | G24: 68.953989 | H24: 69.485107 | I24: 69.35079 | J24: 69.669036 | K24: 70.10141 | L24: 69.55775 | M24: 69.052657 | N24: 69.134617
B25: Mujer | C25: 39.237327 | D25: 39.590381 | E25: 41.91804 | F25: 43.706675 | G25: 45.168266 | H25: 46.710795 | I25: 47.089538 | J25: 47.597977 | K25: 48.297448 | L25: 47.983171 | M25: 47.488041 | N25: 47.401872
B26: Costa Rica d/ | C26: 54.363579 | D26: 53.907633 | E26: 52.086211 | F26: 55.296758 | G26: 52.919722 | H26: 56.402671 | I26: 56.440046 | J26: 56.513693 | K26: 55.356768 | L26: 52.819638 | M26: 52.326445 | N26: 54.055563
B27: Hombre | C27: 70.77393 | D27: 69.481261 | E27: 66.807558 | F27: 69.591838 | G27: 67.191517 | H27: 69.199074 | I27: 68.915081 | J27: 69.698389 | K27: 68.341263 | L27: 66.577503 | M27: 65.76735 | N27: 67.853705
B28: Mujer | C28: 38.74211 | D28: 39.106842 | E28: 37.951627 | F28: 40.821536 | G28: 38.476189 | H28: 43.456624 | I28: 43.826046 | J28: 43.191013 | K28: 42.240887 | L28: 38.934492 | M28: 38.76093 | N28: 40.138435
B29: Cuba | C29: 72.422002 | D29: 73.560587 | E29: 74.150306 | F29: 72.98912 | G29: 73.648003 | H29: 71.615146 | I29: 70.50931 | J29: 70.024799 | K29: 67.480702 | L29: 63.845084 | M29: … | N29: …
B30: Hombre | C30: 85.212183 | D30: 86.614617 | E30: 87.066167 | F30: 85.608016 | G30: 87.319234 | H30: 86.445783 | I30: 84.391353 | J30: 84.157588 | K30: 80.955168 | L30: 76.72338 | M30: … | N30: …
B31: Mujer | C31: 58.194789 | D31: 58.990814 | E31: 59.764539 | F31: 58.898463 | G31: 58.382078 | H31: 55.301264 | I31: 55.276291 | J31: 54.559136 | K31: 52.777052 | L31: 49.765668 | M31: … | N31: …
B32: Ecuador e/ | C32: 64.658024 | D32: 62.238546 | E32: 61.051615 | F32: 60.122708 | G32: 59.637771 | H32: 60.432162 | I32: 60.339851 | J32: 60.436158 | K32: 63.283377 | L32: 64.558682 | M32: 64.80745 | N32: 65.85289
B33: Hombre | C33: 79.971202 | D33: 78.078172 | E33: 76.018596 | F33: 75.303045 | G33: 74.977512 | H33: 75.272458 | I33: 74.884459 | J33: 75.858658 | K33: 77.636871 | L33: 77.512753 | M33: 77.7059 | N33: 78.340936
B34: Mujer | C34: 50.068945 | D34: 47.468656 | E34: 46.950017 | F34: 45.859313 | G34: 45.305093 | H34: 46.463128 | I34: 46.552645 | J34: 45.950894 | K34: 49.792826 | L34: 52.397605 | M34: 52.730257 | N34: 54.080972
B35: El Salvador f/ | C35: 58.148016 | D35: 59.018584 | E35: 58.162944 | F35: 58.108859 | G35: 58.553493 | H35: 59.399643 | I35: 59.877835 | J35: 58.397442 | K35: 57.769792 | L35: 57.891678 | M35: … | N35: …
B36: Hombre | C36: 74.383976 | D36: 75.277154 | E36: 73.700148 | F36: 74.089496 | G36: 74.573828 | H36: 75.43294 | I36: 75.130635 | J36: 73.748482 | K36: 73.487328 | L36: 73.614237 | M36: … | N36: …
B37: Mujer | C37: 44.996858 | D37: 45.562108 | E37: 45.239772 | F37: 44.848776 | G37: 44.98061 | H37: 45.813703 | I37: 46.988365 | J37: 45.549037 | K37: 44.386212 | L37: 44.738311 | M37: … | N37: …
B38: Guatemala g/ | C38: … | D38: … | E38: … | F38: 60.191378 | G38: 59.206776 | H38: 63.542446 | I38: 58.734685 | J38: 59.115061 | K38: 59.155098 | L38: 59.168157 | M38: 59.600747 | N38: 59.023479
B39: Hombre | C39: … | D39: … | E39: … | F39: 81.7355 | G39: 82.199032 | H39: 85.490804 | I39: 81.145854 | J39: 81.59708 | K39: 83.013622 | L39: 82.15545 | M39: 81.486834 | N39: 82.124855
B40: Mujer | C40: … | D40: … | E40: … | F40: 41.0982 | G40: 37.748666 | H40: 44.071843 | I40: 39.055249 | J40: 39.212256 | K40: 37.511025 | L40: 38.707763 | M40: 39.700555 | N40: 38.83823
B41: Honduras h/ | C41: 48.820497 | D41: 49.699926 | E41: 51.484381 | F41: 51.512983 | G41: 49.659268 | H41: 48.945297 | I41: 51.575737 | J41: 53.073101 | K41: 53.809711 | L41: 53.249145 | M41: 53.249145 | N41: 55.071601
B42: Hombre | C42: 68.022203 | D42: 68.073969 | E42: 70.420824 | F42: 68.749977 | G42: 68.098025 | H42: 67.183151 | I42: 69.749045 | J42: 70.318306 | K42: 70.806424 | L42: 70.222722 | M42: 70.222722 | N42: 72.976212
B43: Mujer | C43: 31.512937 | D43: 33.125869 | E43: 34.416498 | F43: 35.425269 | G43: 32.810415 | H43: 32.16382 | I43: 35.313426 | J43: 37.835854 | K43: 38.756461 | L43: 38.417978 | M43: 38.417978 | N43: 39.107508
B44: México | C44: 57.920218 | D44: 57.615786 | E44: 56.680217 | F44: 56.497478 | G44: 56.662567 | H44: 57.454994 | I44: 57.31367 | J44: 56.872091 | K44: 57.21422 | L44: 57.372122 | M44: 57.292902 | N44: 57.266879
B45: Hombre | C45: 77.57243 | D45: 76.922278 | E45: 74.769903 | F45: 74.469156 | G45: 74.381167 | H45: 74.921228 | I45: 74.631929 | J45: 74.430999 | K45: 74.670547 | L45: 74.72794 | M45: 74.576532 | N45: 75.020637
B46: Mujer | C46: 40.740089 | D46: 40.565241 | E46: 40.468634 | F46: 40.311504 | G46: 40.635872 | H46: 41.697302 | I46: 41.69365 | J46: 40.982271 | K46: 41.41177 | L46: 41.689831 | M46: 41.653299 | N46: 41.314224
B47: Nicaragua i/ | C47: 50.2494 | D47: 50.0487 | E47: 61.325 | F47: 65.6 | G47: 71.6722 | H47: 72.3 | I47: 71.45 | J47: 69.125 | K47: … | L47: … | M47: … | N47: …
B48: Hombre | C48: 64.766 | D48: 65.2304 | E48: 77.075 | F48: 79.125 | G48: 83.922166 | H48: 82.925 | I48: 82.4 | J48: 80.5 | K48: … | L48: … | M48: … | N48: …
B49: Mujer | C49: 36.6438 | D49: 35.7436 | E49: 46.525 | F49: 52.825 | G49: 60.112563 | H49: 62.225 | I49: 61.2 | J49: 58.525 | K49: … | L49: … | M49: … | N49: …
B50: Panamá j/ | C50: 58.749447 | D50: 60.330137 | E50: 59.942188 | F50: 59.40285 | G50: 59.079969 | H50: 60.969876 | I50: 61.487056 | J50: 60.938702 | K50: 60.909284 | L50: 60.84974 | M50: 61.078669 | N50: 61.064601
B51: Hombre | C51: 75.319778 | D51: 77.972771 | E51: 76.773172 | F51: 76.149601 | G51: 75.823405 | H51: 77.357222 | I51: 77.074219 | J51: 76.18756 | K51: 75.036013 | L51: 74.922988 | M51: 75.281771 | N51: 74.457355
B52: Mujer | C52: 42.796129 | D52: 43.627556 | E52: 43.994011 | F52: 43.499906 | G52: 43.533953 | H52: 45.84263 | I52: 46.796714 | J52: 46.826311 | K52: 47.628427 | L52: 47.652973 | M52: 47.82862 | N52: 48.353777
B53: Paraguay k/ | C53: 57.425759 | D53: 58.672893 | E53: 59.130261 | F53: 57.318678 | G53: 57.675116 | H53: 61.490508 | I53: 59.294492 | J53: 58.560689 | K53: 58.739458 | L53: 58.88533 | M53: 60.938571 | N53: 60.483669
B54: Hombre | C54: 71.01207 | D54: 72.597867 | E54: 72.324481 | F54: 70.558058 | G54: 70.029277 | H54: 72.383286 | I54: 70.655978 | J54: 71.147536 | K54: 70.518429 | L54: 70.783198 | M54: 68.120389 | N54: 67.949428
B55: Mujer | C55: 44.179741 | D55: 44.759751 | E55: 45.685011 | F55: 43.877603 | G55: 45.435431 | H55: 50.611759 | I55: 49.658759 | J55: 46.0092 | K55: 47.150049 | L55: 46.971991 | M55: 54.223434 | N55: 53.489122
B56: Perú l/ | C56: 70.306123 | D56: 70.418713 | E56: 70.695367 | F56: 71.099847 | G56: 70.934739 | H56: 70.836742 | I56: 70.31949 | J56: 69.566894 | K56: 69.109895 | L56: 69.213612 | M56: 69.026069 | N56: 69.2614
B57: Hombre | C57: 79.3864 | D57: 79.646024 | E57: 79.502487 | F57: 79.685438 | G57: 79.572735 | H57: 79.793785 | I57: 79.184101 | J57: 78.539118 | K57: 78.232566 | L57: 78.089862 | M57: 75.633299 | N57: 76.593531
B58: Mujer | C58: 61.283334 | D58: 61.252212 | E58: 61.948579 | F58: 62.575368 | G58: 62.36061 | H58: 61.948471 | I58: 61.525428 | J58: 60.667077 | K58: 60.064754 | L58: 60.414972 | M58: 59.100067 | N58: 60.774572
B59: República Dominicana m/ | C59: 47.406757 | D59: 47.677091 | E59: 45.789697 | F59: 47.112261 | G59: 48.038349 | H59: 48.098768 | I59: 47.712582 | J59: 48.999891 | K59: 57.291011 | L59: 57.902546 | M59: 57.728943 | N59: 58.675668
B60: Hombre | C60: 62.814985 | D60: 62.107681 | E60: 60.789355 | F60: 61.13523 | G60: 61.596695 | H60: 61.397516 | I60: 61.332275 | J60: 62.683024 | K60: 72.304191 | L60: 72.916693 | M60: 72.841179 | N60: 73.059872
B61: Mujer | C61: 32.208659 | D61: 33.539014 | E61: 30.96244 | F61: 33.310446 | G61: 34.552759 | H61: 34.841505 | I61: 34.231739 | J61: 35.418158 | K61: 43.092217 | L61: 43.80425 | M61: 43.588336 | N61: 45.154373
... B64: Mujer | C64: 46.119871 | D64: 47.846264 | E64: 48.657856 | F64: 48.919828 | G64: 51.331789 | H64: 51.052015 | I64: 49.969402 | J64: 51.277662 | K64: 50.472858 | L64: 50.121817 | M64: 50.087191 | N64: 49.701519
B65: Venezuela (Rep. Bol. de) n/ | C65: 59.397001 | D65: 60.183093 | E65: 59.958074 | F65: 58.886176 | G65: 59.016491 | H65: 58.727503 | I65: 59.254296 | J65: 60.426612 | K65: 59.248532 | L65: 59.273214 | M65: … | N65: …
B66: Hombre | C66: 73.515656 | D66: 74.268717 | E66: 73.471566 | F66: 72.346895 | G66: 72.560481 | H66: 72.057828 | I66: 72.575198 | J66: 73.785464 | K66: 72.721752 | L66: 72.427061 | M66: … | N66: …
B67: Mujer | C67: 45.406547 | D67: 46.216825 | E67: 46.589385 | F67: 45.578937 | G67: 45.639857 | H67: 45.573462 | I67: 46.121472 | J67: 47.120734 | K67: 45.980593 | L67: 46.321861 | M67: … | N67: …
B68: El Caribe
B69: Bahamas o/ | C69: 70.215943 | D69: 69.659417 | E69: 62.145892 | F69: … | G69: 60.643958 | H69: 62.041828 | I69: 61.6477 | J69: 62.870709 | K69: 64.356338 | L69: 67.096924 | M69: 67.096924 | N69: 72.116558
B70: Hombre | C70: 77.2524 | D70: 76.609 | E70: … | F70: … | G70: … | H70: 64.424768 | I70: 64.894222 | J70: 67.238697 | K70: 70.080146 | L70: 72.159906 | M70: 72.159906 | N70: 75.647531
B71: Mujer | C71: 64.1754 | D71: 63.9324 | E71: … | F71: … | G71: … | H71: 59.931804 | I71: 58.833987 | J71: 59.007781 | K71: 60.969046 | L71: 61.589658 | M71: 61.589658 | N71: 66.715586
B72: Barbados p/ | C72: 62.774521 | D72: 62.1 | E72: 60.31202 | F72: 59.456929 | G72: 60.056127 | H72: 58.524054 | I72: 58.9169 | J72: 56.018415 | K72: 57.7437 | L72: 60.053788 | M72: 60.114611 | N72: 58.57349
B73: Hombre | C73: 69.5448 | D73: 68.2423 | E73: 64.9977 | F73: 63.9738 | G73: 65.5754 | H73: 64.0629 | I73: 63.576 | J73: 59.680075 | K73: 60.2499 | L73: 63.86955 | M73: 64.66545 | N73: 62.1621
B74: Mujer | C74: 56.6385 | D74: 56.5625 | E74: 56.1044 | F74: 55.428 | G74: 55.062 | H74: 53.497 | I74: 54.808 | J74: 52.631579 | K74: 55.3449 | L74: 56.49225 | M74: 55.8792 | N74: 55.8168
B75: Belice q/ | C75: 55.984401 | D75: 54.345143 | E75: … | F75: … | G75: … | H75: 55.718279 | I75: 56.7 | J75: 56.26061 | K75: 56.762643 | L75: 57.931517 | M75: 58.65271 | N75: 58.476273
B76: Hombre | C76: 72.100843 | D76: … | E76: … | F76: … | G76: … | H76: 70.904287 | I76: 72.252157 | J76: 73.312564 | K76: 72.521304 | L76: 73.64781 | M76: 74.068722 | N76: 75.160991
B77: Mujer | C77: 36.4859 | D77: … | E77: … | F77: … | G77: … | H77: 40.86935 | I77: 39.637229 | J77: 39.395704 | K77: 41.175827 | L77: 42.400848 | M77: 43.403823 | N77: 41.940823
B78: Jamaica | C78: 58.418869 | D78: 58.535326 | E78: 56.313605 | F78: 54.651293 | G78: 54.260518 | H78: 53.268403 | I78: 53.397387 | J78: 54.189653 | K78: 54.603458 | L78: 56.231111 | M78: 56.155785 | N78: 57.421226
B79: Hombre | C79: 69.015122 | D79: 68.467792 | E79: 65.69086 | F79: 63.886822 | G79: 63.609553 | H79: 61.89728 | I79: 62.149157 | J79: 62.944824 | K79: 63.309616 | L79: 64.329891 | M79: 64.193095 | N79: 65.254872
B80: Mujer | C80: 48.299764 | D80: 49.130978 | E80: 47.431715 | F80: 45.903392 | G80: 45.795341 | H80: 44.954454 | I80: 44.964789 | J80: 45.754678 | K80: 46.216092 | L80: 48.429805 | M80: 48.413259 | N80: 49.876278
B81: Trinidad y Tabago r/ | C81: 59.9 | D81: 60.551956 | E81: 59.366269 | F81: 58.400705 | G81: 58.20091 | H81: 58.799044 | I81: 59.107368 | J81: 59.888559 | K81: 58.521849 | L81: 57.375101 | M81: 57.884381 | N81: 57.085474
B82: Hombre | C82: … | D82: … | E82: … | F82: … | G82: … | H82: … | I82: … | J82: … | K82: … | L82: … | M82: … | N82: …
B83: Mujer | C83: … | D83: … | E83: … | F83: … | G83: … | H83: … | I83: … | J83: … | K83: … | L83: … | M83: … | N83: …
B84: América Latina y el Caribe s/ | C84: 57.5 | D84: 57.801078 | E84: 57.560745 | F84: 57.54699 | G84: 57.694403 | H84: 58.290182 | I84: 58.166285 | J84: 58.111726 | K84: 57.923273 | L84: 57.234981 | M84: 56.708784 | N84: 56.480463
B85: América Latina y el Caribe - Hombre s/ | C85: 71.4 | D85: 71.620639 | E85: 70.861659 | F85: 70.824534 | G85: 71.053798 | H85: 71.66051 | I85: 71.437645 | J85: 71.30447 | K85: 70.947061 | L85: 69.937272 | M85: 69.209598 | N85: 68.853186
B86: América Latina y el Caribe - Mujer s/ | C86: 44.606865 | D86: 44.905624 | E86: 45.104689 | F86: 45.09832 | G86: 45.13737 | H86: 45.846178 | I86: 45.834785 | J86: 45.810109 | K86: 45.766091 | L86: 45.403372 | M86: 44.930257 | N86: 44.982725
B88: Fuente: OIT con la base de información de las encuestas de hogares de los países.
B90: a/ 31 aglomerados urbanos. El INDEC, en el marco de la emergencia estadística declarada, recomienda desestimar las series publicadas entre el 2007 y 2015 para fines de comparación y análisis del mercado de trabajo en la República Argentina. El dato anual 2016 es el promedio del II, III y IV trimestre y el dato al III trimestre del 2016 y 2017 corresponden al II trimestre.
B92: b/ A partir del 2012 datos con base en PNADC serie no comparable con años anteriores.
B93: c/ Nueva medición a partir del 2010, datos no comparables con años anteriores.
B94: d/ Datos del 2007-09 corresponden a EHPM levantadas en julio de cada año. A partir del 2010 dato de la ECE, no comparable con años anteriores (el dato del 2010 es el promedio del III y IV trimestre).
B95: e/ A partir del 2007 cambia la edad de la PET de 10 a 15 años, no comparable con años anteriores.
B96: f/ A partir del 2007 cambia la edad de la PET de 10 a 16 años, no comparable con años anteriores.
B97: g/ El dato al III trimestre del 2016 y 2017 corresponde al levantamiento de febrero-marzo.
B98: h/ Dato al III trimestre de 2016 y 2017 corresponde a junio.
B99: i/ Nueva medición (ECH) a partir del 2009. Datos no comparables con años anteriores.
B100: j/ El dato al III trimestre del 2016 y 2017 corresponde al levantamiento de marzo.
B101: k/ Serie anual con base en la EPH. El dato al III trimestre del 2016 y 2017 corresponde al I semestre y proviene de la ECE (Asunción y áreas urbanas del Departamento Central).
... B110: s/ Promedio ponderado.

Sheet C7N
A1: regresar al índice
B2: CUADRO 7
B3: AMÉRICA LATINA Y EL CARIBE: TASA DE OCUPACIÓN NACIONAL SEGUN PAÍS Y TRAMO DE EDAD. 2007 - 2017
B4: (tasas anuales medias)
B6: País | C6: 2007 | D6: 2008 | E6: 2009 | F6: 2010 | G6: 2011 | H6: 2012 | I6: 2013 | J6: 2014 | K6: 2015 | L6: 2016 | M6: 2016 | N6: 2017
M8: Promedio al III Trimestre
B10: América Latina
B11: Argentina a/ | C11: … | D11: … | E11: … | F11: … | G11: … | H11: … | I11: … | J11: … | K11: … | L11: 52.6 | M11: 52.4 | N11: 52.4
B12: 15 - 24 | C12: … | D12: … | E12: … | F12: … | G12: … | H12: … | I12: … | J12: … | K12: … | L12: 29.18835 | M12: 28.857473 | N12: 29.285641
B13: 25 y más | C13: … | D13: … | E13: … | F13: … | G13: … | H13: … | I13: … | J13: … | K13: … | L13: 60.537237 | M13: 60.552889 | N13: 60.360361
B14: Bolivia (Estado Plur. de) | C14: 61.42883 | D14: 63.068396 | E14: 62.968301 | F14: … | G14: 64.182522 | H14: 59.71571 | I14: 61.546387 | J14: 64.305235 | K14: 58.897822 | L14: 63.4 | M14: … | N14: …
B15: 15 - 24 | C15: 46.160325 | D15: 48.171258 | E15: 48.102948 | F15: … | G15: 49.716577 | H15: 43.438217 | I15: 43.598939 | J15: 49.074837 | K15: 41.007043 | L15: … | M15: … | N15: …
B16: 25 y más | C16: 77.085484 | D16: 79.127941 | E16: 79.023924 | F16: … | G16: 78.648268 | H16: 76.701154 | I16: 76.327178 | J16: 77.846897 | K16: 73.939161 | L16: … | M16: … | N16: …
B17: Brasil b/ | C17: 56.968855 | D17: 57.544917 | E17: 56.932044 | F17: … | G17: 56.00286 | H17: 56.907361 | I17: 56.901583 | J17: 56.84917 | K17: 56.066714 | L17: 54.326475 | M17: 54.436218 | N17: 53.623652
B18: 15 - 24 | C18: 52.910009 | D18: 53.410981 | E18: 51.528685 | F18: … | G18: 50.065617 | H18: 43.432982 | I18: 42.428078 | J18: 41.401322 | K18: 39.677761 | L18: 36.308892 | M18: 36.462269 | N18: 35.658891
B19: 25 y más | C19: 66.234771 | D19: 66.838801 | E19: 66.281722 | F19: … | G19: 65.033088 | H19: 61.041001 | I19: 61.202496 | J19: 61.324972 | K19: 60.702202 | L19: 59.351854 | M19: 59.454957 | N19: 58.591778
B20: Chile c/ | C20: 51.020198 | D20: 51.671719 | E20: 50.454529 | F20: 53.703857 | G20: 55.542474 | H20: 55.718045 | I20: 56.017515 | J20: 55.976765 | K20: 55.95632 | L20: 55.60276 | M20: 55.492951 | N20: 55.54521
B21: 15 - 24 | C21: 26.392005 | D21: 27.453797 | E21: 25.786543 | F21: 30.533057 | G21: 31.694903 | H21: 31.090581 | I21: 30.447562 | J21: 30.088701 | K21: 30.209716 | L21: 29.162797 | M21: 29.154409 | N21: 28.498414
B22: 25 y más | C22: 58.203359 | D22: 58.604367 | E22: 57.440414 | F22: 60.232163 | G22: 62.07662 | H22: 62.312048 | I22: 62.696742 | J22: 62.610464 | K22: 62.359172 | L22: 61.859041 | M22: 61.796887 | N22: 61.579187
B23: Colombia d/ | C23: 51.773823 | D23: 51.914 | E23: 53.922241 | F23: 55.346332 | G23: 56.781257 | H23: 57.839121 | I23: 57.968784 | J23: 58.385927 | K23: 58.956409 | L23: 58.531217 | M23: 58.031083 | N23: 58.028146
B24: 15 - 24 | C24: 43.004628 | D24: 37.305751 | E24: 39.8605 | F24: 40.773817 | G24: 42.543531 | H24: 44.311488 | I24: 44.186489 | J24: 44.375054 | K24: 45.036742 | L24: 43.795413 | M24: 43.174825 | N24: 43.277606
B25: 25 y más | C25: 56.369769 | D25: 63.751385 | E25: 65.40355 | F25: 66.800767 | G25: 67.810583 | H25: 68.54363 | I25: 68.683019 | J25: 69.026004 | K25: 69.347145 | L25: 68.908924 | M25: 68.487985 | N25: 68.13705
B26: Costa Rica e/ | C26: 54.363579 | D26: 53.907633 | E26: 52.086211 | F26: 55.296758 | G26: 52.919722 | H26: 56.402671 | I26: 56.440046 | J26: 56.513693 | K26: 55.356768 | L26: 52.819638 | M26: 52.326445 | N26: 54.055563
B27: 15 - 24 | C27: 45.899736 | D27: 43.690563 | E27: 38.884309 | F27: 34.705897 | G27: 33.680738 | H27: 37.132014 | I27: 37.181616 | J27: 36.107435 | K27: 35.33478 | L27: 33.169464 | M27: 32.326212 | N27: 34.699427
B28: 25 y más | C28: 63.518103 | D28: 63.105391 | E28: 61.876221 | F28: 62.523575 | G28: 59.086163 | H28: 62.240747 | I28: 62.390789 | J28: 62.601987 | K28: 61.258799 | L28: 58.552532 | M28: 58.200177 | N28: 59.488832
B29: Cuba | C29: 72.422002 | D29: 73.560587 | E29: 74.150306 | F29: 72.98912 | G29: 73.648003 | H29: 71.615146 | I29: 70.50931 | J29: 70.024799 | K29: 67.480702 | L29: 63.845084 | M29: … | N29: …
B30: 15 - 24 | C30: … | D30: … | E30: … | F30: … | G30: … | H30: … | I30: … | J30: … | K30: … | L30: … | M30: … | N30: …
B31: 25 y más | C31: … | D31: … | E31: … | F31: … | G31: … | H31: … | I31: … | J31: … | K31: … | L31: … | M31: … | N31: …
B32: Ecuador f/ | C32: 64.658024 | D32: 62.238546 | E32: 61.051615 | F32: 60.122708 | G32: 59.637771 | H32: 60.432162 | I32: 60.339851 | J32: 60.436158 | K32: 63.283377 | L32: 64.558682 | M32: 64.80745 | N32: 65.85289
B33: 15 - 24 | C33: 47.26359 | D33: 44.143212 | E33: 42.927833 | F33: 40.479446 | G33: 37.939048 | H33: 39.213159 | I33: 37.617909 | J33: 36.517115 | K33: 38.99818 | L33: 40.171383 | M33: 40.656967 | N33: 41.684676
B34: 25 y más | C34: 71.143414 | D34: 68.98211 | E34: 67.922974 | F34: 67.183983 | G34: 67.054968 | H34: 67.444178 | I34: 68.087938 | J34: 68.964085 | K34: 71.857065 | L34: 73.080471 | M34: 73.263535 | N34: 74.191916
B35: El Salvador g/ | C35: 58.148016 | D35: 59.018584 | E35: 58.162944 | F35: 58.108859 | G35: 58.553493 | H35: 59.399643 | I35: 59.877835 | J35: 58.397442 | K35: 57.769792 | L35: 57.891678 | M35: … | N35: …
B36: 15 - 24 | C36: 44.197359 | D36: 45.665062 | E36: 43.398122 | F36: 42.645726 | G36: 40.669912 | H36: 44.035119 | I36: 43.404231 | J36: 41.724548 | K36: 39.424656 | L36: 41.668581 | M36: … | N36: …
B37: 25 y más | C37: 62.97109 | D37: 63.830793 | E37: 63.502595 | F37: 63.818204 | G37: 64.148259 | H37: 65.008144 | I37: 65.950337 | J37: 64.415801 | K37: 63.440396 | L37: 63.527857 | M37: … | N37: …
B38: Guatemala h/ | C38: … | D38: … | E38: … | F38: 60.191378 | G38: 59.206776 | H38: 63.542446 | I38: 58.734685 | J38: 59.115061 | K38: 59.155098 | L38: 59.168157 | M38: 59.600747 | N38: 59.023479
B39: 15 - 24 | C39: … | D39: … | E39: … | F39: 49.99528 | G39: 49.447465 | H39: 55.426758 | I39: 47.378857 | J39: 48.635181 | K39: 49.367289 | L39: 49.574813 | M39: 49.681126 | N39: 48.624646
B40: 25 y más | C40: … | D40: … | E40: … | F40: 65.191499 | G40: 64.329312 | H40: 67.428355 | I40: 64.298601 | J40: 64.153581 | K40: 63.951835 | L40: 63.758618 | M40: 64.4918 | N40: 63.734931
B41: Honduras i/ | C41: 48.820497 | D41: 49.699926 | E41: 51.484381 | F41: 51.512983 | G41: 49.659268 | H41: 48.945297 | I41: 51.575737 | J41: 53.073101 | K41: 53.809711 | L41: 53.249145 | M41: 53.249145 | N41: 55.071601
B42: 15 - 24 | C42: 45.65435 | D42: 46.734763 | E42: 47.453308 | F42: 47.615724 | G42: 45.89308 | H42: 44.763885 | I42: 47.916048 | J42: 47.411775 | K42: 48.569449 | L42: 46.653001 | M42: 46.653001 | N42: 49.040992
B43: 25 y más | C43: 63.028884 | D43: 64.18446 | E43: 65.678638 | F43: 65.530374 | G43: 63.242117 | H43: 62.064578 | I43: 64.471499 | J43: 65.547047 | K43: 65.818194 | L43: 64.936917 | M43: 64.936917 | N43: 66.198802
B44: México | C44: 57.920218 | D44: 57.615786 | E44: 56.680217 | F44: 56.497478 | G44: 56.662567 | H44: 57.454994 | I44: 57.31367 | J44: 56.872091 | K44: 57.21422 | L44: 57.372122 | M44: 57.292902 | N44: 57.266879
B45: 15 - 24 | C45: 44.88607 | D45: 44.073084 | E45: 42.198708 | F45: 42.486984 | G45: 42.273693 | H45: 42.796075 | I45: 41.972144 | J45: 41.244433 | K45: 40.961019 | L45: 40.804099 | M45: 40.719056 | N45: 40.587578
B46: 25 y más | C46: 62.650184 | D46: 62.470269 | E46: 61.827402 | F46: 61.491694 | G46: 61.692139 | H46: 62.485116 | I46: 62.444513 | J46: 61.99528 | K46: 62.428399 | L46: 62.582752 | M46: 62.511985 | N46: 62.447581
B47: Nicaragua j/ | C47: 50.2494 | D47: 50.0487 | E47: 61.325 | F47: 65.6 | G47: 71.6722 | H47: 72.3 | I47: 71.45 | J47: 69.125 | K47: … | L47: … | M47: … | N47: …
B48: 15 - 24 | C48: 43.93472 | D48: 43.706988 | E48: … | F48: 56.835507 | G48: 64.371938 | H48: 64.812041 | I48: … | J48: … | K48: … | L48: … | M48: … | N48: …
B49: 25 y más | C49: 62.480973 | D49: 63.415551 | E49: … | F49: 71.483946 | G49: 76.087205 | H49: 76.664512 | I49: … | J49: … | K49: … | L49: … | M49: … | N49: …
B50: Panamá k/ | C50: 58.749447 | D50: 60.330137 | E50: 59.942188 | F50: 59.40285 | G50: 59.079969 | H50: 60.969876 | I50: 61.487056 | J50: 60.938702 | K50: 60.909284 | L50: 60.84974 | M50: 61.078669 | N50: 61.064601
B51: 15 - 24 | C51: 41.270335 | D51: 43.690912 | E51: 42.206836 | F51: 40.668989 | G51: 38.679748 | H51: 41.510521 | I51: 41.846581 | J51: 39.517759 | K51: 38.153639 | L51: 38.191697 | M51: 38.746067 | N51: 38.547634
B52: 25 y más | C52: 64.726716 | D52: 65.862485 | E52: 65.505772 | F52: 65.222128 | G52: 64.794106 | H52: 66.743356 | I52: 67.667943 | J52: 67.490013 | K52: 67.913864 | L52: 68.032916 | M52: 67.900067 | N52: 67.939594
B53: Paraguay l/ | C53: 57.425759 | D53: 58.672893 | E53: 59.130261 | F53: 57.318678 | G53: 57.675116 | H53: 61.490508 | I53: 59.294492 | J53: 58.560689 | K53: 58.739458 | L53: 58.88533 | M53: 60.938571 | N53: 60.483669
B54: 15 - 24 | C54: 51.229698 | D54: 52.836629 | E54: 55.204629 | F54: 50.767302 | G54: 50.89885 | H54: 53.864874 | I54: 53.405829 | J54: 50.903265 | K54: 48.558035 | L54: 51.030044 | M54: 47.935555 | N54: 46.814757
B55: 25 y más | C55: 72.058221 | D55: 72.071621 | E55: 71.482792 | F55: 71.391977 | G55: 71.715118 | H55: 75.746776 | I55: 73.728809 | J55: 71.686887 | K55: 72.896226 | L55: 72.275882 | M55: 74.43698 | N55: 74.26443
B56: Perú m/ | C56: 70.306123 | D56: 70.418713 | E56: 70.695367 | F56: 71.099847 | G56: 70.934739 | H56: 70.836742 | I56: 70.31949 | J56: 69.566894 | K56: 69.109895 | L56: 69.213612 | M56: 69.026069 | N56: 69.2614
B57: 15 - 24 | C57: 54.585743 | D57: 55.3483 | E57: 54.964271 | F57: 54.662648 | G57: 53.89133 | H57: 53.513037 | I57: 52.64351 | J57: 50.599462 | K57: 49.212692 | L57: 47.96578 | M57: 47.348461 | N57: 47.482331
B58: 25 y más | C58: 78.26528 | D58: 77.894757 | E58: 78.258185 | F58: 78.912338 | G58: 78.975585 | H58: 78.698074 | I58: 78.158666 | J58: 77.815907 | K58: 77.58405 | L58: 77.976724 | M58: 75.564529 | N58: 77.176116
B59: República Dominicana n/ | C59: 47.406757 | D59: 47.677091 | E59: 45.789697 | F59: 47.112261 | G59: 48.038349 | H59: 48.098768 | I59: 47.712582 | J59: 48.999891 | K59: 57.291011 | L59: 57.902546 | M59: 57.728943 | N59: 58.675668
B60: 15 - 24 | C60: 36.57389 | D60: 37.468536 | E60: 32.71051 | F60: 34.453037 | G60: 34.978732 | H60: 34.813651 | I60: 33.8807 | J60: 35.76908 | K60: 36.769678 | L60: 37.231559 | M60: 37.002549 | N60: 37.646819
B61: 25 y más | C61: 61.090513 | D61: 61.552167 | E61: 59.94449 | F61: 61.149151 | G61: 62.179879 | H61: 62.53419 | I61: 62.367602 | J61: 62.341685 | K61: 64.490269 | L61: 65.19935 | M61: 65.076888 | N61: 65.86146
... B64: 25 y más | C64: 61.765105 | D64: 62.969649 | E64: 63.792204 | F64: 63.858637 | G64: 65.975547 | H64: 65.321904 | I64: 65 | J64: 66.082865 | K64: 65.28914 | L64: 64.964764 | M64: 64.922825 | N64: 64.565968
B65: Venezuela (Rep. Bol. de) p/ | C65: 59.397001 | D65: 60.183093 | E65: 59.958074 | F65: 58.886176 | G65: 59.016491 | H65: 58.727503 | I65: 59.254296 | J65: 60.426612 | K65: 59.248532 | L65: 59.273214 | M65: … | N65: …
B66: 15 - 24 | C66: 37.788065 | D66: 38.320901 | E66: 37.118986 | F66: 34.988372 | G66: 34.505507 | H66: 33.882374 | I66: 34.209718 | J66: 35.363504 | K66: 33.278881 | L66: 32.454589 | M66: … | N66: …
B67: 25 y más | C67: 67.591359 | D67: 68.353127 | E67: 68.218821 | F67: 67.609049 | G67: 67.607475 | H67: 67.313051 | I67: 67.607327 | J67: 68.393265 | K67: 67.448667 | L67: 67.598101 | M67: … | N67: …
B68: El Caribe
B69: Bahamas q/ | C69: 70.215943 | D69: 69.659417 | E69: 62.145892 | F69: … | G69: 60.643958 | H69: 62.041828 | I69: 61.6477 | J69: 62.870709 | K69: 64.356338 | L69: 67.096924 | M69: 67.096924 | N69: 72.116558
B70: 15 - 24 | C70: … | D70: … | E70: … | F70: … | G70: … | H70: … | I70: … | J70: … | K70: … | L70: … | M70: … | N70: …
B71: 25 y más | C71: … | D71: … | E71: … | F71: … | G71: … | H71: … | I71: … | J71: … | K71: … | L71: … | M71: … | N71: …
B72: Barbados r/ | C72: 62.774521 | D72: 62.1 | E72: 60.31202 | F72: 59.456929 | G72: 60.056127 | H72: 58.524054 | I72: 58.9169 | J72: 56.018415 | K72: 57.7437 | L72: 60.053788 | M72: 60.114611 | N72: 58.57349
B73: 15 - 24 | C73: … | D73: … | E73: … | F73: … | G73: … | H73: … | I73: … | J73: … | K73: … | L73: … | M73: … | N73: …
B74: 25 y más | C74: … | D74: … | E74: … | F74: … | G74: … | H74: … | I74: … | J74: … | K74: … | L74: … | M74: … | N74: …
B75: Belice s/ | C75: 55.984401 | D75: 54.345143 | E75: … | F75: … | G75: … | H75: 55.718279 | I75: 56.7 | J75: 56.26061 | K75: 56.762643 | L75: 57.931517 | M75: 58.65271 | N75: 58.476273
B76: 15 - 24 | C76: … | D76: … | E76: … | F76: … | G76: … | H76: 35.745655 | I76: 35.302394 | J76: 35.903233 | K76: 35.194509 | L76: 35.340603 | M76: 36.088399 | N76: 37.254089
B77: 25 y más | C77: … | D77: … | E77: … | F77: … | G77: … | H77: 65.66613 | I77: 66.48916 | J77: 67.183008 | K77: 68.1114 | L77: 69.429252 | M77: 70.117039 | N77: 69.255747
B78: Jamaica | C78: 58.418869 | D78: 58.535326 | E78: 56.313605 | F78: 54.651293 | G78: 54.260518 | H78: 53.268403 | I78: 53.397387 | J78: 54.189653 | K78: 54.603458 | L78: 56.231111 | M78: 56.155785 | N78: 57.421226
B79: 15 - 24 | C79: … | D79: … | E79: … | F79: … | G79: … | H79: 22.373666 | I79: 21.597228 | J79: 21.889126 | K79: 22.840348 | L79: 25.01063 | M79: 24.859091 | N79: 25.586445
B80: 25 y más | C80: … | D80: … | E80: … | F80: … | G80: … | H80: 65.377507 | I80: 65.852474 | J80: 66.852233 | K80: 67.039693 | L80: 68.453292 | M80: 68.406042 | N80: 69.553959
B81: Trinidad y Tabago t/ | C81: 59.9 | D81: 60.551956 | E81: 59.366269 | F81: 58.400705 | G81: 58.20091 | H81: 58.799044 | I81: 59.107368 | J81: 59.888559 | K81: 58.521849 | L81: 57.375101 | M81: 57.884381 | N81: 57.085474
B82: 15 - 24 | C82: … | D82: … | E82: … | F82: … | G82: … | H82: … | I82: … | J82: … | K82: … | L82: … | M82: … | N82: …
B83: 25 y más | C83: … | D83: … | E83: … | F83: … | G83: … | H83: … | I83: … | J83: … | K83: … | L83: … | M83: … | N83: …
B84: América Latina y el Caribe u/ | C84: 57.5666 | D84: 57.801078 | E84: 57.560745 | F84: 57.54699 | G84: 57.694403 | H84: 58.292144 | I84: 58.166285 | J84: 58.111726 | K84: 57.923273 | L84: 57.234981 | M84: 56.708784 | N84: 56.480463
B85: América Latina y el Caribe - 15 - 24 u/ | C85: 46.554026 | D85: 46.093334 | E85: 44.99946 | F85: 44.681661 | G85: 44.496066 | H85: 42.709344 | I85: 41.823426 | J85: 41.28561 | K85: 40.344885 | L85: 39.000547 | M85: 38.878803 | N85: 38.65504
B86: América Latina y el Caribe - 25 y más u/ | C86: 64.894471 | D86: 65.748193 | E86: 65.520304 | F86: 65.425663 | G86: 65.447816 | H86: 64.264823 | I86: 64.354807 | J86: 64.360262 | K86: 64.197537 | L86: 63.614013 | M86: 62.950436 | N86: 62.68905
B88: Fuente: OIT con la base de información de las encuestas de hogares de los países.
B90: a/ 31 aglomerados urbanos. El INDEC, en el marco de la emergencia estadística declarada, recomienda desestimar las series publicadas entre el 2007 y 2015 para fines de comparación y análisis del mercado de trabajo en la República Argentina. El dato anual 2016 es el promedio del II, III y IV trimestre y el dato al III semestre del 2016 y 2017 corresponden al II trimestre.
B92: b/ A partir del 2012 datos con base en PNADC serie no comparable con años anteriores. El dato 15 - 24 corresponde a 14 -24.
B93: c/ Nueva medición a partir del 2010, datos no comparables con años anteriores.
B94: d/ Dato del 2007 para el tramo 15 a 24 corresponde a 15 a 28 años. El dato de TO total de coyuntura del 2016 y 2017 corresponde al promedio al III trimestre y los datos por edad al promedio al II trimestre.
B95: e/ Datos del 2007-09 corresponden a EHPM levantadas en julio de cada año. A partir del 2010 dato de la ECE, no comparable con años anteriores (el dato del 2010 es el promedio del III y IV trimestre).
B96: f/ A partir del 2007 cambia la edad de la PET de 10 a 15 años, no comparable con años anteriores.
B97: g/ A partir del 2007 cambia la edad de la PET de 10 a 16 años, no comparable con años anteriores.
B98: h/ El dato al III trimestre del 2016 y 2017 corresponde al levantamiento de febrero - marzo.
B99: i/ Dato al III trimestre de 2016 y 2017 corresponde a junio.
B100: i/ Nueva medición (ECH) a partir del 2009. Datos no comparables con años anteriores.
B101: j/ Nueva medición (ECH) a partir del 2009. Datos no comparables con años anteriores
... B112: u/ Promedio ponderado.

Sheet C8N
A1: regresar al índice
B2: CUADRO 8
B3: AMÉRICA LATINA: POBLACIÓN OCUPADA NACIONAL POR CATEGORÍA OCUPACIONAL SEGÚN AÑOS DE ESTUDIO. 2005, 2011 Y 2013-2015
B4: (porcentajes)
B6: Año y años de estudio | D6: TOTAL | E6: Categoría Ocupacional
E7: Asalariado | H7: No Asalariado | K7: Trabajo doméstico | L7: Trabajadores familiares auxiliares | M7: Otros
E8: Total | F8: Público | G8: Privado | H8: Total | I8: Empleadores | J8: Cuenta propia
B9: 2005 | C9: Total | D9: =SUM(D10:D13) -> 100 | E9: =SUM(E10:E13) -> 100 | F9: =SUM(F10:F13) -> 100 | G9: =SUM(G10:G13) -> 100 | H9: =SUM(H10:H13) -> 100 | I9: =SUM(I10:I13) -> 100 | J9: =SUM(J10:J13) -> 100 | K9: =SUM(K10:K13) -> 100 | ... M9: =SUM(M10:M13) -> 100
C10: Sin instrucción | D10: =#REF!/SUM(D$10:D$13)*100 -> 8.1661618 | E10: =#REF!/SUM(E$10:E$13)*100 -> 4.4392473 | F10: =#REF!/SUM(F$10:F$13)*100 -> 1.9199721 | G10: =#REF!/SUM(G$10:G$13)*100 -> 5.0470372 | H10: =#REF!/SUM(H$10:H$13)*100 -> 13.428503 | I10: =#REF!/SUM(I$10:I$13)*100 -> 4.5512621 | J10: =#REF!/SUM(J$10:J$13)*100 -> 14.906772 | K10: =#REF!/SUM(K$10:K$13)*100 -> 9.6627098 | ... M10: =#REF!/SUM(M$10:M$13)*100 -> 12.508535
C11: 1 a 6 | D11: =#REF!/SUM(D$10:D$13)*100 -> 32.246297 | E11: =#REF!/SUM(E$10:E$13)*100 -> 23.250841 | F11: =#REF!/SUM(F$10:F$13)*100 -> 10.067755 | G11: =#REF!/SUM(G$10:G$13)*100 -> 26.431337 | H11: =#REF!/SUM(H$10:H$13)*100 -> 41.212137 | I11: =#REF!/SUM(I$10:I$13)*100 -> 26.539922 | J11: =#REF!/SUM(J$10:J$13)*100 -> 43.655405 | K11: =#REF!/SUM(K$10:K$13)*100 -> 47.992767 | ... M11: =#REF!/SUM(M$10:M$13)*100 -> 31.742022
C12: 7 a 12 | D12: =#REF!/SUM(D$10:D$13)*100 -> 44.270393 | E12: =#REF!/SUM(E$10:E$13)*100 -> 51.362508 | F12: =#REF!/SUM(F$10:F$13)*100 -> 42.78749 | G12: =#REF!/SUM(G$10:G$13)*100 -> 53.431281 | H12: =#REF!/SUM(H$10:H$13)*100 -> 34.4649 | I12: =#REF!/SUM(I$10:I$13)*100 -> 41.631119 | J12: =#REF!/SUM(J$10:J$13)*100 -> 33.271557 | K12: =#REF!/SUM(K$10:K$13)*100 -> 41.105793 | ... M12: =#REF!/SUM(M$10:M$13)*100 -> 47.983403
C13: 13 y más | D13: =#REF!/SUM(D$10:D$13)*100 -> 15.317149 | E13: =#REF!/SUM(E$10:E$13)*100 -> 20.947405 | F13: =#REF!/SUM(F$10:F$13)*100 -> 45.224783 | G13: =#REF!/SUM(G$10:G$13)*100 -> 15.090345 | H13: =#REF!/SUM(H$10:H$13)*100 -> 10.89446 | I13: =#REF!/SUM(I$10:I$13)*100 -> 27.277696 | J13: =#REF!/SUM(J$10:J$13)*100 -> 8.1662671 | K13: =#REF!/SUM(K$10:K$13)*100 -> 1.2387296 | ... M13: =#REF!/SUM(M$10:M$13)*100 -> 7.7660394
B14: 2011 | C14: Total | D14: =SUM(D15:D18) -> 100 | E14: =SUM(E15:E18) -> 100 | F14: =SUM(F15:F18) -> 100 | G14: =SUM(G15:G18) -> 100 | H14: =SUM(H15:H18) -> 100 | I14: =SUM(I15:I18) -> 100 | J14: =SUM(J15:J18) -> 100 | K14: =SUM(K15:K18) -> 100 | ... M14: =SUM(M15:M18) -> 100
C15: Sin instrucción | D15: =#REF!/SUM(D$15:D$18)*100 -> 7.0411733 | E15: =#REF!/SUM(E$15:E$18)*100 -> 4.0134025 | F15: =#REF!/SUM(F$15:F$18)*100 -> 1.5578242 | G15: =#REF!/SUM(G$15:G$18)*100 -> 4.6075287 | H15: =#REF!/SUM(H$15:H$18)*100 -> 11.878524 | I15: =#REF!/SUM(I$15:I$18)*100 -> 3.5698368 | J15: =#REF!/SUM(J$15:J$18)*100 -> 13.154681 | K15: =#REF!/SUM(K$15:K$18)*100 -> 10.287495 | ... M15: =#REF!/SUM(M$15:M$18)*100 -> 4.0679498
C16: 1 a 6 | D16: =#REF!/SUM(D$15:D$18)*100 -> 24.91713 | E16: =#REF!/SUM(E$15:E$18)*100 -> 17.279925 | F16: =#REF!/SUM(F$15:F$18)*100 -> 6.3019418 | G16: =#REF!/SUM(G$15:G$18)*100 -> 19.936044 | H16: =#REF!/SUM(H$15:H$18)*100 -> 34.727766 | I16: =#REF!/SUM(I$15:I$18)*100 -> 21.309944 | J16: =#REF!/SUM(J$15:J$18)*100 -> 36.788651 | K16: =#REF!/SUM(K$15:K$18)*100 -> 38.247796 | ... M16: =#REF!/SUM(M$15:M$18)*100 -> 40.697007
C17: 7 a 12 | D17: =#REF!/SUM(D$15:D$18)*100 -> 48.829056 | E17: =#REF!/SUM(E$15:E$18)*100 -> 53.597916 | F17: =#REF!/SUM(F$15:F$18)*100 -> 39.919733 | G17: =#REF!/SUM(G$15:G$18)*100 -> 56.907346 | H17: =#REF!/SUM(H$15:H$18)*100 -> 40.327732 | I17: =#REF!/SUM(I$15:I$18)*100 -> 44.584869 | J17: =#REF!/SUM(J$15:J$18)*100 -> 39.673865 | K17: =#REF!/SUM(K$15:K$18)*100 -> 49.03105 | ... M17: =#REF!/SUM(M$15:M$18)*100 -> 41.247468
C18: 13 y más | D18: =#REF!/SUM(D$15:D$18)*100 -> 19.212641 | E18: =#REF!/SUM(E$15:E$18)*100 -> 25.108756 | F18: =#REF!/SUM(F$15:F$18)*100 -> 52.220501 | G18: =#REF!/SUM(G$15:G$18)*100 -> 18.549081 | H18: =#REF!/SUM(H$15:H$18)*100 -> 13.065978 | I18: =#REF!/SUM(I$15:I$18)*100 -> 30.535349 | J18: =#REF!/SUM(J$15:J$18)*100 -> 10.382803 | K18: =#REF!/SUM(K$15:K$18)*100 -> 2.4336594 | ... M18: =#REF!/SUM(M$15:M$18)*100 -> 13.987575
B19: 2013 | C19: Total | D19: =SUM(D20:D23) -> 100 | E19: =SUM(E20:E23) -> 100 | F19: =SUM(F20:F23) -> 100 | G19: =SUM(G20:G23) -> 100 | H19: =SUM(H20:H23) -> 100 | I19: =SUM(I20:I23) -> 100 | J19: =SUM(J20:J23) -> 100 | K19: =SUM(K20:K23) -> 100 | ... M19: =SUM(M20:M23) -> 100
C20: Sin instrucción | D20: =#REF!/SUM(D$20:D$23)*100 -> 5.8396526 | E20: =#REF!/SUM(E$20:E$23)*100 -> 3.1603089 | F20: =#REF!/SUM(F$20:F$23)*100 -> 1.062127 | G20: =#REF!/SUM(G$20:G$23)*100 -> 3.6575367 | H20: =#REF!/SUM(H$20:H$23)*100 -> 10.340829 | I20: =#REF!/SUM(I$20:I$23)*100 -> 2.9228953 | J20: =#REF!/SUM(J$20:J$23)*100 -> 11.487997 | K20: =#REF!/SUM(K$20:K$23)*100 -> 7.917775 | ... M20: =#REF!/SUM(M$20:M$23)*100 -> 0.18653154
C21: 1 a 6 | D21: =#REF!/SUM(D$20:D$23)*100 -> 24.187191 | E21: =#REF!/SUM(E$20:E$23)*100 -> 16.476167 | F21: =#REF!/SUM(F$20:F$23)*100 -> 6.0476927 | G21: =#REF!/SUM(G$20:G$23)*100 -> 18.94751 | H21: =#REF!/SUM(H$20:H$23)*100 -> 34.877599 | I21: =#REF!/SUM(I$20:I$23)*100 -> 20.379638 | J21: =#REF!/SUM(J$20:J$23)*100 -> 37.119678 | K21: =#REF!/SUM(K$20:K$23)*100 -> 38.751574 | ... M21: =#REF!/SUM(M$20:M$23)*100 -> 21.205032
C22: 7 a 12 | D22: =#REF!/SUM(D$20:D$23)*100 -> 49.417184 | E22: =#REF!/SUM(E$20:E$23)*100 -> 53.763535 | F22: =#REF!/SUM(F$20:F$23)*100 -> 38.16044 | G22: =#REF!/SUM(G$20:G$23)*100 -> 57.461162 | H22: =#REF!/SUM(H$20:H$23)*100 -> 41.102136 | I22: =#REF!/SUM(I$20:I$23)*100 -> 44.842935 | J22: =#REF!/SUM(J$20:J$23)*100 -> 40.523629 | K22: =#REF!/SUM(K$20:K$23)*100 -> 50.389681 | ... M22: =#REF!/SUM(M$20:M$23)*100 -> 62.955518
C23: 13 y más | D23: =#REF!/SUM(D$20:D$23)*100 -> 20.555972 | E23: =#REF!/SUM(E$20:E$23)*100 -> 26.599989 | F23: =#REF!/SUM(F$20:F$23)*100 -> 54.72974 | G23: =#REF!/SUM(G$20:G$23)*100 -> 19.933792 | H23: =#REF!/SUM(H$20:H$23)*100 -> 13.679437 | I23: =#REF!/SUM(I$20:I$23)*100 -> 31.854532 | J23: =#REF!/SUM(J$20:J$23)*100 -> 10.868696 | K23: =#REF!/SUM(K$20:K$23)*100 -> 2.9409696 | ... M23: =#REF!/SUM(M$20:M$23)*100 -> 15.652918
B24: 2014 | C24: Total | D24: =SUM(D25:D28) -> 100 | E24: =SUM(E25:E28) -> 100 | F24: =SUM(F25:F28) -> 100 | G24: =SUM(G25:G28) -> 100 | H24: =SUM(H25:H28) -> 100 | I24: =SUM(I25:I28) -> 100 | J24: =SUM(J25:J28) -> 100 | K24: =SUM(K25:K28) -> 100 | ... M24: =SUM(M25:M28) -> 100
C25: Sin instrucción | D25: =#REF!/SUM(D$25:D$28)*100 -> 5.4481169 | E25: =#REF!/SUM(E$25:E$28)*100 -> 2.8527584 | F25: =#REF!/SUM(F$25:F$28)*100 -> 0.98969098 | G25: =#REF!/SUM(G$25:G$28)*100 -> 3.2882999 | H25: =#REF!/SUM(H$25:H$28)*100 -> 9.7541441 | I25: =#REF!/SUM(I$25:I$28)*100 -> 3.0343259 | J25: =#REF!/SUM(J$25:J$28)*100 -> 10.778504 | K25: =#REF!/SUM(K$25:K$28)*100 -> 7.6996423 | ... M25: =#REF!/SUM(M$25:M$28)*100 -> 2.0999661
C26: 1 a 6 | D26: =#REF!/SUM(D$25:D$28)*100 -> 24.176936 | E26: =#REF!/SUM(E$25:E$28)*100 -> 16.54821 | F26: =#REF!/SUM(F$25:F$28)*100 -> 5.946366 | G26: =#REF!/SUM(G$25:G$28)*100 -> 19.026673 | H26: =#REF!/SUM(H$25:H$28)*100 -> 34.667357 | I26: =#REF!/SUM(I$25:I$28)*100 -> 20.900136 | J26: =#REF!/SUM(J$25:J$28)*100 -> 36.766014 | K26: =#REF!/SUM(K$25:K$28)*100 -> 38.831745 | ... M26: =#REF!/SUM(M$25:M$28)*100 -> 38.776824
C27: 7 a 12 | D27: =#REF!/SUM(D$25:D$28)*100 -> 49.838329 | E27: =#REF!/SUM(E$25:E$28)*100 -> 54.002265 | F27: =#REF!/SUM(F$25:F$28)*100 -> 37.699111 | G27: =#REF!/SUM(G$25:G$28)*100 -> 57.81356 | H27: =#REF!/SUM(H$25:H$28)*100 -> 41.823999 | I27: =#REF!/SUM(I$25:I$28)*100 -> 44.996985 | J27: =#REF!/SUM(J$25:J$28)*100 -> 41.340313 | K27: =#REF!/SUM(K$25:K$28)*100 -> 50.6556 | ... M27: =#REF!/SUM(M$25:M$28)*100 -> 47.205901
C28: 13 y más | D28: =#REF!/SUM(D$25:D$28)*100 -> 20.536617 | E28: =#REF!/SUM(E$25:E$28)*100 -> 26.596767 | F28: =#REF!/SUM(F$25:F$28)*100 -> 55.364832 | G28: =#REF!/SUM(G$25:G$28)*100 -> 19.871467 | H28: =#REF!/SUM(H$25:H$28)*100 -> 13.7545 | I28: =#REF!/SUM(I$25:I$28)*100 -> 31.068553 | J28: =#REF!/SUM(J$25:J$28)*100 -> 11.115169 | K28: =#REF!/SUM(K$25:K$28)*100 -> 2.8130128 | ... M28: =#REF!/SUM(M$25:M$28)*100 -> 11.917309
B29: 2015 | C29: Total | D29: =SUM(D30:D33) -> 100 | E29: =SUM(E30:E33) -> 100 | F29: =SUM(F30:F33) -> 100 | G29: =SUM(G30:G33) -> 100 | H29: =SUM(H30:H33) -> 100 | I29: =SUM(I30:I33) -> 100 | J29: =SUM(J30:J33) -> 100 | K29: =SUM(K30:K33) -> 100 | ... M29: =SUM(M30:M33) -> 100
C30: Sin instrucción | D30: =#REF!/SUM(D$30:D$33)*100 -> 5.0461307 | E30: =#REF!/SUM(E$30:E$33)*100 -> 2.7022976 | F30: =#REF!/SUM(F$30:F$33)*100 -> 0.85344841 | G30: =#REF!/SUM(G$30:G$33)*100 -> 3.1384053 | H30: =#REF!/SUM(H$30:H$33)*100 -> 8.8711399 | I30: =#REF!/SUM(I$30:I$33)*100 -> 2.3967306 | J30: =#REF!/SUM(J$30:J$33)*100 -> 9.8103057 | K30: =#REF!/SUM(K$30:K$33)*100 -> 7.0978853 | ... M30: =#REF!/SUM(M$30:M$33)*100 -> 0.080372546
C31: 1 a 6 | D31: =#REF!/SUM(D$30:D$33)*100 -> 23.423218 | E31: =#REF!/SUM(E$30:E$33)*100 -> 15.973337 | F31: =#REF!/SUM(F$30:F$33)*100 -> 5.5337397 | G31: =#REF!/SUM(G$30:G$33)*100 -> 18.435836 | H31: =#REF!/SUM(H$30:H$33)*100 -> 33.568807 | I31: =#REF!/SUM(I$30:I$33)*100 -> 19.407622 | J31: =#REF!/SUM(J$30:J$33)*100 -> 35.623003 | K31: =#REF!/SUM(K$30:K$33)*100 -> 38.026529 | ... M31: =#REF!/SUM(M$30:M$33)*100 -> 32.431408
C32: 7 a 12 | D32: =#REF!/SUM(D$30:D$33)*100 -> 50.334967 | E32: =#REF!/SUM(E$30:E$33)*100 -> 54.051458 | F32: =#REF!/SUM(F$30:F$33)*100 -> 37.366972 | G32: =#REF!/SUM(G$30:G$33)*100 -> 57.987005 | H32: =#REF!/SUM(H$30:H$33)*100 -> 43.133202 | I32: =#REF!/SUM(I$30:I$33)*100 -> 45.324355 | J32: =#REF!/SUM(J$30:J$33)*100 -> 42.815357 | K32: =#REF!/SUM(K$30:K$33)*100 -> 51.830804 | ... M32: =#REF!/SUM(M$30:M$33)*100 -> 55.67024
C33: 13 y más | D33: =#REF!/SUM(D$30:D$33)*100 -> 21.195684 | E33: =#REF!/SUM(E$30:E$33)*100 -> 27.272907 | F33: =#REF!/SUM(F$30:F$33)*100 -> 56.24584 | G33: =#REF!/SUM(G$30:G$33)*100 -> 20.438754 | H33: =#REF!/SUM(H$30:H$33)*100 -> 14.426851 | I33: =#REF!/SUM(I$30:I$33)*100 -> 32.871292 | J33: =#REF!/SUM(J$30:J$33)*100 -> 11.751334 | K33: =#REF!/SUM(K$30:K$33)*100 -> 3.0447821 | ... M33: =#REF!/SUM(M$30:M$33)*100 -> 11.817979
B34: 2016 | C34: Total | D34: =SUM(D35:D38) -> 100 | E34: =SUM(E35:E38) -> 100 | F34: =SUM(F35:F38) -> 100 | G34: =SUM(G35:G38) -> 100 | H34: =SUM(H35:H38) -> 100 | I34: =SUM(I35:I38) -> 100 | J34: =SUM(J35:J38) -> 100 | K34: =SUM(K35:K38) -> 100 | ... M34: =SUM(M35:M38) -> 100
C35: Sin instrucción | D35: =#REF!/SUM(D$35:D$38)*100 -> 5.0374365 | E35: =#REF!/SUM(E$35:E$38)*100 -> 2.7410653 | F35: =#REF!/SUM(F$35:F$38)*100 -> 0.87188516 | G35: =#REF!/SUM(G$35:G$38)*100 -> 3.1753627 | H35: =#REF!/SUM(H$35:H$38)*100 -> 8.7695719 | I35: =#REF!/SUM(I$35:I$38)*100 -> 2.4862344 | J35: =#REF!/SUM(J$35:J$38)*100 -> 9.6867884 | K35: =#REF!/SUM(K$35:K$38)*100 -> 7.1573514 | ... M35: =#REF!/SUM(M$35:M$38)*100 -> 1.0756399
C36: 1 a 6 | D36: =#REF!/SUM(D$35:D$38)*100 -> 23.170388 | E36: =#REF!/SUM(E$35:E$38)*100 -> 15.85163 | F36: =#REF!/SUM(F$35:F$38)*100 -> 5.4796865 | G36: =#REF!/SUM(G$35:G$38)*100 -> 18.261514 | H36: =#REF!/SUM(H$35:H$38)*100 -> 33.249075 | I36: =#REF!/SUM(I$35:I$38)*100 -> 19.476611 | J36: =#REF!/SUM(J$35:J$38)*100 -> 35.259524 | K36: =#REF!/SUM(K$35:K$38)*100 -> 37.517006 | ... M36: =#REF!/SUM(M$35:M$38)*100 -> 31.406174
C37: 7 a 12 | D37: =D1/SUM(D$35:D$38)*100 -> 50.283892 | E37: =E1/SUM(E$35:E$38)*100 -> 53.790304 | F37: =F1/SUM(F$35:F$38)*100 -> 37.196741 | G37: =G1/SUM(G$35:G$38)*100 -> 57.645759 | H37: =H1/SUM(H$35:H$38)*100 -> 43.396015 | I37: =I1/SUM(I$35:I$38)*100 -> 45.582234 | J37: =J1/SUM(J$35:J$38)*100 -> 43.076879 | K37: =K1/SUM(K$35:K$38)*100 -> 51.90327 | ... M37: =M1/SUM(M$35:M$38)*100 -> 57.965378
C38: 13 y más | D38: =D2/SUM(D$35:D$38)*100 -> 21.508283 | E38: =E2/SUM(E$35:E$38)*100 -> 27.617001 | F38: =F2/SUM(F$35:F$38)*100 -> 56.451687 | G38: =G2/SUM(G$35:G$38)*100 -> 20.917364 | H38: =H2/SUM(H$35:H$38)*100 -> 14.585338 | I38: =I2/SUM(I$35:I$38)*100 -> 32.454921 | J38: =J2/SUM(J$35:J$38)*100 -> 11.976808 | K38: =K2/SUM(K$35:K$38)*100 -> 3.4223725 | ... M38: =M2/SUM(M$35:M$38)*100 -> 9.5528079
B40: Fuente: OIT con la base de información de las encuestas de hogares de los países.
B42: a/ Países seleccionados: Argentina, Bolivia (Estado Plurinacional de), Brasil, Chile, Costa Rica, Ecuador, El Salvador, Guatemala, Honduras, México, Panamá, Paraguay, Perú, República Dominicana y Uruguay.
B44: Los datos corresponden a la edad de la PET oficial de cada país.
B45: Los datos de Guatemala del 2005 corresponden a la encuesta levantada en el 2004. Lo datos de Argentina de 2016 y 2017 corresponden al II trimestre, Bolivia y Brasil de 2016 corresponden a 2015.

Sheet C9N
A1: regresar al índice
B2: CUADRO 9
B3: AMÉRICA LATINA: ÍNDICE DE REMUNERACIONES MEDIAS REALES EN EL SECTOR FORMAL. 2007 - 2017
B4: (Año 2000 = 100)
B6: País | C6: 2007 | D6: 2008 | E6: 2009 | F6: 2010 | G6: 2011 | H6: 2012 | I6: 2013 | J6: 2014 | K6: 2015 | L6: 2016 | M6: 2016 | N6: 2017
M7: Variación a III Trimestre
B9: Brasil a/ | C9: 103.39482 | D9: 105.50142 | E9: 108.0248 | F9: 109.63151 | G9: 111.18158 | H9: 100 | I9: 102.48647 | J9: 103.47848 | K9: 103.90363 | L9: 102.55089 | M9: -2.0703253 | N9: 2.1308725
B10: Chile b/ | C10: 113.72182 | D10: 113.49071 | E10: 118.92284 | F10: 121.48205 | G10: 124.52373 | H10: 128.56843 | I10: 133.53517 | J10: 135.89121 | K10: 138.30993 | L10: 140.2389 | M10: 0.97268563 | N10: 1.7455428
B11: Colombia c/ | C11: 109.15295 | D11: 107.70211 | E11: 109.13297 | F11: 112.24875 | G11: 112.44642 | H11: 113.41524 | I11: 116.45779 | J11: 116.95729 | K11: 118.30376 | L11: 117.09327 | M11: -1.3709778 | N11: 2.0016731
B12: Costa Rica d/ | C12: 102.91822 | D12: 100.83031 | E12: 111.30729 | F12: 113.67755 | G12: 120.16179 | H12: 121.74489 | I12: 123.36684 | J12: 125.81104 | K12: 126.84525 | L12: 134.17796 | M12: 3.6305265 | N12: 1.243433
B13: México e/ | C13: 118.08818 | D13: 118.49035 | E13: 117.61226 | F13: 117.00099 | G13: 118.32802 | H13: 118.35919 | I13: 118.52634 | J13: 119.03664 | K13: 120.72539 | L13: 121.8354 | M13: 1.0588692 | N13: -1.095927
B14: Nicaragua f/ | C14: 103.68754 | D14: 99.527238 | E14: 105.32402 | F14: 106.64776 | G14: 106.8 | H14: 107.1257 | I14: 107.40962 | J14: 109.22394 | K14: 111.64544 | L14: 114.62116 | M14: 2.4999238 | N14: 1.8987521
B15: Panamá g/ | C15: 100.28907 | D15: 98.708397 | E15: 99.410506 | F15: 109.07277 | G15: 109.6529 | H15: 113.35353 | I15: … | J15: … | K15: … | L15: … | M15: … | N15: …
B16: Paraguay h/ | C16: 101.26344 | D16: 100.46429 | E16: 105.10759 | F16: 105.78394 | G16: 108.74054 | H16: 109.47013 | I16: 111.87199 | J16: 113.22887 | K16: 113.71094 | L16: 114.45003 | M16: -0.41271856 | N16: 1.5422259
B17: Perú i/ | C17: 111.00498 | D17: 115.92963 | E17: 120.83962 | F17: 119.77505 | G17: 124.87803 | H17: 130.42776 | I17: 129.9607 | J17: 132.03862 | K17: 134.98994 | L17: 137.09632 | M17: -0.016761316 | N17: -1.7154169
B18: Uruguay j/ | C18: 90.384817 | D18: 94.307039 | E18: 99.60981 | F18: 103.02643 | G18: 107.12872 | H18: 112.66892 | I18: 116.39895 | J18: 120.46724 | K18: 120.94264 | L18: 124.91037 | M18: 1.2502204 | N18: 3.1081036
B19: Venezuela (Rep. Bol. de) k/ | C19: 85.8 | D19: 82.2 | E19: 78.113659 | F19: 76.251283 | G19: 76.540605 | H19: 80.318485 | I19: 75.914819 | J19: … | K19: … | L19: … | M19: … | N19: …
B21: Fuente: OIT con base en cifras oficiales de los países.
B23: a/ Hasta el 2011 datos de PME - seis regiones metropolitanas. (Índice 2003 = 100). A partir del 2012 dato nacional PNADC (índice 2012 = 100).
B24: b/ Índice general de remuneraciones (IR). Base anual 2016 serie empalmada desde 2010. En el P.L. 2017 se empalmó esta serie de 2016 con la serie del P.L. para hacerla comparable respetando las variaciones reflejadas en en la nueva serie IR 2016. El dato al III trimestre del 2016 y 2017 corresponde al I semestre.
B26: c/ Remuneraciones reales de la industria manufacturera con trilla de café. A partir del 2015 el Banco de la República publica una serie total con base en la metodología 2014 = 100, por lo que se empalmó la serie para hacerla comparable.
B28: d/ Remuneraciones medias de los asalariados afiliados a la Caja Costaricense de Seguridad Social. Seguro de Salud. (Índice 2005 = 100). El dato del 2015 excluye el salario escolar, al igual que el dato del I semestre del 2016 y 2017. El dato al III Trimestre del 2016 y 2017 corresponde al promedio enero -agosto.
B30: e/ Promedio diario del salario base de cotización al Instituto Mexicano de Seguridad Social.
B31: f/ Remuneraciones medias resportadas al Instituto Nicaraguense de Seguro Social.
B32: g/ Sueldo medio mensual del sector privado reportado por los empleadores a la Caja de Seguro Social.
B33: h/ Índice general de remuneraciones del sector público y privado. El dato al III trimestre de 2016 y 2017 corresponde a julio.
B34: i/ Ingreso promedio mensual de asalariados urbanos. (Indice 2004 = 100). El dato del I semestre del 2016 y 2017 corresponde al 1 trimestre.
B35: j/ Índice del salario real (se calcula con la variación acumulada anual).
B36: k/ Índice general de remuneraciones del sector privado.

Sheet C10N
A1: regresar al índice
B2: CUADRO 10
B3: AMÉRICA LATINA: INDICE DE SALARIOS MÍNIMOS REALES. 2007 - 2017
B4: (Año 2000 = 100)
B6: Pais | C6: 2007 | D6: 2008 | E6: 2009 | F6: 2010 | G6: 2011 | H6: 2012 | I6: 2013 | J6: 2014 | K6: 2015 | L6: 2016 | M6: 2016 | N6: 2017
M7: Variación interanual enero-septiembre
B8: América Latina
B9: Bolivia a/ | C9: 110.12622 | D9: 108.01072 | E9: 115.92266 | F9: 119.91004 | G9: 130.91484 | H9: 153.60348 | I9: 174.40677 | J9: 197.80058 | K9: 218.56359 | L9: 229.92803 | M9: 5.2599367 | N9: 7.7380964
B10: Brasil a/ | C10: 154.72696 | D10: 160.83652 | E10: 172.70895 | F10: 182.01047 | G10: 182.12207 | H10: 197.50453 | I10: 202.6984 | J10: 203.58247 | K10: 203.3084 | L10: 208.7095 | M10: 2.1256507 | N10: 2.6998785
B11: Chile a/ | C11: 118.42648 | D11: 118.25678 | E11: 124.66764 | F11: 126.57202 | G11: 128.6539 | H11: 132.31481 | I11: 138.68503 | J11: 143.98326 | K11: 147.81067 | L11: 154.97903 | M11: 5.2406514 | N11: 3.109766
B12: Colombia a/ | C12: 110.66367 | D12: 110.07715 | E12: 113.67689 | F12: 115.13696 | G12: 115.21138 | H12: 118.84035 | I12: 121.178 | J12: 123.06486 | K12: 122.63381 | L12: 122.03452 | M12: -0.93139106 | N12: 2.4860207
B13: Costa Rica a/ | C13: 102.89346 | D13: 102.63826 | E13: 107.79713 | F13: 110.44867 | G13: 112.23749 | H13: 114.41731 | I13: 115.73246 | J13: 118.72725 | K13: 123.21639 | L13: 124.95314 | M13: 1.7017891 | N13: 0.1283709
B14: Ecuador a/ | C14: 109.35791 | D14: 118.74741 | E14: 123.01955 | F14: 130.77994 | G14: 137.71817 | H14: 144.92033 | I14: 153.62961 | J14: 158.57394 | K14: 158.80192 | L14: 161.38511 | M14: 1.4364913 | N14: 1.8351825
B15: El Salvador b/ | C15: 92.357471 | D15: 92.366174 | E15: 101.51766 | F15: 100.51781 | G15: 100.3529 | H15: 101.45852 | I15: 102.6393 | J15: 107.61625 | K15: 112.80366 | L15: 112.12286 | M15: -1.092542 | N15: 20.712555
B16: Guatemala a/ | C16: 114.3716 | D16: 107.84193 | E16: 112.29079 | F16: 115.29987 | G16: 121.56346 | H16: 124.10078 | I16: 124.23561 | J16: 125.50521 | K16: 128.09538 | L16: 127.0806 | M16: -0.75835782 | N16: 1.2534973
B17: Honduras b/ | C17: 132.66254 | D17: 132.26894 | E17: 287.84817 | F17: 275.05741 | G17: 274.3021 | H17: 275.34511 | I17: 276.47167 | J17: 273.53915 | K17: 279.19055 | L17: 286.73336 | M17: 2.8114258 | N17: -0.43477512
B18: México a/ | C18: 101.56347 | D18: 100.50738 | E18: 99.839817 | F18: 100.50485 | G18: 101.18472 | H18: 101.30792 | I18: 101.78324 | J18: 101.66579 | K18: 104.48605 | L18: 107.20602 | M18: 3.1646016 | N18: 3.5288731
B19: Nicaragua b,c/ | C19: 129.1525 | D19: 131.13244 | E19: 152.48548 | F19: 170.75244 | G19: 178.98013 | H19: 187.17007 | I19: 196.95276 | J19: 206.68728 | K19: 220.56493 | L19: 234.46117 | M19: 6.4972375 | N19: 5.2494969
B20: Panamá b/ | C20: 105.59432 | D20: 105.86697 | E20: 103.34143 | F20: 109.93248 | G20: 103.84312 | H20: 112.9894 | I20: 108.60978 | J20: 120.2567 | K20: 120.09131 | L20: 125.76743 | M20: 4.9426403 | N20: -1.012399
... B26: América Latina. e/ | C26: 128.69101 | D26: 131.25722 | E26: 139.52577 | F26: 144.24408 | G26: 145.95699 | H26: 154.93407 | I26: 158.54808 | J26: 159.91636 | K26: 161.09402 | L26: 165.11662 | M26: 2.2 | N26: 3.2
B28: Fuente: OIT con la base de la información oficial de los países.
B30: a/ Salario mínimo nacional.
B31: b/ Salario mínimo más bajo en la industria.
B32: c/ Año 2001=100.
B33: d/ Promedio simple.
B34: e/ Promedio ponderado.

Sheet C1U
A1: regresar al índice
B2: CUADRO 1
B3: AMÉRICA LATINA Y EL CARIBE: TASA DE DESOCUPACIÓN URBANA SEGÚN PAÍS. 2007 - 2017
B4: (tasas anuales medias)
B6: País | C6: 2007 | D6: 2008 | E6: 2009 | F6: 2010 | G6: 2011 | H6: 2012 | I6: 2013 | J6: 2014 | K6: 2015 | L6: 2016 | M6: 2016 | N6: 2017
M8: Promedio al III Trimestre
B10: América Latina
B11: Argentina a/ | C11: … | D11: … | E11: … | F11: … | G11: … | H11: … | I11: … | J11: … | K11: … | L11: 8.4666667 | M11: 9.3 | N11: 8.7
B12: Bolivia (Estado Plur. de) | C12: 7.667853 | D12: 4.4301284 | E12: 4.9131204 | F12: … | G12: 3.8096447 | H12: 3.2209563 | I12: 4.0186917 | J12: 3.5413262 | K12: 4.3773947 | L12: 4.91 | M12: … | N12: …
B13: Brasil b/ | C13: 9.2612932 | D13: 8.0838916 | E13: 9.3430349 | F13: … | G13: 7.4643252 | H13: 8.2222828 | I13: 7.9875437 | J13: 7.7590973 | K13: 9.3272554 | L13: 13.031571 | M13: 12.839566 | N13: 14.713714
B14: Chile c/ | C14: 7.5716322 | D14: 8.223487 | E14: 10.17054 | F14: 8.5078931 | G14: 7.4123011 | H14: 6.7065114 | I14: 6.1577398 | J14: 6.651426 | K14: 6.4352589 | L14: 6.8064768 | M14: 6.9641423 | N14: 7.0160688
B15: Colombia d/ | C15: 12.158932 | D15: 12.116813 | E15: 13.172091 | F15: 12.720811 | G15: 11.803464 | H15: 11.447465 | I15: 10.663244 | J15: 10.001883 | K15: 9.7737355 | L15: 10.267737 | M15: 10.622794 | N15: 10.782809
B16: Costa Rica e/ | C16: 4.8 | D16: 4.8 | E16: 7.6451449 | F16: 8.5008741 | G16: 10.110135 | H16: 9.9822345 | I16: 9.2173885 | J16: 9.5676815 | K16: 9.7150853 | L16: 9.5960925 | M16: 9.666604 | N16: 8.8727788
B17: Cuba f/ | C17: 1.787301 | D17: 1.5851548 | E17: 1.7 | F17: 2.5 | G17: 3.2 | H17: 3.5 | I17: 3.2874558 | J17: 2.6579179 | K17: 2.3897982 | L17: 2.0293628 | M17: … | N17: …
B18: Ecuador g/ | C18: 6.8864689 | D18: 6.9062408 | E18: 8.509434 | F18: 7.590458 | G18: 6.0084295 | H18: 4.9373854 | I18: 4.7317701 | J18: 5.1245462 | K18: 5.386182 | L18: 6.806888 | M18: 6.9033943 | N18: 5.5948613
B19: El Salvador h/ | C19: 5.8 | D19: 5.5 | E19: 7.1156102 | F19: 6.7734617 | G19: 6.6 | H19: 6.230052 | I19: 5.5912793 | J19: 6.7278756 | K19: 6.5164011 | L19: 6.8588127 | M19: … | N19: …
B20: Guatemala i/ | C20: … | D20: … | E20: … | F20: 4.8 | G20: 3.1 | H20: 4.026936 | I20: 3.832057 | J20: 4.0020392 | K20: 3.1766877 | L20: 3.4060059 | M20: 3.9533322 | N20: 3.9083671
B21: Honduras j/ | C21: 4.0725193 | D21: 3.897734 | E21: 4.8887995 | F21: 6.436457 | G21: 6.7995943 | H21: 5.6282114 | I21: 5.9706819 | J21: 7.5243871 | K21: 8.80373 | L21: 8.9870269 | M21: 8.9870269 | N21: 8.1919219
B22: México k/ | C22: 4.0452864 | D22: 4.2888629 | E22: 5.9146306 | F22: 5.8608836 | G22: 5.6351477 | H22: 5.3852123 | I22: 5.3648009 | J22: 5.3473518 | K22: 4.7345993 | L22: 4.2745391 | M22: 4.400732 | N22: 3.7898127
B23: Nicaragua l/ | C23: 7.2614934 | D23: 7.9950495 | E23: 9.9125 | F23: 10.1375 | G23: 6.5143148 | H23: 7.9125 | I23: 7.775 | J23: 8.3875 | K23: … | L23: … | M23: … | N23: …
B24: Panamá m/ | C24: 7.7844262 | D24: 6.4798241 | E24: 7.8633169 | F24: 7.6996195 | G24: 5.370485 | H24: 4.7787897 | I24: 4.6956898 | J24: 5.4259271 | K24: 5.7994937 | L24: 6.4398444 | M24: 6.5002482 | N24: 6.4190135
B25: Paraguay n/ | C25: 7.0389112 | D25: 7.3886403 | E25: 8.1536968 | F25: 6.8298168 | G25: 6.3772236 | H25: 5.680805 | I25: 5.9234783 | J25: 7.2757238 | K25: 6.4458224 | L25: 7.1869419 | M25: 8.25 | N25: 8.65
B26: Perú o/ | C26: 6.2918572 | D26: 6.0131601 | E26: 5.8697136 | F26: 5.2761404 | G26: 5.098978 | H26: 4.6814573 | I26: 4.8021729 | J26: 4.5343288 | K26: 4.3633398 | L26: 5.1776154 | M26: 5.6830804 | N26: 5.5666667
B27: República Dominicana p/ | C27: 5.4139391 | D27: 5.3217014 | E27: 5.7829254 | F27: 5.7199583 | G27: 6.6779887 | H27: 7.2365396 | I27: 7.8720225 | J27: 7.2089547 | K27: 7.9337605 | L27: 7.8526021 | M27: 8.1438526 | N27: 6.2495671
B28: Uruguay | C28: 9.7991242 | D28: 8.3198941 | E28: 8.1674147 | F28: 7.5 | G28: 6.6 | H28: 6.7459267 | I28: 6.7347523 | J28: 6.8739727 | K28: 7.8401348 | L28: 8.1517262 | M28: 8.2877333 | N28: 8.4542333
B29: Venezuela (Rep. Bol. de) q/ | C29: 8.4449249 | D29: 7.3323456 | E29: 7.854541 | F29: 8.6919167 | G29: 8.2917364 | H29: 8.0675772 | I29: 7.7832508 | J29: 7.2557522 | K29: 7.036513 | L29: 7.3338282 | M29: … | N29: …
B30: El Caribe
B31: Bahamas r/ | C31: 7.9 | D31: 8.7 | E31: 15.332573 | F31: … | G31: 15.9 | H31: 14.366007 | I31: 15.8 | J31: 14.635834 | K31: 13.383125 | L31: 12.747823 | M31: 12.747823 | N31: 9.8543022
B32: Barbados s/ | C32: 7.425 | D32: 8.1 | E32: 9.975 | F32: 10.7 | G32: 11.2 | H32: 11.6 | I32: 11.6 | J32: 12.28903 | K32: 11.3 | L32: 9.65 | M32: 9.7 | N32: 10.4
B33: Belice t/ | C33: 10.328711 | D33: 8.2 | E33: 13.1 | F33: 12.5 | G33: … | H33: 15.3 | I33: 14.290122 | J33: 11.569805 | K33: 10.143128 | L33: 9.5314723 | M33: 7.9737923 | N33: 8.9871373
B34: Jamaica u/ | C34: 9.8669997 | D34: 10.569907 | E34: 11.365074 | F34: 12.377241 | G34: 12.682914 | H34: 13.929766 | I34: 15.243855 | J34: 13.739191 | K34: 13.509815 | L34: 13.189153 | M34: 13.287 | N34: 12.054906
B35: Trinidad y Tabago v/ | C35: 5.55 | D35: 4.625 | E35: 5.25 | F35: 5.925 | G35: 5.0666667 | H35: 4.95 | I35: 3.675 | J35: 3.3 | K35: 3.425 | L35: 3.95 | M35: 3.8 | N35: 4.5
B36: América Latina y el Caribe w/ | C36: 7.66759 | D36: 7.1151412 | E36: 8.2446177 | F36: 7.7167984 | G36: 7.0653154 | H36: 7.233953 | I36: 7.0429604 | J36: 6.9067573 | K36: 7.3115964 | L36: 8.930558 | M36: 9.3423332 | N36: 9.8838823
B38: Fuente: OIT con la base de información de las encuestas de hogares de los países.
B40: a/ 31 aglomerados urbanos. El INDEC, en el marco de la emergencia estadística declarada, recomienda desestimar las series publicadas entre el 2007 y 2015 para fines de comparación y análisis del mercado de trabajo en la República Argentina. El dato anual 2016 es el promedio del II, III y IV trimestre y los datos al III trimestre del 2016 y 2017 corresponden al II trimestre respectivamente.
B42: b/ A partir del 2012 datos en base a PNADC, cobertura 20 regiones metropolitanas, serie no comparable con años anteriores.
B43: c/ Nueva medición a partir del 2010, datos no comparables con años anteriores.
B44: d/ Serie cabeceras. Incluye la desocupación oculta.
B45: e/ Datos del 2007-09 corresponden a EHPM levantadas en julio de cada año. A partir del 2010 dato de la ECE, no comparable con años anteriores (el dato del 2010 es el promedio del III y IV trimestre).
B46: f/ Total nacional.
B47: g/ A partir del 2007 cambia la edad de la PET de 10 a 15 años, no comparable con años anteriores. Incluye la desocupación oculta.
B48: h/ A partir del 2007 cambia la edad de la PET de 10 a 16 años, no comparable con años anteriores.
B49: i/ El dato al III trimestre del 2016 y 2017 corresponde al levantamiento de febrero-marzo.
B50: j/ El dato al III trimestre de 2016 y 2017 corresponde a junio.
B51: k/ Serie urbana (urbanización alta, media y baja).
... B63: w/ Promedio ponderado. Excluye la desocupación oculta de Colombia, Ecuador, Jamaica y Panamá.

Sheet C2U
A1: regresar al índice
B2: CUADRO 2
B3: AMÉRICA LATINA Y EL CARIBE: TASA DE DESOCUPACIÓN URBANA SEGÚN PAÍS Y SEXO. 2007 - 2017
B4: (tasas anuales medias)
B6: País | C6: 2007 | D6: 2008 | E6: 2009 | F6: 2010 | G6: 2011 | H6: 2012 | I6: 2013 | J6: 2014 | K6: 2015 | L6: 2016 | M6: 2016 | N6: 2017 | P6: País | Q6: 2007 | R6: 2008 | S6: 2009 | T6: 2010 | U6: 2011 | V6: 2012 | W6: 2013 | X6: 2014 | Y6: 2015 | Z6: 2016 | AA6: 2016 | AB6: 2017 | AD6: País | AE6: 2007 | AF6: 2008 | AG6: 2009 | AH6: 2010 | AI6: 2011 | AJ6: 2012 | AK6: 2013 | AL6: 2014 | AM6: 2015 | AN6: 2016 | AO6: 2016 | AP6: 2017
M8: Promedio al III Trimestre
AA9: Promedio al III Trimestre | AO9: Promedio al III Trimestre
B10: América Latina | P10: América Latina | AD10: =EXACT(B10,P10) -> TRUE | AE10: =EXACT(C10,Q10) -> TRUE | AF10: =EXACT(D10,R10) -> TRUE | AG10: =EXACT(E10,S10) -> TRUE | AH10: =EXACT(F10,T10) -> TRUE | AI10: =EXACT(G10,U10) -> TRUE | AJ10: =EXACT(H10,V10) -> TRUE | AK10: =EXACT(I10,W10) -> TRUE | ... AP10: =EXACT(N10,AB10) -> TRUE
B11: Argentina a/ | C11: … | D11: … | E11: … | F11: … | G11: … | H11: … | I11: … | J11: … | K11: … | L11: 8.4666667 | M11: 9.3 | N11: 8.7 | P11: Argentina a/ | Q11: … | R11: … | S11: … | T11: … | U11: … | V11: … | W11: … | X11: … | Y11: … | Z11: 8.4666667 | AA11: 9.3 | AB11: 8.7 | AD11: =EXACT(B11,P11) -> TRUE | AE11: =EXACT(C11,Q11) -> TRUE | AF11: =EXACT(D11,R11) -> TRUE | AG11: =EXACT(E11,S11) -> TRUE | AH11: =EXACT(F11,T11) -> TRUE | AI11: =EXACT(G11,U11) -> TRUE | AJ11: =EXACT(H11,V11) -> TRUE | AK11: =EXACT(I11,W11) -> TRUE | ... AP11: =EXACT(N11,AB11) -> TRUE
B12: Hombre | C12: … | D12: … | E12: … | F12: … | G12: … | H12: … | I12: … | J12: … | K12: … | L12: 7.8 | M12: 8.5 | N12: 8.2 | P12: Hombre | Q12: … | R12: … | S12: … | T12: … | U12: … | V12: … | W12: … | X12: … | Y12: … | Z12: 7.8 | AA12: 8.5 | AB12: 8.2 | AD12: =EXACT(B12,P12) -> TRUE | AE12: =EXACT(C12,Q12) -> TRUE | AF12: =EXACT(D12,R12) -> TRUE | AG12: =EXACT(E12,S12) -> TRUE | AH12: =EXACT(F12,T12) -> TRUE | AI12: =EXACT(G12,U12) -> TRUE | AJ12: =EXACT(H12,V12) -> TRUE | AK12: =EXACT(I12,W12) -> TRUE | ... AP12: =EXACT(N12,AB12) -> TRUE
B13: Mujer | C13: … | D13: … | E13: … | F13: … | G13: … | H13: … | I13: … | J13: … | K13: … | L13: 9.3666667 | M13: 10.5 | N13: 9.5 | P13: Mujer | Q13: … | R13: … | S13: … | T13: … | U13: … | V13: … | W13: … | X13: … | Y13: … | Z13: 9.3666667 | AA13: 10.5 | AB13: 9.5 | AD13: =EXACT(B13,P13) -> TRUE | AE13: =EXACT(C13,Q13) -> TRUE | AF13: =EXACT(D13,R13) -> TRUE | AG13: =EXACT(E13,S13) -> TRUE | AH13: =EXACT(F13,T13) -> TRUE | AI13: =EXACT(G13,U13) -> TRUE | AJ13: =EXACT(H13,V13) -> TRUE | AK13: =EXACT(I13,W13) -> TRUE | ... AP13: =EXACT(N13,AB13) -> TRUE
B14: Bolivia (Estado Plur. de) | C14: 7.667853 | D14: 4.4301284 | E14: 4.9131204 | F14: … | G14: 3.8096447 | H14: 3.2209563 | I14: 4.0186917 | J14: 3.5413262 | K14: 4.3773947 | L14: 4.91 | M14: … | N14: … | P14: Bolivia (Estado Plur. de) | Q14: 7.667853 | R14: 4.4301284 | S14: 4.9131204 | T14: … | U14: 3.8096447 | V14: 3.2209563 | W14: 4.0186917 | X14: 3.5413262 | Y14: 4.3773947 | Z14: 4.91 | AA14: … | AB14: … | AD14: =EXACT(B14,P14) -> TRUE | AE14: =EXACT(C14,Q14) -> TRUE | AF14: =EXACT(D14,R14) -> TRUE | AG14: =EXACT(E14,S14) -> TRUE | AH14: =EXACT(F14,T14) -> TRUE | AI14: =EXACT(G14,U14) -> TRUE | AJ14: =EXACT(H14,V14) -> TRUE | AK14: =EXACT(I14,W14) -> TRUE | ... AP14: =EXACT(N14,AB14) -> TRUE
B15: Hombre | C15: 6.29325 | D15: 3.3345334 | E15: 3.6757425 | F15: … | G15: 3.1202098 | H15: 2.2357802 | I15: 3.1886547 | J15: 2.4861845 | K15: 3.5127828 | L15: 3.65 | M15: … | N15: … | P15: Hombre | Q15: 6.29325 | R15: 3.3345334 | S15: 3.6757425 | T15: … | U15: 3.1202098 | V15: 2.2357802 | W15: 3.1886547 | X15: 2.4861845 | Y15: 3.5127828 | Z15: 3.65 | AA15: … | AB15: … | AD15: =EXACT(B15,P15) -> TRUE | AE15: =EXACT(C15,Q15) -> TRUE | AF15: =EXACT(D15,R15) -> TRUE | AG15: =EXACT(E15,S15) -> TRUE | AH15: =EXACT(F15,T15) -> TRUE | AI15: =EXACT(G15,U15) -> TRUE | AJ15: =EXACT(H15,V15) -> TRUE | AK15: =EXACT(I15,W15) -> TRUE | ... AP15: =EXACT(N15,AB15) -> TRUE
B16: Mujer | C16: 9.4110772 | D16: 5.7454182 | E16: 6.4431102 | F16: … | G16: 4.6909003 | H16: 4.4229876 | I16: 5.0576385 | J16: 4.8698901 | K16: 5.5703461 | L16: 6.52 | M16: … | N16: … | P16: Mujer | Q16: 9.4110772 | R16: 5.7454182 | S16: 6.4431102 | T16: … | U16: 4.6909003 | V16: 4.4229876 | W16: 5.0576385 | X16: 4.8698901 | Y16: 5.5703461 | Z16: 6.52 | AA16: … | AB16: … | AD16: =EXACT(B16,P16) -> TRUE | AE16: =EXACT(C16,Q16) -> TRUE | AF16: =EXACT(D16,R16) -> TRUE | AG16: =EXACT(E16,S16) -> TRUE | AH16: =EXACT(F16,T16) -> TRUE | AI16: =EXACT(G16,U16) -> TRUE | AJ16: =EXACT(H16,V16) -> TRUE | AK16: =EXACT(I16,W16) -> TRUE | ... AP16: =EXACT(N16,AB16) -> TRUE
B17: Brasil b/ | C17: 9.2612932 | D17: 8.0838916 | E17: 9.3430349 | F17: … | G17: 7.4643252 | H17: 8.2222828 | I17: 7.9875437 | J17: 7.7590973 | K17: 9.3272554 | L17: 13.031571 | M17: 12.839566 | N17: 14.713714 | P17: Brasil b/ | Q17: 9.2612932 | R17: 8.0838916 | S17: 9.3430349 | T17: … | U17: 7.4643252 | V17: 8.2222828 | W17: 7.9875437 | X17: 7.7590973 | Y17: 9.3272554 | Z17: 13.031571 | AA17: 12.839566 | AB17: 14.713714 | AD17: =EXACT(B17,P17) -> TRUE | AE17: =EXACT(C17,Q17) -> TRUE | AF17: =EXACT(D17,R17) -> TRUE | AG17: =EXACT(E17,S17) -> TRUE | AH17: =EXACT(F17,T17) -> TRUE | AI17: =EXACT(G17,U17) -> TRUE | AJ17: =EXACT(H17,V17) -> TRUE | AK17: =EXACT(I17,W17) -> TRUE | ... AP17: =EXACT(N17,AB17) -> TRUE
B18: Hombre | C18: 7.0754073 | D18: 6.0439128 | E18: 7.0932377 | F18: … | G18: 5.531115 | H18: 6.8414745 | I18: 6.5670743 | J18: 6.6561662 | K18: 8.1410386 | L18: 11.571174 | M18: 11.37358 | N18: 13.239928 | P18: Hombre | Q18: 7.0754073 | R18: 6.0439128 | S18: 7.0932377 | T18: … | U18: 5.531115 | V18: 6.8414745 | W18: 6.5670743 | X18: 6.6561662 | Y18: 8.1410386 | Z18: 11.571174 | AA18: 11.37358 | AB18: 13.239928 | AD18: =EXACT(B18,P18) -> TRUE | AE18: =EXACT(C18,Q18) -> TRUE | AF18: =EXACT(D18,R18) -> TRUE | AG18: =EXACT(E18,S18) -> TRUE | AH18: =EXACT(F18,T18) -> TRUE | AI18: =EXACT(G18,U18) -> TRUE | AJ18: =EXACT(H18,V18) -> TRUE | AK18: =EXACT(I18,W18) -> TRUE | ... AP18: =EXACT(N18,AB18) -> TRUE
B19: Mujer | C19: 11.958656 | D19: 10.604144 | E19: 12.081907 | F19: … | G19: 9.8850537 | H19: 9.8641783 | I19: 9.6716265 | J19: 9.0651478 | K19: 10.7245 | L19: 14.74352 | M19: 14.560872 | N19: 16.41046 | P19: Mujer | Q19: 11.958656 | R19: 10.604144 | S19: 12.081907 | T19: … | U19: 9.8850537 | V19: 9.8641783 | W19: 9.6716265 | X19: 9.0651478 | Y19: 10.7245 | Z19: 14.74352 | AA19: 14.560872 | AB19: 16.41046 | AD19: =EXACT(B19,P19) -> TRUE | AE19: =EXACT(C19,Q19) -> TRUE | AF19: =EXACT(D19,R19) -> TRUE | AG19: =EXACT(E19,S19) -> TRUE | AH19: =EXACT(F19,T19) -> TRUE | AI19: =EXACT(G19,U19) -> TRUE | AJ19: =EXACT(H19,V19) -> TRUE | AK19: =EXACT(I19,W19) -> TRUE | ... AP19: =EXACT(N19,AB19) -> TRUE
B20: Chile c/ | C20: 7.5716322 | D20: 8.223487 | E20: 10.17054 | F20: 8.5078931 | G20: 7.4123011 | H20: 6.7065114 | I20: 6.1577398 | J20: 6.651426 | K20: 6.4352589 | L20: 6.8064768 | M20: 6.9641423 | N20: 7.0160688 | P20: Chile c/ | Q20: 7.5716322 | R20: 8.223487 | S20: 10.17054 | T20: 8.5078931 | U20: 7.4123011 | V20: 6.7065114 | W20: 6.1577398 | X20: 6.651426 | Y20: 6.4352589 | Z20: 6.8064768 | AA20: 6.9641423 | AB20: 7.0160688 | AD20: =EXACT(B20,P20) -> TRUE | AE20: =EXACT(C20,Q20) -> TRUE | AF20: =EXACT(D20,R20) -> TRUE | AG20: =EXACT(E20,S20) -> TRUE | AH20: =EXACT(F20,T20) -> TRUE | AI20: =EXACT(G20,U20) -> TRUE | AJ20: =EXACT(H20,V20) -> TRUE | AK20: =EXACT(I20,W20) -> TRUE | ... AP20: =EXACT(N20,AB20) -> TRUE
B21: Hombre | C21: 6.7897748 | D21: 7.2568215 | E21: 9.7071471 | F21: 7.6147705 | G21: 6.452464 | H21: 5.7396475 | I21: 5.5435103 | J21: 6.4099405 | K21: 6.0640584 | L21: 6.5379174 | M21: 6.6059077 | N21: 6.7222189 | P21: Hombre | Q21: 6.7897748 | R21: 7.2568215 | S21: 9.7071471 | T21: 7.6147705 | U21: 6.452464 | V21: 5.7396475 | W21: 5.5435103 | X21: 6.4099405 | Y21: 6.0640584 | Z21: 6.5379174 | AA21: 6.6059077 | AB21: 6.7222189 | AD21: =EXACT(B21,P21) -> TRUE | AE21: =EXACT(C21,Q21) -> TRUE | AF21: =EXACT(D21,R21) -> TRUE | AG21: =EXACT(E21,S21) -> TRUE | AH21: =EXACT(F21,T21) -> TRUE | AI21: =EXACT(G21,U21) -> TRUE | AJ21: =EXACT(H21,V21) -> TRUE | AK21: =EXACT(I21,W21) -> TRUE | ... AP21: =EXACT(N21,AB21) -> TRUE
B22: Mujer | C22: 8.8383177 | D22: 9.7365083 | E22: 10.884175 | F22: 9.7632498 | G22: 8.7477504 | H22: 8.0415725 | I22: 6.999347 | J22: 6.9759549 | K22: 6.891485 | L22: 7.1189877 | M22: 7.3610227 | N22: 7.5970245 | P22: Mujer | Q22: 8.8383177 | R22: 9.7365083 | S22: 10.884175 | T22: 9.7632498 | U22: 8.7477504 | V22: 8.0415725 | W22: 6.999347 | X22: 6.9759549 | Y22: 6.891485 | Z22: 7.1189877 | AA22: 7.3610227 | AB22: 7.5970245 | AD22: =EXACT(B22,P22) -> TRUE | AE22: =EXACT(C22,Q22) -> TRUE | AF22: =EXACT(D22,R22) -> TRUE | AG22: =EXACT(E22,S22) -> TRUE | AH22: =EXACT(F22,T22) -> TRUE | AI22: =EXACT(G22,U22) -> TRUE | AJ22: =EXACT(H22,V22) -> TRUE | AK22: =EXACT(I22,W22) -> TRUE | ... AP22: =EXACT(N22,AB22) -> TRUE
B23: Colombia d/ | C23: 12.158932 | D23: 12.116813 | E23: 13.172091 | F23: 12.720811 | G23: 11.803464 | H23: 11.447465 | I23: 10.663244 | J23: 10.001883 | K23: 9.7737355 | L23: 10.267737 | M23: 10.622794 | N23: 10.782809 | P23: Colombia d/ | Q23: 12.158932 | R23: 12.116813 | S23: 13.172091 | T23: 12.720811 | U23: 11.803464 | V23: 11.447465 | W23: 10.663244 | X23: 10.001883 | Y23: 9.7737355 | Z23: 10.267737 | AA23: 10.622794 | AB23: 10.782809 | AD23: =EXACT(B23,P23) -> TRUE | AE23: =EXACT(C23,Q23) -> TRUE | AF23: =EXACT(D23,R23) -> TRUE | AG23: =EXACT(E23,S23) -> TRUE | AH23: =EXACT(F23,T23) -> TRUE | AI23: =EXACT(G23,U23) -> TRUE | AJ23: =EXACT(H23,V23) -> TRUE | AK23: =EXACT(I23,W23) -> TRUE | ... AP23: =EXACT(N23,AB23) -> TRUE
B24: Hombre | C24: 10.164075 | D24: 10.238286 | E24: 11.062975 | F24: 10.59862 | G24: 9.6422563 | H24: 9.2319345 | I24: 8.7221688 | J24: 8.1401892 | K24: 7.9152505 | L24: 8.4235049 | M24: 8.7224739 | N24: 8.7726043 | P24: Hombre | Q24: 10.164075 | R24: 10.238286 | S24: 11.062975 | T24: 10.59862 | U24: 9.6422563 | V24: 9.2319345 | W24: 8.7221688 | X24: 8.1401892 | Y24: 7.9152505 | Z24: 8.4235049 | AA24: 8.7224739 | AB24: 8.7726043 | AD24: =EXACT(B24,P24) -> TRUE | AE24: =EXACT(C24,Q24) -> TRUE | AF24: =EXACT(D24,R24) -> TRUE | AG24: =EXACT(E24,S24) -> TRUE | AH24: =EXACT(F24,T24) -> TRUE | AI24: =EXACT(G24,U24) -> TRUE | AJ24: =EXACT(H24,V24) -> TRUE | AK24: =EXACT(I24,W24) -> TRUE | ... AP24: =EXACT(N24,AB24) -> TRUE
B25: Mujer | C25: 14.660565 | D25: 14.466036 | E25: 15.740255 | F25: 15.256512 | G25: 14.3624 | H25: 14.047979 | I25: 12.933836 | J25: 12.186209 | K25: 11.94199 | L25: 12.431076 | M25: 12.857471 | N25: 13.143455 | P25: Mujer | Q25: 14.660565 | R25: 14.466036 | S25: 15.740255 | T25: 15.256512 | U25: 14.3624 | V25: 14.047979 | W25: 12.933836 | X25: 12.186209 | Y25: 11.94199 | Z25: 12.431076 | AA25: 12.857471 | AB25: 13.143455 | AD25: =EXACT(B25,P25) -> TRUE | AE25: =EXACT(C25,Q25) -> TRUE | AF25: =EXACT(D25,R25) -> TRUE | AG25: =EXACT(E25,S25) -> TRUE | AH25: =EXACT(F25,T25) -> TRUE | AI25: =EXACT(G25,U25) -> TRUE | AJ25: =EXACT(H25,V25) -> TRUE | AK25: =EXACT(I25,W25) -> TRUE | ... AP25: =EXACT(N25,AB25) -> TRUE
B26: Costa Rica e/ | C26: 4.8 | D26: 4.8 | E26: 7.6451449 | F26: 8.5008741 | G26: 10.110135 | H26: 9.9822345 | I26: 9.2173885 | J26: 9.5676815 | K26: 9.7150853 | L26: 9.5960925 | M26: 9.666604 | N26: 8.8727788 | P26: Costa Rica e/ | Q26: 4.8 | R26: 4.8 | S26: 7.6451449 | T26: 8.5008741 | U26: 10.110135 | V26: 9.9822345 | W26: 9.2173885 | X26: 9.5676815 | Y26: 9.7150853 | Z26: 9.5960925 | AA26: 9.666604 | AB26: 8.8727788 | AD26: =EXACT(B26,P26) -> TRUE | AE26: =EXACT(C26,Q26) -> TRUE | AF26: =EXACT(D26,R26) -> TRUE | AG26: =EXACT(E26,S26) -> TRUE | AH26: =EXACT(F26,T26) -> TRUE | AI26: =EXACT(G26,U26) -> TRUE | AJ26: =EXACT(H26,V26) -> TRUE | AK26: =EXACT(I26,W26) -> TRUE | ... AP26: =EXACT(N26,AB26) -> TRUE
B27: Hombre | C27: 3.4104394 | D27: 4.2962008 | E27: 6.4972147 | F27: 7.4503339 | G27: 8.5922053 | H27: 8.9195836 | I27: 8.2962853 | J27: 8.3247945 | K27: 8.2688189 | L27: 8.2841671 | M27: 8.782967 | N27: 7.7166609 | P27: Hombre | Q27: 3.4104394 | R27: 4.2962008 | S27: 6.4972147 | T27: 7.4503339 | U27: 8.5922053 | V27: 8.9195836 | W27: 8.2962853 | X27: 8.3247945 | Y27: 8.2688189 | Z27: 8.2841671 | AA27: 8.782967 | AB27: 7.7166609 | AD27: =EXACT(B27,P27) -> TRUE | AE27: =EXACT(C27,Q27) -> TRUE | AF27: =EXACT(D27,R27) -> TRUE | AG27: =EXACT(E27,S27) -> TRUE | AH27: =EXACT(F27,T27) -> TRUE | AI27: =EXACT(G27,U27) -> TRUE | AJ27: =EXACT(H27,V27) -> TRUE | AK27: =EXACT(I27,W27) -> TRUE | ... AP27: =EXACT(N27,AB27) -> TRUE
B28: Mujer | C28: 6.8300315 | D28: 5.5550939 | E28: 9.2419085 | F28: 10.083385 | G28: 12.391633 | H28: 11.4622 | I28: 10.501215 | J28: 11.328482 | K28: 11.735634 | L28: 11.546291 | M28: 10.981629 | N28: 10.588947 | P28: Mujer | Q28: 6.8300315 | R28: 5.5550939 | S28: 9.2419085 | T28: 10.083385 | U28: 12.391633 | V28: 11.4622 | W28: 10.501215 | X28: 11.328482 | Y28: 11.735634 | Z28: 11.546291 | AA28: 10.981629 | AB28: 10.588947 | AD28: =EXACT(B28,P28) -> TRUE | AE28: =EXACT(C28,Q28) -> TRUE | AF28: =EXACT(D28,R28) -> TRUE | AG28: =EXACT(E28,S28) -> TRUE | AH28: =EXACT(F28,T28) -> TRUE | AI28: =EXACT(G28,U28) -> TRUE | AJ28: =EXACT(H28,V28) -> TRUE | AK28: =EXACT(I28,W28) -> TRUE | ... AP28: =EXACT(N28,AB28) -> TRUE
B29: Cuba f/ | C29: 1.787301 | D29: 1.5851548 | E29: 1.7 | F29: 2.5 | G29: 3.2 | H29: 3.5 | I29: 3.2874558 | J29: 2.6579179 | K29: 2.3897982 | L29: 2.0293628 | M29: … | N29: … | P29: Cuba f/ | Q29: 1.787301 | R29: 1.5851548 | S29: 1.7 | T29: 2.5 | U29: 3.2 | V29: 3.5 | W29: 3.2874558 | X29: 2.6579179 | Y29: 2.3897982 | Z29: 2.0293628 | AA29: … | AB29: … | AD29: =EXACT(B29,P29) -> TRUE | AE29: =EXACT(C29,Q29) -> TRUE | AF29: =EXACT(D29,R29) -> TRUE | AG29: =EXACT(E29,S29) -> TRUE | AH29: =EXACT(F29,T29) -> TRUE | AI29: =EXACT(G29,U29) -> TRUE | AJ29: =EXACT(H29,V29) -> TRUE | AK29: =EXACT(I29,W29) -> TRUE | ... AP29: =EXACT(N29,AB29) -> TRUE
B30: Hombre | C30: 1.7 | D30: 1.3482713 | E30: 1.4693416 | F30: 2.3740187 | G30: 2.9725964 | H30: 3.3670034 | I30: 3.1322725 | J30: 2.392569 | K30: 2.2927973 | L30: 1.9397652 | M30: … | N30: … | P30: Hombre | Q30: 1.7 | R30: 1.3482713 | S30: 1.4693416 | T30: 2.3740187 | U30: 2.9725964 | V30: 3.3670034 | W30: 3.1322725 | X30: 2.392569 | Y30: 2.2927973 | Z30: 1.9397652 | AA30: … | AB30: … | AD30: =EXACT(B30,P30) -> TRUE | AE30: =EXACT(C30,Q30) -> TRUE | AF30: =EXACT(D30,R30) -> TRUE | AG30: =EXACT(E30,S30) -> TRUE | AH30: =EXACT(F30,T30) -> TRUE | AI30: =EXACT(G30,U30) -> TRUE | AJ30: =EXACT(H30,V30) -> TRUE | AK30: =EXACT(I30,W30) -> TRUE | ... AP30: =EXACT(N30,AB30) -> TRUE
B31: Mujer | C31: 1.9 | D31: 1.9709327 | E31: 1.9914868 | F31: 2.7133569 | G31: 3.5115681 | H31: 3.6197401 | I31: 3.5463225 | J31: 3.1025628 | K31: 2.5517315 | L31: 2.180008 | M31: … | N31: … | P31: Mujer | Q31: 1.9 | R31: 1.9709327 | S31: 1.9914868 | T31: 2.7133569 | U31: 3.5115681 | V31: 3.6197401 | W31: 3.5463225 | X31: 3.1025628 | Y31: 2.5517315 | Z31: 2.180008 | AA31: … | AB31: … | AD31: =EXACT(B31,P31) -> TRUE | AE31: =EXACT(C31,Q31) -> TRUE | AF31: =EXACT(D31,R31) -> TRUE | AG31: =EXACT(E31,S31) -> TRUE | AH31: =EXACT(F31,T31) -> TRUE | AI31: =EXACT(G31,U31) -> TRUE | AJ31: =EXACT(H31,V31) -> TRUE | AK31: =EXACT(I31,W31) -> TRUE | ... AP31: =EXACT(N31,AB31) -> TRUE
B32: Ecuador g/ | C32: 6.8864689 | D32: 6.9062408 | E32: 8.509434 | F32: 7.590458 | G32: 6.0084295 | H32: 4.9373854 | I32: 4.7317701 | J32: 5.1245462 | K32: 5.386182 | L32: 6.806888 | M32: 6.9033943 | N32: 5.5948613 | P32: Ecuador g/ | Q32: 6.8864689 | R32: 6.9062408 | S32: 8.509434 | T32: 7.590458 | U32: 6.0084295 | V32: 4.9373854 | W32: 4.7317701 | X32: 5.1245462 | Y32: 5.386182 | Z32: 6.806888 | AA32: 6.9033943 | AB32: 5.5948613 | AD32: =EXACT(B32,P32) -> TRUE | AE32: =EXACT(C32,Q32) -> TRUE | AF32: =EXACT(D32,R32) -> TRUE | AG32: =EXACT(E32,S32) -> TRUE | AH32: =EXACT(F32,T32) -> TRUE | AI32: =EXACT(G32,U32) -> TRUE | AJ32: =EXACT(H32,V32) -> TRUE | AK32: =EXACT(I32,W32) -> TRUE | ... AP32: =EXACT(N32,AB32) -> TRUE
B33: Hombre | C33: 5.7608573 | D33: 5.5200365 | E33: 7.0644521 | F33: 6.297947 | G33: 5.1490106 | H33: 4.5044808 | I33: 4.2408715 | J33: 4.5034766 | K33: 4.4207143 | L33: 5.5547175 | M33: 5.4708748 | N33: 4.526184 | P33: Hombre | Q33: 5.7608573 | R33: 5.5200365 | S33: 7.0644521 | T33: 6.297947 | U33: 5.1490106 | V33: 4.5044808 | W33: 4.2408715 | X33: 4.5034766 | Y33: 4.4207143 | Z33: 5.5547175 | AA33: 5.4708748 | AB33: 4.526184 | AD33: =EXACT(B33,P33) -> TRUE | AE33: =EXACT(C33,Q33) -> TRUE | AF33: =EXACT(D33,R33) -> TRUE | AG33: =EXACT(E33,S33) -> TRUE | AH33: =EXACT(F33,T33) -> TRUE | AI33: =EXACT(G33,U33) -> TRUE | AJ33: =EXACT(H33,V33) -> TRUE | AK33: =EXACT(I33,W33) -> TRUE | ... AP33: =EXACT(N33,AB33) -> TRUE
B34: Mujer | C34: 8.3768548 | D34: 8.766761 | E34: 10.449448 | F34: 9.3148676 | G34: 7.1637652 | H34: 5.5412141 | I34: 5.4342983 | J34: 6.0245254 | K34: 6.7418395 | L34: 8.4524519 | M34: 8.7738632 | N34: 7.0015151 | P34: Mujer | Q34: 8.3768548 | R34: 8.766761 | S34: 10.449448 | T34: 9.3148676 | U34: 7.1637652 | V34: 5.5412141 | W34: 5.4342983 | X34: 6.0245254 | Y34: 6.7418395 | Z34: 8.4524519 | AA34: 8.7738632 | AB34: 7.0015151 | AD34: =EXACT(B34,P34) -> TRUE | AE34: =EXACT(C34,Q34) -> TRUE | AF34: =EXACT(D34,R34) -> TRUE | AG34: =EXACT(E34,S34) -> TRUE | AH34: =EXACT(F34,T34) -> TRUE | AI34: =EXACT(G34,U34) -> TRUE | AJ34: =EXACT(H34,V34) -> TRUE | AK34: =EXACT(I34,W34) -> TRUE | ... AP34: =EXACT(N34,AB34) -> TRUE
B35: El Salvador h/ | C35: 5.8 | D35: 5.5 | E35: 7.1156102 | F35: 6.7734617 | G35: 6.6 | H35: 6.230052 | I35: 5.5912793 | J35: 6.7278756 | K35: 6.5164011 | L35: 6.8588127 | M35: … | N35: … | P35: El Salvador h/ | Q35: 5.8 | R35: 5.5 | S35: 7.1156102 | T35: 6.7734617 | U35: 6.6 | V35: 6.230052 | W35: 5.5912793 | X35: 6.7278756 | Y35: 6.5164011 | Z35: 6.8588127 | AA35: … | AB35: … | AD35: =EXACT(B35,P35) -> TRUE | AE35: =EXACT(C35,Q35) -> TRUE | AF35: =EXACT(D35,R35) -> TRUE | AG35: =EXACT(E35,S35) -> TRUE | AH35: =EXACT(F35,T35) -> TRUE | AI35: =EXACT(G35,U35) -> TRUE | AJ35: =EXACT(H35,V35) -> TRUE | AK35: =EXACT(I35,W35) -> TRUE | ... AP35: =EXACT(N35,AB35) -> TRUE
B36: Hombre | C36: 7.9007775 | D36: 7.2439781 | E36: 9.0358903 | F36: 8.255406 | G36: 8.675274 | H36: 7.9809187 | I36: 6.8309942 | J36: 8.5481093 | K36: 8.1025792 | L36: 8.2330511 | M36: … | N36: … | P36: Hombre | Q36: 7.9007775 | R36: 7.2439781 | S36: 9.0358903 | T36: 8.255406 | U36: 8.675274 | V36: 7.9809187 | W36: 6.8309942 | X36: 8.5481093 | Y36: 8.1025792 | Z36: 8.2330511 | AA36: … | AB36: … | AD36: =EXACT(B36,P36) -> TRUE | AE36: =EXACT(C36,Q36) -> TRUE | AF36: =EXACT(D36,R36) -> TRUE | AG36: =EXACT(E36,S36) -> TRUE | AH36: =EXACT(F36,T36) -> TRUE | AI36: =EXACT(G36,U36) -> TRUE | AJ36: =EXACT(H36,V36) -> TRUE | AK36: =EXACT(I36,W36) -> TRUE | ... AP36: =EXACT(N36,AB36) -> TRUE
B37: Mujer | C37: 3.3825064 | D37: 3.4676152 | E37: 4.8947722 | F37: 5.079325 | G37: 4.117689 | H37: 4.1676955 | I37: 4.1777915 | J37: 4.6221204 | K37: 4.5885743 | L37: 5.2390371 | M37: … | N37: … | P37: Mujer | Q37: 3.3825064 | R37: 3.4676152 | S37: 4.8947722 | T37: 5.079325 | U37: 4.117689 | V37: 4.1676955 | W37: 4.1777915 | X37: 4.6221204 | Y37: 4.5885743 | Z37: 5.2390371 | AA37: … | AB37: … | AD37: =EXACT(B37,P37) -> TRUE | AE37: =EXACT(C37,Q37) -> TRUE | AF37: =EXACT(D37,R37) -> TRUE | AG37: =EXACT(E37,S37) -> TRUE | AH37: =EXACT(F37,T37) -> TRUE | AI37: =EXACT(G37,U37) -> TRUE | AJ37: =EXACT(H37,V37) -> TRUE | AK37: =EXACT(I37,W37) -> TRUE | ... AP37: =EXACT(N37,AB37) -> TRUE
B38: Guatemala i/ | C38: … | D38: … | E38: … | F38: 4.8 | G38: 3.1 | H38: 4.026936 | I38: 3.832057 | J38: 4.0020392 | K38: 3.1766877 | L38: 3.4060059 | M38: 3.9533322 | N38: 3.9083671 | P38: Guatemala i/ | Q38: … | R38: … | S38: … | T38: 4.8 | U38: 3.1 | V38: 4.026936 | W38: 3.832057 | X38: 4.0020392 | Y38: 3.1766877 | Z38: 3.4060059 | AA38: 3.9533322 | AB38: 3.9083671 | AD38: =EXACT(B38,P38) -> TRUE | AE38: =EXACT(C38,Q38) -> TRUE | AF38: =EXACT(D38,R38) -> TRUE | AG38: =EXACT(E38,S38) -> TRUE | AH38: =EXACT(F38,T38) -> TRUE | AI38: =EXACT(G38,U38) -> TRUE | AJ38: =EXACT(H38,V38) -> TRUE | AK38: =EXACT(I38,W38) -> TRUE | ... AP38: =EXACT(N38,AB38) -> TRUE
B39: Hombre | C39: … | D39: … | E39: … | F39: 4.4435876 | G39: 2.7614518 | H39: 3.6922689 | I39: 3.8885876 | J39: 3.8751701 | K39: 2.9247309 | L39: 3.1390596 | M39: 3.5294938 | N39: 3.6182883 | P39: Hombre | Q39: … | R39: … | S39: … | T39: 4.4435876 | U39: 2.7614518 | V39: 3.6922689 | W39: 3.8885876 | X39: 3.8751701 | Y39: 2.9247309 | Z39: 3.1390596 | AA39: 3.5294938 | AB39: 3.6182883 | AD39: =EXACT(B39,P39) -> TRUE | AE39: =EXACT(C39,Q39) -> TRUE | AF39: =EXACT(D39,R39) -> TRUE | AG39: =EXACT(E39,S39) -> TRUE | AH39: =EXACT(F39,T39) -> TRUE | AI39: =EXACT(G39,U39) -> TRUE | AJ39: =EXACT(H39,V39) -> TRUE | AK39: =EXACT(I39,W39) -> TRUE | ... AP39: =EXACT(N39,AB39) -> TRUE
B40: Mujer | C40: … | D40: … | E40: … | F40: 5.1980017 | G40: 3.7401729 | H40: 4.5114938 | I40: 3.7470496 | J40: 4.1810929 | K40: 3.5724923 | L40: 3.799501 | M40: 4.5612614 | N40: 4.3298648 | P40: Mujer | Q40: … | R40: … | S40: … | T40: 5.1980017 | U40: 3.7401729 | V40: 4.5114938 | W40: 3.7470496 | X40: 4.1810929 | Y40: 3.5724923 | Z40: 3.799501 | AA40: 4.5612614 | AB40: 4.3298648 | AD40: =EXACT(B40,P40) -> TRUE | AE40: =EXACT(C40,Q40) -> TRUE | AF40: =EXACT(D40,R40) -> TRUE | AG40: =EXACT(E40,S40) -> TRUE | AH40: =EXACT(F40,T40) -> TRUE | AI40: =EXACT(G40,U40) -> TRUE | AJ40: =EXACT(H40,V40) -> TRUE | AK40: =EXACT(I40,W40) -> TRUE | ... AP40: =EXACT(N40,AB40) -> TRUE
B41: Hondurasj/ | C41: 4.0725193 | D41: 3.897734 | E41: 4.8887995 | F41: 6.436457 | G41: 6.7995943 | H41: 5.6282114 | I41: 5.9706819 | J41: 7.5243871 | K41: 8.80373 | L41: 8.9870269 | M41: 8.9870269 | N41: 8.1919219 | P41: Honduras j/ | Q41: 4.0725193 | R41: 3.897734 | S41: 4.8887995 | T41: 6.436457 | U41: 6.7995943 | V41: 5.6282114 | W41: 5.9706819 | X41: 7.5243871 | Y41: 8.80373 | Z41: 8.9870269 | AA41: 8.9870269 | AB41: 8.1919219 | AD41: =EXACT(B41,P41) -> FALSE | AE41: =EXACT(C41,Q41) -> TRUE | AF41: =EXACT(D41,R41) -> TRUE | AG41: =EXACT(E41,S41) -> TRUE | AH41: =EXACT(F41,T41) -> TRUE | AI41: =EXACT(G41,U41) -> TRUE | AJ41: =EXACT(H41,V41) -> TRUE | AK41: =EXACT(I41,W41) -> TRUE | ... AP41: =EXACT(N41,AB41) -> TRUE
B42: Hombre | C42: 3.8238278 | D42: 4.233442 | E42: 4.6225912 | F42: 5.8605702 | G42: 6.1508448 | H42: 5.2665274 | I42: 5.7035527 | J42: 6.9212656 | K42: 7.0038144 | L42: 7.6368792 | M42: 7.6368792 | N42: 6.8257012 | P42: Hombre | Q42: 3.8238278 | R42: 4.233442 | S42: 4.6225912 | T42: 5.8605702 | U42: 6.1508448 | V42: 5.2665274 | W42: 5.7035527 | X42: 6.9212656 | Y42: 7.0038144 | Z42: 7.6368792 | AA42: 7.6368792 | AB42: 6.8257012 | AD42: =EXACT(B42,P42) -> TRUE | AE42: =EXACT(C42,Q42) -> TRUE | AF42: =EXACT(D42,R42) -> TRUE | AG42: =EXACT(E42,S42) -> TRUE | AH42: =EXACT(F42,T42) -> TRUE | AI42: =EXACT(G42,U42) -> TRUE | AJ42: =EXACT(H42,V42) -> TRUE | AK42: =EXACT(I42,W42) -> TRUE | ... AP42: =EXACT(N42,AB42) -> TRUE
B43: Mujer | C43: 4.402857 | D43: 4.235333 | E43: 5.2227156 | F43: 7.1341231 | G43: 7.6049071 | H43: 6.0833004 | I43: 6.2934828 | J43: 8.2775006 | K43: 10.871114 | L43: 10.598153 | M43: 10.598153 | N43: 9.7837433 | P43: Mujer | Q43: 4.402857 | R43: 4.235333 | S43: 5.2227156 | T43: 7.1341231 | U43: 7.6049071 | V43: 6.0833004 | W43: 6.2934828 | X43: 8.2775006 | Y43: 10.871114 | Z43: 10.598153 | AA43: 10.598153 | AB43: 9.7837433 | AD43: =EXACT(B43,P43) -> TRUE | AE43: =EXACT(C43,Q43) -> TRUE | AF43: =EXACT(D43,R43) -> TRUE | AG43: =EXACT(E43,S43) -> TRUE | AH43: =EXACT(F43,T43) -> TRUE | AI43: =EXACT(G43,U43) -> TRUE | AJ43: =EXACT(H43,V43) -> TRUE | AK43: =EXACT(I43,W43) -> TRUE | ... AP43: =EXACT(N43,AB43) -> TRUE
B44: México k/ | C44: 4.0452864 | D44: 4.2888629 | E44: 5.9146306 | F44: 5.8608836 | G44: 5.6351477 | H44: 5.3852123 | I44: 5.3648009 | J44: 5.3473518 | K44: 4.7345993 | L44: 4.2745391 | M44: 4.400732 | N44: 3.7898127 | P44: México k/ | Q44: 4.0452864 | R44: 4.2888629 | S44: 5.9146306 | T44: 5.8608836 | U44: 5.6351477 | V44: 5.3852123 | W44: 5.3648009 | X44: 5.3473518 | Y44: 4.7345993 | Z44: 4.2745391 | AA44: 4.400732 | AB44: 3.7898127 | AD44: =EXACT(B44,P44) -> TRUE | AE44: =EXACT(C44,Q44) -> TRUE | AF44: =EXACT(D44,R44) -> TRUE | AG44: =EXACT(E44,S44) -> TRUE | AH44: =EXACT(F44,T44) -> TRUE | AI44: =EXACT(G44,U44) -> TRUE | AJ44: =EXACT(H44,V44) -> TRUE | AK44: =EXACT(I44,W44) -> TRUE | ... AP44: =EXACT(N44,AB44) -> TRUE
B45: Hombre | C45: 3.852224 | D45: 4.2559722 | E45: 6.0366245 | F45: 6.0692216 | G45: 5.7510833 | H45: 5.4678713 | I45: 5.4370251 | J45: 5.4426937 | K45: 4.726538 | L45: 4.3210845 | M45: 4.4384997 | N45: 3.7617995 | P45: Hombre | Q45: 3.852224 | R45: 4.2559722 | S45: 6.0366245 | T45: 6.0692216 | U45: 5.7510833 | V45: 5.4678713 | W45: 5.4370251 | X45: 5.4426937 | Y45: 4.726538 | Z45: 4.3210845 | AA45: 4.4384997 | AB45: 3.7617995 | AD45: =EXACT(B45,P45) -> TRUE | AE45: =EXACT(C45,Q45) -> TRUE | AF45: =EXACT(D45,R45) -> TRUE | AG45: =EXACT(E45,S45) -> TRUE | AH45: =EXACT(F45,T45) -> TRUE | AI45: =EXACT(G45,U45) -> TRUE | AJ45: =EXACT(H45,V45) -> TRUE | AK45: =EXACT(I45,W45) -> TRUE | ... AP45: =EXACT(N45,AB45) -> TRUE
B46: Mujer | C46: 4.3377876 | D46: 4.3380337 | E46: 5.7270617 | F46: 5.5426893 | G46: 5.4603575 | H46: 5.2626499 | I46: 5.2585126 | J46: 5.2050982 | K46: 4.745526 | L46: 4.205885 | M46: 4.3449479 | N46: 3.8311599 | P46: Mujer | Q46: 4.3377876 | R46: 4.3380337 | S46: 5.7270617 | T46: 5.5426893 | U46: 5.4603575 | V46: 5.2626499 | W46: 5.2585126 | X46: 5.2050982 | Y46: 4.745526 | Z46: 4.205885 | AA46: 4.3449479 | AB46: 3.8311599 | AD46: =EXACT(B46,P46) -> TRUE | AE46: =EXACT(C46,Q46) -> TRUE | AF46: =EXACT(D46,R46) -> TRUE | AG46: =EXACT(E46,S46) -> TRUE | AH46: =EXACT(F46,T46) -> TRUE | AI46: =EXACT(G46,U46) -> TRUE | AJ46: =EXACT(H46,V46) -> TRUE | AK46: =EXACT(I46,W46) -> TRUE | ... AP46: =EXACT(N46,AB46) -> TRUE
B47: Nicaragua l/ | C47: 7.2614934 | D47: 7.9950495 | E47: 9.9125 | F47: 10.1375 | G47: 6.5143148 | H47: 7.9125 | I47: 7.775 | J47: 8.3875 | K47: … | L47: … | M47: … | N47: … | P47: Nicaragua l/ | Q47: 7.2614934 | R47: 7.9950495 | S47: 9.9125 | T47: 10.1375 | U47: 6.5143148 | V47: 7.9125 | W47: 7.775 | X47: 8.3875 | Y47: … | Z47: … | AA47: … | AB47: … | AD47: =EXACT(B47,P47) -> TRUE | AE47: =EXACT(C47,Q47) -> TRUE | AF47: =EXACT(D47,R47) -> TRUE | AG47: =EXACT(E47,S47) -> TRUE | AH47: =EXACT(F47,T47) -> TRUE | AI47: =EXACT(G47,U47) -> TRUE | AJ47: =EXACT(H47,V47) -> TRUE | AK47: =EXACT(I47,W47) -> TRUE | ... AP47: =EXACT(N47,AB47) -> TRUE
B48: Hombre | C48: 8.0403097 | D48: 8.3583433 | E48: 9.825 | F48: 10.4625 | G48: 6.7413671 | H48: 7.8875 | I48: 8.1 | J48: 8.3125 | K48: … | L48: … | M48: … | N48: … | P48: Hombre | Q48: 8.0403097 | R48: 8.3583433 | S48: 9.825 | T48: 10.4625 | U48: 6.7413671 | V48: 7.8875 | W48: 8.1 | X48: 8.3125 | Y48: … | Z48: … | AA48: … | AB48: … | AD48: =EXACT(B48,P48) -> TRUE | AE48: =EXACT(C48,Q48) -> TRUE | AF48: =EXACT(D48,R48) -> TRUE | AG48: =EXACT(E48,S48) -> TRUE | AH48: =EXACT(F48,T48) -> TRUE | AI48: =EXACT(G48,U48) -> TRUE | AJ48: =EXACT(H48,V48) -> TRUE | AK48: =EXACT(I48,W48) -> TRUE | ... AP48: =EXACT(N48,AB48) -> TRUE
B49: Mujer | C49: 6.2849642 | D49: 7.5513196 | E49: 10.0125 | F49: 9.7875 | G49: 6.260808 | H49: 7.8875 | I49: 7.4125 | J49: 8.375 | K49: … | L49: … | M49: … | N49: … | P49: Mujer | Q49: 6.2849642 | R49: 7.5513196 | S49: 10.0125 | T49: 9.7875 | U49: 6.260808 | V49: 7.8875 | W49: 7.4125 | X49: 8.375 | Y49: … | Z49: … | AA49: … | AB49: … | AD49: =EXACT(B49,P49) -> TRUE | AE49: =EXACT(C49,Q49) -> TRUE | AF49: =EXACT(D49,R49) -> TRUE | AG49: =EXACT(E49,S49) -> TRUE | AH49: =EXACT(F49,T49) -> TRUE | AI49: =EXACT(G49,U49) -> TRUE | AJ49: =EXACT(H49,V49) -> TRUE | AK49: =EXACT(I49,W49) -> TRUE | ... AP49: =EXACT(N49,AB49) -> TRUE
B50: Panamá m/ | C50: 7.7844262 | D50: 6.4798241 | E50: 7.8633169 | F50: 7.6996195 | G50: 5.370485 | H50: 4.7787897 | I50: 4.6956898 | J50: 5.4259271 | K50: 5.7994937 | L50: 6.4398444 | M50: 6.5002482 | N50: 6.4190135 | P50: Panamá m/ | Q50: 7.7844262 | R50: 6.4798241 | S50: 7.8633169 | T50: 7.6996195 | U50: 5.370485 | V50: 4.7787897 | W50: 4.6956898 | X50: 5.4259271 | Y50: 5.7994937 | Z50: 6.4398444 | AA50: 6.5002482 | AB50: 6.4190135 | AD50: =EXACT(B50,P50) -> TRUE | AE50: =EXACT(C50,Q50) -> TRUE | AF50: =EXACT(D50,R50) -> TRUE | AG50: =EXACT(E50,S50) -> TRUE | AH50: =EXACT(F50,T50) -> TRUE | AI50: =EXACT(G50,U50) -> TRUE | AJ50: =EXACT(H50,V50) -> TRUE | AK50: =EXACT(I50,W50) -> TRUE | ... AP50: =EXACT(N50,AB50) -> TRUE
B51: Hombre | C51: 6.4900283 | D51: 5.4071753 | E51: 6.336263 | F51: 6.514398 | G51: 5.3181292 | H51: 4.2156889 | I51: 3.9347896 | J51: 4.6860681 | K51: 5.0846503 | L51: 5.6619494 | M51: 5.508812 | N51: 5.4827786 | P51: Hombre | Q51: 6.4900283 | R51: 5.4071753 | S51: 6.336263 | T51: 6.514398 | U51: 5.3181292 | V51: 4.2156889 | W51: 3.9347896 | X51: 4.6860681 | Y51: 5.0846503 | Z51: 5.6619494 | AA51: 5.508812 | AB51: 5.4827786 | AD51: =EXACT(B51,P51) -> TRUE | AE51: =EXACT(C51,Q51) -> TRUE | AF51: =EXACT(D51,R51) -> TRUE | AG51: =EXACT(E51,S51) -> TRUE | AH51: =EXACT(F51,T51) -> TRUE | AI51: =EXACT(G51,U51) -> TRUE | AJ51: =EXACT(H51,V51) -> TRUE | AK51: =EXACT(I51,W51) -> TRUE | ... AP51: =EXACT(N51,AB51) -> TRUE
B52: Mujer | C52: 9.5555337 | D52: 7.9475931 | E52: 9.9352608 | F52: 9.3316537 | G52: 5.4417993 | H52: 5.5264922 | I52: 5.7181752 | J52: 6.3879791 | K52: 6.7243524 | L52: 7.4600642 | M52: 7.7889557 | N52: 7.6328349 | P52: Mujer | Q52: 9.5555337 | R52: 7.9475931 | S52: 9.9352608 | T52: 9.3316537 | U52: 5.4417993 | V52: 5.5264922 | W52: 5.7181752 | X52: 6.3879791 | Y52: 6.7243524 | Z52: 7.4600642 | AA52: 7.7889557 | AB52: 7.6328349 | AD52: =EXACT(B52,P52) -> TRUE | AE52: =EXACT(C52,Q52) -> TRUE | AF52: =EXACT(D52,R52) -> TRUE | AG52: =EXACT(E52,S52) -> TRUE | AH52: =EXACT(F52,T52) -> TRUE | AI52: =EXACT(G52,U52) -> TRUE | AJ52: =EXACT(H52,V52) -> TRUE | AK52: =EXACT(I52,W52) -> TRUE | ... AP52: =EXACT(N52,AB52) -> TRUE
B53: Paraguay n/ | C53: 7.0389112 | D53: 7.3886403 | E53: 8.1536968 | F53: 6.8298168 | G53: 6.3772236 | H53: 5.680805 | I53: 5.9234783 | J53: 7.2757238 | K53: 6.4458224 | L53: 7.1869419 | M53: 8.25 | N53: 8.65 | P53: Paraguay n/ | Q53: 7.0389112 | R53: 7.3886403 | S53: 8.1536968 | T53: 6.8298168 | U53: 6.3772236 | V53: 5.680805 | W53: 5.9234783 | X53: 7.2757238 | Y53: 6.4458224 | Z53: 7.1869419 | AA53: 8.25 | AB53: 8.65 | AD53: =EXACT(B53,P53) -> TRUE | AE53: =EXACT(C53,Q53) -> TRUE | AF53: =EXACT(D53,R53) -> TRUE | AG53: =EXACT(E53,S53) -> TRUE | AH53: =EXACT(F53,T53) -> TRUE | AI53: =EXACT(G53,U53) -> TRUE | AJ53: =EXACT(H53,V53) -> TRUE | AK53: =EXACT(I53,W53) -> TRUE | ... AP53: =EXACT(N53,AB53) -> TRUE
B54: Hombre | C54: 6.1630516 | D54: 6.7048726 | E54: 7.6478679 | F54: 6.0495517 | G54: 5.0557219 | H54: 4.7479471 | I54: 5.8375495 | J54: 5.7097025 | K54: 6.2811652 | L54: 6.346639 | M54: 6.6 | N54: 6.9 | P54: Hombre | Q54: 6.1630516 | R54: 6.7048726 | S54: 7.6478679 | T54: 6.0495517 | U54: 5.0557219 | V54: 4.7479471 | W54: 5.8375495 | X54: 5.7097025 | Y54: 6.2811652 | Z54: 6.346639 | AA54: 6.6 | AB54: 6.9 | AD54: =EXACT(B54,P54) -> TRUE | AE54: =EXACT(C54,Q54) -> TRUE | AF54: =EXACT(D54,R54) -> TRUE | AG54: =EXACT(E54,S54) -> TRUE | AH54: =EXACT(F54,T54) -> TRUE | AI54: =EXACT(G54,U54) -> TRUE | AJ54: =EXACT(H54,V54) -> TRUE | AK54: =EXACT(I54,W54) -> TRUE | ... AP54: =EXACT(N54,AB54) -> TRUE
B55: Mujer | C55: 8.1768567 | D55: 8.3292145 | E55: 8.8538289 | F55: 7.8789716 | G55: 8.0724841 | H55: 6.8359286 | I55: 6.0255993 | J55: 9.2573244 | K55: 6.6564533 | L55: 8.2761459 | M55: 10.1 | N55: 10.65 | P55: Mujer | Q55: 8.1768567 | R55: 8.3292145 | S55: 8.8538289 | T55: 7.8789716 | U55: 8.0724841 | V55: 6.8359286 | W55: 6.0255993 | X55: 9.2573244 | Y55: 6.6564533 | Z55: 8.2761459 | AA55: 10.1 | AB55: 10.65 | AD55: =EXACT(B55,P55) -> TRUE | AE55: =EXACT(C55,Q55) -> TRUE | AF55: =EXACT(D55,R55) -> TRUE | AG55: =EXACT(E55,S55) -> TRUE | AH55: =EXACT(F55,T55) -> TRUE | AI55: =EXACT(G55,U55) -> TRUE | AJ55: =EXACT(H55,V55) -> TRUE | AK55: =EXACT(I55,W55) -> TRUE | ... AP55: =EXACT(N55,AB55) -> TRUE
B56: Perú o/ | C56: 6.2918572 | D56: 6.0131601 | E56: 5.8697136 | F56: 5.2761404 | G56: 5.098978 | H56: 4.6814573 | I56: 4.8021729 | J56: 4.5343288 | K56: 4.3633398 | L56: 5.1776154 | M56: 5.6830804 | N56: 5.5666667 | P56: Perú o/ | Q56: 6.2918572 | R56: 6.0131601 | S56: 5.8697136 | T56: 5.2761404 | U56: 5.098978 | V56: 4.6814573 | W56: 4.8021729 | X56: 4.5343288 | Y56: 4.3633398 | Z56: 5.1776154 | AA56: 5.6830804 | AB56: 5.5666667 | AD56: =EXACT(B56,P56) -> TRUE | AE56: =EXACT(C56,Q56) -> TRUE | AF56: =EXACT(D56,R56) -> TRUE | AG56: =EXACT(E56,S56) -> TRUE | AH56: =EXACT(F56,T56) -> TRUE | AI56: =EXACT(G56,U56) -> TRUE | AJ56: =EXACT(H56,V56) -> TRUE | AK56: =EXACT(I56,W56) -> TRUE | ... AP56: =EXACT(N56,AB56) -> TRUE
B57: Hombre | C57: 5.7404156 | D57: 5.2868016 | E57: 5.6440753 | F57: 4.6457199 | G57: 4.7536282 | H57: 3.9979373 | I57: 4.1363887 | J57: 4.1659002 | K57: 4.2360763 | L57: 4.8552625 | M57: 5.6880524 | N57: 5.4583808 | P57: Hombre | Q57: 5.7404156 | R57: 5.2868016 | S57: 5.6440753 | T57: 4.6457199 | U57: 4.7536282 | V57: 3.9979373 | W57: 4.1363887 | X57: 4.1659002 | Y57: 4.2360763 | Z57: 4.8552625 | AA57: 5.6880524 | AB57: 5.4583808 | AD57: =EXACT(B57,P57) -> TRUE | AE57: =EXACT(C57,Q57) -> TRUE | AF57: =EXACT(D57,R57) -> TRUE | AG57: =EXACT(E57,S57) -> TRUE | AH57: =EXACT(F57,T57) -> TRUE | AI57: =EXACT(G57,U57) -> TRUE | AJ57: =EXACT(H57,V57) -> TRUE | AK57: =EXACT(I57,W57) -> TRUE | ... AP57: =EXACT(N57,AB57) -> TRUE
B58: Mujer | C58: 6.9791053 | D58: 6.9224446 | E58: 6.152814 | F58: 6.0470059 | G58: 5.5234135 | H58: 5.5199652 | I58: 5.620486 | J58: 4.9920722 | K58: 4.5236819 | L58: 5.5771853 | M58: 6.1692425 | N58: 6.3599179 | P58: Mujer | Q58: 6.9791053 | R58: 6.9224446 | S58: 6.152814 | T58: 6.0470059 | U58: 5.5234135 | V58: 5.5199652 | W58: 5.620486 | X58: 4.9920722 | Y58: 4.5236819 | Z58: 5.5771853 | AA58: 6.1692425 | AB58: 6.3599179 | AD58: =EXACT(B58,P58) -> TRUE | AE58: =EXACT(C58,Q58) -> TRUE | AF58: =EXACT(D58,R58) -> TRUE | AG58: =EXACT(E58,S58) -> TRUE | AH58: =EXACT(F58,T58) -> TRUE | AI58: =EXACT(G58,U58) -> TRUE | AJ58: =EXACT(H58,V58) -> TRUE | AK58: =EXACT(I58,W58) -> TRUE | ... AP58: =EXACT(N58,AB58) -> TRUE
B59: República Dominicana p/ | C59: 5.4139391 | D59: 5.3217014 | E59: 5.7829254 | F59: 5.7199583 | G59: 6.6779887 | H59: 7.2365396 | I59: 7.8720225 | J59: 7.2089547 | K59: 7.9337605 | L59: 7.8526021 | M59: 8.1438526 | N59: 6.2495671 | P59: República Dominicana p/ | Q59: 5.4139391 | R59: 5.3217014 | S59: 5.7829254 | T59: 5.7199583 | U59: 6.6779887 | V59: 7.2365396 | W59: 7.8720225 | X59: 7.2089547 | Y59: 7.9337605 | Z59: 7.8526021 | AA59: 8.1438526 | AB59: 6.2495671 | AD59: =EXACT(B59,P59) -> TRUE | AE59: =EXACT(C59,Q59) -> TRUE | AF59: =EXACT(D59,R59) -> TRUE | AG59: =EXACT(E59,S59) -> TRUE | AH59: =EXACT(F59,T59) -> TRUE | AI59: =EXACT(G59,U59) -> TRUE | AJ59: =EXACT(H59,V59) -> TRUE | AK59: =EXACT(I59,W59) -> TRUE | ... AP59: =EXACT(N59,AB59) -> TRUE
B60: Hombre | C60: 3.9586759 | D60: 3.7989585 | E60: 4.4728284 | F60: 4.7778628 | G60: 5.384309 | H60: 5.8009905 | I60: 5.912855 | J60: 5.3959764 | K60: 5.7800678 | L60: 5.5643379 | M60: 5.8718577 | N60: 4.5544033 | P60: Hombre | Q60: 3.9586759 | R60: 3.7989585 | S60: 4.4728284 | T60: 4.7778628 | U60: 5.384309 | V60: 5.8009905 | W60: 5.912855 | X60: 5.3959764 | Y60: 5.7800678 | Z60: 5.5643379 | AA60: 5.8718577 | AB60: 4.5544033 | AD60: =EXACT(B60,P60) -> TRUE | AE60: =EXACT(C60,Q60) -> TRUE | AF60: =EXACT(D60,R60) -> TRUE | AG60: =EXACT(E60,S60) -> TRUE | AH60: =EXACT(F60,T60) -> TRUE | AI60: =EXACT(G60,U60) -> TRUE | AJ60: =EXACT(H60,V60) -> TRUE | AK60: =EXACT(I60,W60) -> TRUE | ... AP60: =EXACT(N60,AB60) -> TRUE
B61: Mujer | C61: 7.7598789 | D61: 7.5875719 | E61: 7.8399983 | F61: 7.1172179 | G61: 8.521487 | H61: 9.2656851 | I61: 10.672241 | J61: 9.7692906 | K61: 10.947475 | L61: 10.977537 | M61: 11.24865 | N61: 8.5017948 | P61: Mujer | Q61: 7.7598789 | R61: 7.5875719 | S61: 7.8399983 | T61: 7.1172179 | U61: 8.521487 | V61: 9.2656851 | W61: 10.672241 | X61: 9.7692906 | Y61: 10.947475 | Z61: 10.977537 | AA61: 11.24865 | AB61: 8.5017948 | AD61: =EXACT(B61,P61) -> TRUE | AE61: =EXACT(C61,Q61) -> TRUE | AF61: =EXACT(D61,R61) -> TRUE | AG61: =EXACT(E61,S61) -> TRUE | AH61: =EXACT(F61,T61) -> TRUE | AI61: =EXACT(G61,U61) -> TRUE | AJ61: =EXACT(H61,V61) -> TRUE | AK61: =EXACT(I61,W61) -> TRUE | ... AP61: =EXACT(N61,AB61) -> TRUE
... B64: Mujer | C64: 12.727261 | D64: 10.781993 | E64: 10.516335 | F64: 9.4597733 | G64: 8.1027587 | H64: 8.3436818 | I64: 8.2587415 | J64: 8.4943922 | K64: 9.0258852 | L64: 9.594969 | M64: 9.795856 | N64: 9.9037217 | P64: Mujer | Q64: 12.727261 | R64: 10.781993 | S64: 10.516335 | T64: 9.4597733 | U64: 8.1027587 | V64: 8.3436818 | W64: 8.2587415 | X64: 8.4943922 | Y64: 9.0258852 | Z64: 9.594969 | AA64: 9.795856 | AB64: 9.9037217 | AD64: =EXACT(B64,P64) -> TRUE | AE64: =EXACT(C64,Q64) -> TRUE | AF64: =EXACT(D64,R64) -> TRUE | AG64: =EXACT(E64,S64) -> TRUE | AH64: =EXACT(F64,T64) -> TRUE | AI64: =EXACT(G64,U64) -> TRUE | AJ64: =EXACT(H64,V64) -> TRUE | AK64: =EXACT(I64,W64) -> TRUE | ... AP64: =EXACT(N64,AB64) -> TRUE
B65: Venezuela (Rep. Bol. de) q/ | C65: 8.4449249 | D65: 7.3323456 | E65: 7.854541 | F65: 8.6919167 | G65: 8.2917364 | H65: 8.0675772 | I65: 7.7832508 | J65: 7.2557522 | K65: 7.036513 | L65: 7.3338282 | M65: … | N65: … | P65: Venezuela (Rep. Bol. de) q/ | Q65: 8.4449249 | R65: 7.3323456 | S65: 7.854541 | T65: 8.6919167 | U65: 8.2917364 | V65: 8.0675772 | W65: 7.7832508 | X65: 7.2557522 | Y65: 7.036513 | Z65: 7.3338282 | AA65: … | AB65: … | AD65: =EXACT(B65,P65) -> TRUE | AE65: =EXACT(C65,Q65) -> TRUE | AF65: =EXACT(D65,R65) -> TRUE | AG65: =EXACT(E65,S65) -> TRUE | AH65: =EXACT(F65,T65) -> TRUE | AI65: =EXACT(G65,U65) -> TRUE | AJ65: =EXACT(H65,V65) -> TRUE | AK65: =EXACT(I65,W65) -> TRUE | ... AP65: =EXACT(N65,AB65) -> TRUE
B66: Hombre | C66: 7.9325917 | D66: 7.00682 | E66: 7.4230043 | F66: 8.4697407 | G66: 7.6709948 | H66: 7.4293435 | I66: 7.0982079 | J66: 6.7046287 | K66: 6.6043033 | L66: 7.0501696 | M66: … | N66: … | P66: Hombre | Q66: 7.9325917 | R66: 7.00682 | S66: 7.4230043 | T66: 8.4697407 | U66: 7.6709948 | V66: 7.4293435 | W66: 7.0982079 | X66: 6.7046287 | Y66: 6.6043033 | Z66: 7.0501696 | AA66: … | AB66: … | AD66: =EXACT(B66,P66) -> TRUE | AE66: =EXACT(C66,Q66) -> TRUE | AF66: =EXACT(D66,R66) -> TRUE | AG66: =EXACT(E66,S66) -> TRUE | AH66: =EXACT(F66,T66) -> TRUE | AI66: =EXACT(G66,U66) -> TRUE | AJ66: =EXACT(H66,V66) -> TRUE | AK66: =EXACT(I66,W66) -> TRUE | ... AP66: =EXACT(N66,AB66) -> TRUE
B67: Mujer | C67: 9.2549494 | D67: 7.8450882 | E67: 8.5190577 | F67: 9.0355395 | G67: 9.2489034 | H67: 9.0453911 | I67: 8.8232778 | J67: 8.0889654 | K67: 7.7047613 | L67: 7.7660209 | M67: … | N67: … | P67: Mujer | Q67: 9.2549494 | R67: 7.8450882 | S67: 8.5190577 | T67: 9.0355395 | U67: 9.2489034 | V67: 9.0453911 | W67: 8.8232778 | X67: 8.0889654 | Y67: 7.7047613 | Z67: 7.7660209 | AA67: … | AB67: … | AD67: =EXACT(B67,P67) -> TRUE | AE67: =EXACT(C67,Q67) -> TRUE | AF67: =EXACT(D67,R67) -> TRUE | AG67: =EXACT(E67,S67) -> TRUE | AH67: =EXACT(F67,T67) -> TRUE | AI67: =EXACT(G67,U67) -> TRUE | AJ67: =EXACT(H67,V67) -> TRUE | AK67: =EXACT(I67,W67) -> TRUE | ... AP67: =EXACT(N67,AB67) -> TRUE
B68: El Caribe | P68: El Caribe | AD68: =EXACT(B68,P68) -> TRUE | AE68: =EXACT(C68,Q68) -> TRUE | AF68: =EXACT(D68,R68) -> TRUE | AG68: =EXACT(E68,S68) -> TRUE | AH68: =EXACT(F68,T68) -> TRUE | AI68: =EXACT(G68,U68) -> TRUE | AJ68: =EXACT(H68,V68) -> TRUE | AK68: =EXACT(I68,W68) -> TRUE | ... AP68: =EXACT(N68,AB68) -> TRUE
B69: Bahamas r/ | C69: 7.9 | D69: 8.7 | E69: 15.3 | F69: … | G69: 15.9 | H69: 14.366007 | I69: 15.8 | J69: 14.635834 | K69: 13.383125 | L69: 12.747823 | M69: 12.747823 | N69: 9.8543022 | P69: Bahamas r/ | Q69: 7.9 | R69: 8.7 | S69: 15.3 | T69: … | U69: 15.9 | V69: 14.366007 | W69: 15.8 | X69: 14.635834 | Y69: 13.383125 | Z69: 12.747823 | AA69: 12.747823 | AB69: 9.8543022 | AD69: =EXACT(B69,P69) -> TRUE | AE69: =EXACT(C69,Q69) -> TRUE | AF69: =EXACT(D69,R69) -> TRUE | AG69: =EXACT(E69,S69) -> TRUE | AH69: =EXACT(F69,T69) -> TRUE | AI69: =EXACT(G69,U69) -> TRUE | AJ69: =EXACT(H69,V69) -> TRUE | AK69: =EXACT(I69,W69) -> TRUE | ... AP69: =EXACT(N69,AB69) -> TRUE
B70: Hombre | C70: 6.7 | D70: 7.7 | E70: … | F70: … | G70: … | H70: … | I70: 15.557291 | J70: 13.519361 | K70: 11.848873 | L70: 11.13312 | M70: 11.13312 | N70: 8.8583959 | P70: Hombre | Q70: 6.7 | R70: 7.7 | S70: … | T70: … | U70: … | V70: … | W70: 15.557291 | X70: 13.519361 | Y70: 11.848873 | Z70: 11.13312 | AA70: 11.13312 | AB70: 8.8583959 | AD70: =EXACT(B70,P70) -> TRUE | AE70: =EXACT(C70,Q70) -> TRUE | AF70: =EXACT(D70,R70) -> TRUE | AG70: =EXACT(E70,S70) -> TRUE | AH70: =EXACT(F70,T70) -> TRUE | AI70: =EXACT(G70,U70) -> TRUE | AJ70: =EXACT(H70,V70) -> TRUE | AK70: =EXACT(I70,W70) -> TRUE | ... AP70: =EXACT(N70,AB70) -> TRUE
B71: Mujer | C71: 9.1 | D71: 9.7 | E71: … | F71: … | G71: … | H71: … | I71: 16.011439 | J71: 15.763339 | K71: 14.966462 | L71: 14.458808 | M71: 14.458808 | N71: 10.927121 | P71: Mujer | Q71: 9.1 | R71: 9.7 | S71: … | T71: … | U71: … | V71: … | W71: 16.011439 | X71: 15.763339 | Y71: 14.966462 | Z71: 14.458808 | AA71: 14.458808 | AB71: 10.927121 | AD71: =EXACT(B71,P71) -> TRUE | AE71: =EXACT(C71,Q71) -> TRUE | AF71: =EXACT(D71,R71) -> TRUE | AG71: =EXACT(E71,S71) -> TRUE | AH71: =EXACT(F71,T71) -> TRUE | AI71: =EXACT(G71,U71) -> TRUE | AJ71: =EXACT(H71,V71) -> TRUE | AK71: =EXACT(I71,W71) -> TRUE | ... AP71: =EXACT(N71,AB71) -> TRUE
B72: Barbados s/ | C72: 7.425 | D72: 8.1 | E72: 9.975 | F72: 10.7 | G72: 11.2 | H72: 11.6 | I72: 11.6 | J72: 12.28903 | K72: 11.3 | L72: 9.65 | M72: 9.7 | N72: 10.4 | P72: Barbados s/ | Q72: 7.425 | R72: 8.1 | S72: 9.975 | T72: 10.7 | U72: 11.2 | V72: 11.6 | W72: 11.6 | X72: 12.28903 | Y72: 11.3 | Z72: 9.65 | AA72: 9.7 | AB72: 10.4 | AD72: =EXACT(B72,P72) -> TRUE | AE72: =EXACT(C72,Q72) -> TRUE | AF72: =EXACT(D72,R72) -> TRUE | AG72: =EXACT(E72,S72) -> TRUE | AH72: =EXACT(F72,T72) -> TRUE | AI72: =EXACT(G72,U72) -> TRUE | AJ72: =EXACT(H72,V72) -> TRUE | AK72: =EXACT(I72,W72) -> TRUE | ... AP72: =EXACT(N72,AB72) -> TRUE
B73: Hombre | C73: 6.4 | D73: 6.9 | E73: 10.1 | F73: 10.9 | G73: 9.8 | H73: 10.9 | I73: 11.7 | J73: 11.787204 | K73: 12.3 | L73: 9.275 | M73: 9.05 | N73: 10.3 | P73: Hombre | Q73: 6.4 | R73: 6.9 | S73: 10.1 | T73: 10.9 | U73: 9.8 | V73: 10.9 | W73: 11.7 | X73: 11.787204 | Y73: 12.3 | Z73: 9.275 | AA73: 9.05 | AB73: 10.3 | AD73: =EXACT(B73,P73) -> TRUE | AE73: =EXACT(C73,Q73) -> TRUE | AF73: =EXACT(D73,R73) -> TRUE | AG73: =EXACT(E73,S73) -> TRUE | AH73: =EXACT(F73,T73) -> TRUE | AI73: =EXACT(G73,U73) -> TRUE | AJ73: =EXACT(H73,V73) -> TRUE | AK73: =EXACT(I73,W73) -> TRUE | ... AP73: =EXACT(N73,AB73) -> TRUE
B74: Mujer | C74: 8.5 | D74: 9.5 | E74: 9.8 | F74: 10.6 | G74: 12.6 | H74: 12.3 | I74: 11.6 | J74: 12.811388 | K74: 10.3 | L74: 10.075 | M74: 10.45 | N74: 10.55 | P74: Mujer | Q74: 8.5 | R74: 9.5 | S74: 9.8 | T74: 10.6 | U74: 12.6 | V74: 12.3 | W74: 11.6 | X74: 12.811388 | Y74: 10.3 | Z74: 10.075 | AA74: 10.45 | AB74: 10.55 | AD74: =EXACT(B74,P74) -> TRUE | AE74: =EXACT(C74,Q74) -> TRUE | AF74: =EXACT(D74,R74) -> TRUE | AG74: =EXACT(E74,S74) -> TRUE | AH74: =EXACT(F74,T74) -> TRUE | AI74: =EXACT(G74,U74) -> TRUE | AJ74: =EXACT(H74,V74) -> TRUE | AK74: =EXACT(I74,W74) -> TRUE | ... AP74: =EXACT(N74,AB74) -> TRUE
B75: Belice t/ | C75: 10.328711 | D75: 8.2 | E75: 13.1 | F75: 12.5 | G75: … | H75: 15.3 | I75: 14.290122 | J75: 11.569805 | K75: 10.143128 | L75: 9.5314723 | M75: 7.9737923 | N75: 8.9871373 | P75: Belice t/ | Q75: 10.328711 | R75: 8.2 | S75: 13.1 | T75: 12.5 | U75: … | V75: 15.3 | W75: 14.290122 | X75: 11.569805 | Y75: 10.143128 | Z75: 9.5314723 | AA75: 7.9737923 | AB75: 8.9871373 | AD75: =EXACT(B75,P75) -> TRUE | AE75: =EXACT(C75,Q75) -> TRUE | AF75: =EXACT(D75,R75) -> TRUE | AG75: =EXACT(E75,S75) -> TRUE | AH75: =EXACT(F75,T75) -> TRUE | AI75: =EXACT(G75,U75) -> TRUE | AJ75: =EXACT(H75,V75) -> TRUE | AK75: =EXACT(I75,W75) -> TRUE | ... AP75: =EXACT(N75,AB75) -> TRUE
B76: Hombre | C76: 7.1500939 | D76: … | E76: … | F76: … | G76: … | H76: 10.529596 | I76: 10.592676 | J76: 6.2627001 | K76: 6.8245463 | L76: 5.5733734 | M76: 4.2538839 | N76: 4.8026866 | P76: Hombre | Q76: 7.1500939 | R76: … | S76: … | T76: … | U76: … | V76: 10.529596 | W76: 10.592676 | X76: 6.2627001 | Y76: 6.8245463 | Z76: 5.5733734 | AA76: 4.2538839 | AB76: 4.8026866 | AD76: =EXACT(B76,P76) -> TRUE | AE76: =EXACT(C76,Q76) -> TRUE | AF76: =EXACT(D76,R76) -> TRUE | AG76: =EXACT(E76,S76) -> TRUE | AH76: =EXACT(F76,T76) -> TRUE | AI76: =EXACT(G76,U76) -> TRUE | AJ76: =EXACT(H76,V76) -> TRUE | AK76: =EXACT(I76,W76) -> TRUE | ... AP76: =EXACT(N76,AB76) -> TRUE
B77: Mujer | C77: 15.813208 | D77: … | E77: … | F77: … | G77: … | H77: 22.325835 | I77: 20.037692 | J77: 19.914452 | K77: 15.354331 | L77: 15.604852 | M77: 13.638805 | N77: 15.577716 | P77: Mujer | Q77: 15.813208 | R77: … | S77: … | T77: … | U77: … | V77: 22.325835 | W77: 20.037692 | X77: 19.914452 | Y77: 15.354331 | Z77: 15.604852 | AA77: 13.638805 | AB77: 15.577716 | AD77: =EXACT(B77,P77) -> TRUE | AE77: =EXACT(C77,Q77) -> TRUE | AF77: =EXACT(D77,R77) -> TRUE | AG77: =EXACT(E77,S77) -> TRUE | AH77: =EXACT(F77,T77) -> TRUE | AI77: =EXACT(G77,U77) -> TRUE | AJ77: =EXACT(H77,V77) -> TRUE | AK77: =EXACT(I77,W77) -> TRUE | ... AP77: =EXACT(N77,AB77) -> TRUE
B78: Jamaica u/ | C78: 9.8669997 | D78: 10.569907 | E78: 11.365074 | F78: 12.377241 | G78: 12.682914 | H78: 13.929766 | I78: 15.243855 | J78: 13.739191 | K78: 13.509815 | L78: 13.189153 | M78: 13.287 | N78: 12.054906 | P78: Jamaica u/ | Q78: 9.8669997 | R78: 10.569907 | S78: 11.365074 | T78: 12.377241 | U78: 12.682914 | V78: 13.929766 | W78: 15.243855 | X78: 13.739191 | Y78: 13.509815 | Z78: 13.189153 | AA78: 13.287 | AB78: 12.054906 | AD78: =EXACT(B78,P78) -> TRUE | AE78: =EXACT(C78,Q78) -> TRUE | AF78: =EXACT(D78,R78) -> TRUE | AG78: =EXACT(E78,S78) -> TRUE | AH78: =EXACT(F78,T78) -> TRUE | AI78: =EXACT(G78,U78) -> TRUE | AJ78: =EXACT(H78,V78) -> TRUE | AK78: =EXACT(I78,W78) -> TRUE | ... AP78: =EXACT(N78,AB78) -> TRUE
B79: Hombre | C79: 6.1576971 | D79: 7.2845825 | E79: 8.5182534 | F79: 9.2085597 | G79: 9.2653825 | H79: 10.509062 | I79: 11.227395 | J79: 10.095527 | K79: 9.9021466 | L79: 9.5950885 | M79: 9.8179954 | N79: 8.8222741 | P79: Hombre | Q79: 6.1576971 | R79: 7.2845825 | S79: 8.5182534 | T79: 9.2085597 | U79: 9.2653825 | V79: 10.509062 | W79: 11.227395 | X79: 10.095527 | Y79: 9.9021466 | Z79: 9.5950885 | AA79: 9.8179954 | AB79: 8.8222741 | AD79: =EXACT(B79,P79) -> TRUE | AE79: =EXACT(C79,Q79) -> TRUE | AF79: =EXACT(D79,R79) -> TRUE | AG79: =EXACT(E79,S79) -> TRUE | AH79: =EXACT(F79,T79) -> TRUE | AI79: =EXACT(G79,U79) -> TRUE | AJ79: =EXACT(H79,V79) -> TRUE | AK79: =EXACT(I79,W79) -> TRUE | ... AP79: =EXACT(N79,AB79) -> TRUE
B80: Mujer | C80: 14.480121 | D80: 14.559175 | E80: 14.835213 | F80: 16.199681 | G80: 16.69964 | H80: 18.083161 | I80: 20.058519 | J80: 18.135826 | K80: 17.848703 | L80: 17.389083 | M80: 17.345989 | N80: 15.812456 | P80: Mujer | Q80: 14.480121 | R80: 14.559175 | S80: 14.835213 | T80: 16.199681 | U80: 16.69964 | V80: 18.083161 | W80: 20.058519 | X80: 18.135826 | Y80: 17.848703 | Z80: 17.389083 | AA80: 17.345989 | AB80: 15.812456 | AD80: =EXACT(B80,P80) -> TRUE | AE80: =EXACT(C80,Q80) -> TRUE | AF80: =EXACT(D80,R80) -> TRUE | AG80: =EXACT(E80,S80) -> TRUE | AH80: =EXACT(F80,T80) -> TRUE | AI80: =EXACT(G80,U80) -> TRUE | AJ80: =EXACT(H80,V80) -> TRUE | AK80: =EXACT(I80,W80) -> TRUE | ... AP80: =EXACT(N80,AB80) -> TRUE
B81: Trinidad y Tabago v/ | C81: 5.55 | D81: 4.625 | E81: 5.25 | F81: 5.925 | G81: 5.0666667 | H81: 4.95 | I81: 3.675 | J81: 3.3 | K81: 3.425 | L81: 3.95 | M81: 3.8 | N81: 4.5 | P81: Trinidad y Tabago v/ | Q81: 5.55 | R81: 4.625 | S81: 5.25 | T81: 5.925 | U81: 5.0666667 | V81: 4.95 | W81: 3.675 | X81: 3.3 | Y81: 3.425 | Z81: 3.95 | AA81: 3.8 | AB81: 4.5 | AD81: =EXACT(B81,P81) -> TRUE | AE81: =EXACT(C81,Q81) -> TRUE | AF81: =EXACT(D81,R81) -> TRUE | AG81: =EXACT(E81,S81) -> TRUE | AH81: =EXACT(F81,T81) -> TRUE | AI81: =EXACT(G81,U81) -> TRUE | AJ81: =EXACT(H81,V81) -> TRUE | AK81: =EXACT(I81,W81) -> TRUE | ... AP81: =EXACT(N81,AB81) -> TRUE
B82: Hombre | C82: … | D82: … | E82: … | F82: … | G82: … | H82: … | I82: … | J82: … | K82: … | L82: … | M82: … | N82: … | P82: Hombre | Q82: … | R82: … | S82: … | T82: … | U82: … | V82: … | W82: … | X82: … | Y82: … | Z82: … | AA82: … | AB82: … | AD82: =EXACT(B82,P82) -> TRUE | AE82: =EXACT(C82,Q82) -> TRUE | AF82: =EXACT(D82,R82) -> TRUE | AG82: =EXACT(E82,S82) -> TRUE | AH82: =EXACT(F82,T82) -> TRUE | AI82: =EXACT(G82,U82) -> TRUE | AJ82: =EXACT(H82,V82) -> TRUE | AK82: =EXACT(I82,W82) -> TRUE | ... AP82: =EXACT(N82,AB82) -> TRUE
B83: Mujer | C83: … | D83: … | E83: … | F83: … | G83: … | H83: … | I83: … | J83: … | K83: … | L83: … | M83: … | N83: … | P83: Mujer | Q83: … | R83: … | S83: … | T83: … | U83: … | V83: … | W83: … | X83: … | Y83: … | Z83: … | AA83: … | AB83: … | AD83: =EXACT(B83,P83) -> TRUE | AE83: =EXACT(C83,Q83) -> TRUE | AF83: =EXACT(D83,R83) -> TRUE | AG83: =EXACT(E83,S83) -> TRUE | AH83: =EXACT(F83,T83) -> TRUE | AI83: =EXACT(G83,U83) -> TRUE | AJ83: =EXACT(H83,V83) -> TRUE | AK83: =EXACT(I83,W83) -> TRUE | ... AP83: =EXACT(N83,AB83) -> TRUE
B84: América Latina y el Caribe w/ | C84: 7.6690582 | D84: 7.1129604 | E84: 8.2445351 | F84: 7.7170733 | G84: 7.0653123 | H84: 7.233953 | I84: 7.0429604 | J84: 6.9067573 | K84: 7.3115964 | L84: 8.930558 | M84: 9.3423332 | N84: 9.8838823 | P84: América Latina y el Caribe w/ | Q84: 7.6690582 | R84: 7.1129604 | S84: 8.2445351 | T84: 7.7170733 | U84: 7.0653123 | V84: 7.233953 | W84: 7.0429604 | X84: 6.9067573 | Y84: 7.3115964 | Z84: 8.930558 | AA84: 9.3423332 | AB84: 9.8838823 | AD84: =EXACT(B84,P84) -> TRUE | AE84: =EXACT(C84,Q84) -> TRUE | AF84: =EXACT(D84,R84) -> TRUE | AG84: =EXACT(E84,S84) -> TRUE | AH84: =EXACT(F84,T84) -> TRUE | AI84: =EXACT(G84,U84) -> TRUE | AJ84: =EXACT(H84,V84) -> TRUE | AK84: =EXACT(I84,W84) -> TRUE | ... AP84: =EXACT(N84,AB84) -> TRUE
B85: América Latina y el Caribe - Hombre w/ | C85: 6.3046284 | D85: 5.88573 | E85: 7.0132056 | F85: 6.5413429 | G85: 5.9468323 | H85: 6.2748798 | I85: 6.1218074 | J85: 6.1444575 | K85: 6.495814 | L85: 7.9921008 | M85: 8.3177428 | N85: 8.8562389 | P85: América Latina y el Caribe - Hombre w/ | Q85: 6.3046284 | R85: 5.88573 | S85: 7.0132056 | T85: 6.5413429 | U85: 5.9468323 | V85: 6.2748798 | W85: 6.1218074 | X85: 6.1444575 | Y85: 6.495814 | Z85: 7.9921008 | AA85: 8.3177428 | AB85: 8.8562389 | AD85: =EXACT(B85,P85) -> TRUE | AE85: =EXACT(C85,Q85) -> TRUE | AF85: =EXACT(D85,R85) -> TRUE | AG85: =EXACT(E85,S85) -> TRUE | AH85: =EXACT(F85,T85) -> TRUE | AI85: =EXACT(G85,U85) -> TRUE | AJ85: =EXACT(H85,V85) -> TRUE | AK85: =EXACT(I85,W85) -> TRUE | ... AP85: =EXACT(N85,AB85) -> TRUE
B86: América Latina y el Caribe - Mujer w/ | C86: 9.5006608 | D86: 8.771949 | E86: 9.8659711 | F86: 9.2690351 | G86: 8.5572892 | H86: 8.4767029 | I86: 8.2460901 | J86: 7.9094608 | K86: 8.3692109 | L86: 10.1368 | M86: 10.691496 | N86: 11.233189 | P86: América Latina y el Caribe - Mujer w/ | Q86: 9.5006608 | R86: 8.771949 | S86: 9.8659711 | T86: 9.2690351 | U86: 8.5572892 | V86: 8.4767029 | W86: 8.2460901 | X86: 7.9094608 | Y86: 8.3692109 | Z86: 10.1368 | AA86: 10.691496 | AB86: 11.233189 | AD86: =EXACT(B86,P86) -> TRUE | AE86: =EXACT(C86,Q86) -> TRUE | AF86: =EXACT(D86,R86) -> TRUE | AG86: =EXACT(E86,S86) -> TRUE | AH86: =EXACT(F86,T86) -> TRUE | AI86: =EXACT(G86,U86) -> TRUE | AJ86: =EXACT(H86,V86) -> TRUE | AK86: =EXACT(I86,W86) -> TRUE | ... AP86: =EXACT(N86,AB86) -> TRUE
B88: Fuente: OIT con la base de información de las encuestas de hogares de los países.
B90: a/ 31 aglomerados urbanos. El INDEC, en el marco de la emergencia estadística declarada, recomienda desestimar las series publicadas entre el 2007 y 2015 para fines de comparación y análisis del mercado de trabajo en la República Argentina. El dato anual 2016 es el promedio del II, III y IV trimestre y los datos al III trimestre del 2016 y 2017 corresponden al II trimestre respectivamente.
B92: b/ A partir del 2012 datos en base a PNADC, cobertura 20 regiones metropolitanas, serie no comparable con años anteriores.
B93: c/ Nueva medición a partir del 2010, datos no comparables con años anteriores. El dato de TD total de coyuntura del 2016 y 2017 corresponde al promedio al III trimestre y los datos por sexo al promedio al II trimestre.
B94: d/ Serie cabeceras. Incluye la desocupación oculta.
B95: e/ Datos del 2007-09 corresponden a EHPM levantadas en julio de cada año. A partir del 2010 dato de la ECE, no comparable con años anteriores (el dato del 2010 es el promedio del III y IV trimestre).
B96: f/ Total nacional.
B97: g/ A partir del 2007 cambia la edad de la PET de 10 a 15 años, no comparable con años anteriores. Incluye la desocupación oculta.
B98: h/ A partir del 2007 cambia la edad de la PET de 10 a 16 años, no comparable con años anteriores.
B99: i/ El dato al III trimestre del 2016 y 2017 corresponden al levantamiento de febrero-marzo
B100: j/ El dato al III trimestre de 2016 y 2017 corresponde a junio.
B101: k/ Serie urbana (urbanización alta, media y baja).
... B113: w/ Promedio ponderado. Excluye la desocupación oculta de Colombia, Ecuador, Jamaica y Panamá.

Sheet C3U
A1: regresar al índice
B2: CUADRO 3
B3: AMÉRICA LATINA Y EL CARIBE: TASA DE DESOCUPACIÓN URBANA SEGÚN PAÍS Y TRAMO DE EDAD. 2007 - 2017
B4: (tasas anuales medias)
B6: País | C6: 2007 | D6: 2008 | E6: 2009 | F6: 2010 | G6: 2011 | H6: 2012 | I6: 2013 | J6: 2014 | K6: 2015 | L6: 2016 | M6: 2016 | N6: 2017
M8: Promedio al III Trimestre
B10: América Latina
B11: Argentina a/ | C11: … | D11: … | E11: … | F11: … | G11: … | H11: … | I11: … | J11: … | K11: … | L11: 8.4666667 | M11: 9.3 | N11: 8.7
B12: 15 - 24 | C12: … | D12: … | E12: … | F12: … | G12: … | H12: … | I12: … | J12: … | K12: … | L12: 23.870124 | M12: 24.883158 | N12: 23.110304
B13: 25 y más | C13: … | D13: … | E13: … | F13: … | G13: … | H13: … | I13: … | J13: … | K13: … | L13: 5.925859 | M13: 6.7088795 | N13: 6.2893991
B14: Bolivia (Estado Plur. de) | C14: 7.667853 | D14: 4.4301284 | E14: 4.9131204 | F14: … | G14: 3.81 | H14: 3.22 | I14: 4.02 | J14: 3.54 | K14: 4.38 | L14: 4.91 | M14: … | N14: …
B15: 15 - 24 | C15: 19.249897 | D15: 10.083377 | E15: 8.7630461 | F15: … | G15: 8.819076 | H15: 6.0834885 | I15: 9.5608313 | J15: 8.2646665 | K15: 9.6277773 | L15: … | M15: … | N15: …
B16: 25 y más | C16: 4.6875237 | D16: 2.8915482 | E16: 3.9745674 | F16: … | G16: 2.4458963 | H16: 2.5393809 | I16: 2.8268304 | J16: 2.3658351 | K16: 3.2718767 | L16: … | M16: … | N16: …
B17: Brasil b/ | C17: 9.2612932 | D17: 8.0838916 | E17: 9.3430349 | F17: … | G17: 7.4643252 | H17: 8.2222828 | I17: 7.9875437 | J17: 7.7590973 | K17: 9.3272554 | L17: 13.031571 | M17: 12.839566 | N17: 14.713714
B18: 15 - 24 | C18: 18.849806 | D18: 17.395652 | E18: 19.714973 | F18: … | G18: 16.792492 | H18: 19.008264 | I18: 18.816519 | J18: 19.280385 | K18: 23.027444 | L18: 31.820075 | M18: 31.465676 | N18: 34.757108
B19: 25 y más | C19: 6.3609791 | D19: 5.4018162 | E19: 6.4527138 | F19: … | G19: 5.0880443 | H19: 5.7794144 | I19: 5.6984291 | J19: 5.43266 | K19: 6.6382241 | L19: 9.3242618 | M19: 9.1601994 | N19: 10.665114
B20: Chile c/ | C20: 7.5716322 | D20: 8.223487 | E20: 10.17054 | F20: 8.5078931 | G20: 7.4123011 | H20: 6.7065114 | I20: 6.1577398 | J20: 6.651426 | K20: 6.4352589 | L20: 6.8064768 | M20: 6.9641423 | N20: 7.0160688
B21: 15 - 24 | C21: 18.667998 | D21: 20.641115 | E21: 23.301685 | F21: 19.199719 | G21: 18.14354 | H21: 16.758899 | I21: 16.507654 | J21: 16.916119 | K21: 15.825346 | L21: 16.218451 | M21: 16.696777 | N21: 17.023401
B22: 25 y más | C22: 5.8873082 | D22: 6.2827454 | E22: 8.1959039 | F22: 6.7256259 | G22: 5.6706533 | H22: 5.1701777 | I22: 4.6479272 | J22: 5.2056457 | K22: 5.1261999 | L22: 5.5943127 | M22: 5.6446414 | N22: 5.8953647
B23: Colombia d/ | C23: 12.158932 | D23: 12.116813 | E23: 13.172091 | F23: 12.720811 | G23: 11.803464 | H23: 11.447465 | I23: 10.663244 | J23: 10.001883 | K23: 9.7737355 | L23: 10.267737 | M23: 10.622794 | N23: 10.782809
B24: 15 - 24 | C24: 18.835856 | D24: 23.530939 | E24: 25.242556 | F24: 24.650815 | G24: 23.193982 | H24: 21.846409 | I24: 20.273401 | J24: 19.683475 | K24: 18.549716 | L24: 19.457201 | M24: 20.667256 | N24: 20.531556
B25: 25 y más | C25: 7.0576945 | D25: 8.6026908 | E25: 9.428325 | F25: 9.0271425 | G25: 8.2368896 | H25: 8.1438901 | I25: 7.6563582 | J25: 7.1081929 | K25: 7.0718317 | L25: 7.5526289 | M25: 8.0160619 | N25: 8.2365804
B26: Costa Rica e/ | C26: 4.8 | D26: 4.8 | E26: 7.6451449 | F26: 8.5008741 | G26: 10.110135 | H26: 9.9822345 | I26: 9.2173885 | J26: 9.5676815 | K26: 9.7150853 | L26: 9.5960925 | M26: 9.666604 | N26: 8.8727788
B27: 15 - 24 | C27: 11.846725 | D27: 11.311712 | E27: 18.006266 | F27: 21.355465 | G27: 22.072199 | H27: 22.958625 | I27: 23.300649 | J27: 26.049592 | K27: 23.595496 | L27: 24.235748 | M27: 24.131771 | N27: 22.249753
B28: 25 y más | C28: 2.7539298 | D28: 3.1525934 | E28: 5.1720632 | F28: 5.5381074 | G28: 7.6069136 | H28: 7.2968426 | I28: 6.2251956 | J28: 6.1318176 | K28: 6.9575733 | L28: 6.7211178 | M28: 6.9023229 | N28: 6.2759463
B29: Cuba f/ | C29: 1.787301 | D29: 1.5851548 | E29: 1.7 | F29: 2.5 | G29: 3.2 | H29: 3.5 | I29: 3.2874558 | J29: 2.6579179 | K29: 2.3897982 | L29: 2.0293628 | M29: … | N29: …
B30: 15 - 24 | C30: … | D30: … | E30: … | F30: … | G30: … | H30: … | I30: … | J30: … | K30: … | L30: … | M30: … | N30: …
B31: 25 y más | C31: … | D31: … | E31: … | F31: … | G31: … | H31: … | I31: … | J31: … | K31: … | L31: … | M31: … | N31: …
B32: Ecuador g/ | C32: 6.8864689 | D32: 6.9062408 | E32: 8.509434 | F32: 7.590458 | G32: 6.0084295 | H32: 4.9373854 | I32: 4.7317701 | J32: 5.1245462 | K32: 5.386182 | L32: 6.806888 | M32: 6.9033943 | N32: 5.5948613
B33: 15 - 24 | C33: 16.699968 | D33: 16.281114 | E33: 18.569988 | F33: 18.550252 | G33: 15.621453 | H33: 13.646494 | I33: 13.444279 | J33: 13.877599 | K33: 13.935125 | L33: 16.709534 | M33: 16.6679 | N33: 13.42051
B34: 25 y más | C34: 4.8744741 | D34: 4.5253787 | E34: 6.0656044 | F34: 5.1791853 | G34: 4.0680144 | H34: 3.2535097 | I34: 3.1375129 | J34: 3.477734 | K34: 3.8129406 | L34: 5.0036011 | M34: 5.1256956 | N34: 4.2165275
B35: El Salvador h/ | C35: 5.8 | D35: 5.5 | E35: 7.1156102 | F35: 6.7734617 | G35: 6.6 | H35: 6.230052 | I35: 5.5912793 | J35: 6.7278756 | K35: 6.5164011 | L35: 6.8588127 | M35: … | N35: …
B36: 15 - 24 | C36: 11.615035 | D36: 12.306447 | E36: 15.819548 | F36: 15.662822 | G36: 14.327592 | H36: 14.855327 | I36: 14.156064 | J36: 17.099491 | K36: 15.496595 | L36: 16.530695 | M36: … | N36: …
B37: 25 y más | C37: 4.557476 | D37: 3.9326241 | E37: 5.1650602 | F37: 4.7335852 | G37: 4.8385563 | H37: 4.3347832 | I37: 3.7609998 | J37: 4.4943646 | K37: 4.5086783 | L37: 4.8297872 | M37: … | N37: …
B38: Guatemala i/ | C38: … | D38: … | E38: … | F38: 4.8 | G38: 3.1 | H38: 4.026936 | I38: 3.832057 | J38: 4.0020392 | K38: 3.1766877 | L38: 3.4060059 | M38: 3.9533322 | N38: 3.9083671
B39: 15 - 24 | C39: … | D39: … | E39: … | F39: 8.2567509 | G39: 6.9595386 | H39: 7.8533018 | I39: 8.1659875 | J39: 9.2582631 | K39: 7.4721304 | L39: 7.8356545 | M39: 8.5570406 | N39: 8.0680631
B40: 25 y más | C40: … | D40: … | E40: … | F40: 3.8442123 | G40: 1.8810107 | H40: 2.7482499 | I40: 2.3840496 | J40: 2.415343 | K40: 1.7554632 | L40: 1.9494162 | M40: 2.3570417 | N40: 2.6770144
B41: Honduras j/ | C41: 4.0725193 | D41: 3.897734 | E41: 4.8887995 | F41: 6.436457 | G41: 6.7995943 | H41: 5.6282114 | I41: 5.9706819 | J41: 7.5243871 | K41: 8.80373 | L41: 8.9870269 | M41: 8.9870269 | N41: 8.1919219
B42: 15 - 24 | C42: 7.3833941 | D42: 8.1625774 | E42: 9.8007355 | F42: 12.721115 | G42: 13.998484 | H42: 11.632493 | I42: 11.233421 | J42: 13.724139 | K42: 19.279088 | L42: 20.389683 | M42: 20.389683 | N42: 17.971719
B43: 25 y más | C43: 2.9929133 | D43: 2.9395398 | E43: 3.3286618 | F43: 4.3862734 | G43: 4.5443511 | H43: 3.7778442 | I43: 4.4678127 | J43: 5.6318058 | K43: 5.2755653 | L43: 4.9344954 | M43: 4.9344954 | N43: 4.8989212
B44: México k/ | C44: 4.0452864 | D44: 4.2888629 | E44: 5.9146306 | F44: 5.8608836 | G44: 5.6351477 | H44: 5.3852123 | I44: 5.3648009 | J44: 5.3473518 | K44: 4.7345993 | L44: 4.2745391 | M44: 4.400732 | N44: 3.7898127
B45: 15 - 24 | C45: 8.2292772 | D45: 8.6876713 | E45: 11.557407 | F45: 11.101256 | G45: 11.022312 | H45: 10.731504 | I45: 10.777921 | J45: 10.929556 | K45: 9.844733 | L45: 8.8374849 | M45: 9.1593288 | N45: 7.9260233
B46: 25 y más | C46: 2.9510237 | D46: 3.1754388 | E46: 4.5507558 | F46: 4.5788493 | G46: 4.3362356 | H46: 4.1360255 | I46: 4.151681 | J46: 4.1308168 | K46: 3.664172 | L46: 3.3488424 | M46: 3.4333927 | N46: 2.9739926
B47: Nicaragua l/ | C47: 7.2614934 | D47: 7.9950495 | E47: 9.9125 | F47: 10.1375 | G47: 6.5143148 | H47: 7.9125 | I47: 7.775 | J47: 8.3875 | K47: … | L47: … | M47: … | N47: …
B48: 15 - 24 | C48: 11.483595 | D48: 14.008621 | E48: … | F48: 16.640684 | G48: 10.657828 | H48: 12.365208 | I48: … | J48: … | K48: … | L48: … | M48: … | N48: …
B49: 25 y más | C49: 5.9581498 | D49: 6.1958406 | E49: … | F49: 7.8031691 | G49: 5.1536305 | H49: 6.0934297 | I49: … | J49: … | K49: … | L49: … | M49: … | N49: …
B50: Panamá m/ | C50: 7.7844262 | D50: 6.4798241 | E50: 7.8633169 | F50: 7.6996195 | G50: 5.370485 | H50: 4.7787897 | I50: 4.6956898 | J50: 5.4259271 | K50: 5.7994937 | L50: 6.4398444 | M50: 6.5002482 | N50: 6.4190135
B51: 15 - 24 | C51: 18.944245 | D51: 16.58654 | E51: 18.842645 | F51: 17.986999 | G51: 15.606667 | H51: 12.670656 | I51: 12.570566 | J51: 15.299377 | K51: 15.779577 | L51: 16.948058 | M51: 18.70615 | N51: 18.464905
B52: 25 y más | C52: 5.2348649 | D52: 4.1459699 | E52: 5.5782801 | F52: 5.6327986 | G52: 3.5915463 | H52: 3.3123487 | I52: 3.1550861 | J52: 3.6560395 | K52: 4.0503573 | L52: 4.6209667 | M52: 4.2930063 | N52: 4.3190556
B53: Paraguay n/ | C53: 7.0389112 | D53: 7.3886403 | E53: 8.1536968 | F53: 6.8298168 | G53: 6.3772236 | H53: 5.680805 | I53: 5.9234783 | J53: 7.2757238 | K53: 6.4458224 | L53: 7.1869419 | M53: 8.25 | N53: 8.65
B54: 15 - 24 | C54: 15.416741 | D54: 15.098374 | E54: 16.680691 | F54: 15.527398 | G54: 15.264662 | H54: 12.653045 | I54: 12.526407 | J54: 15.392814 | K54: 13.71772 | L54: 14.617005 | M54: 21.776475 | N54: 20.283779
B55: 25 y más | C55: 4.1931345 | D55: 4.3404687 | E55: 4.9027154 | F55: 3.9675246 | G55: 3.4607104 | H55: 3.1698303 | I55: 3.9243183 | J55: 4.6836552 | K55: 4.2056196 | L55: 4.9482759 | M55: 4.7808779 | N55: 5.8922873
B56: Perú o/ | C56: 6.2918572 | D56: 6.0131601 | E56: 5.8697136 | F56: 5.2761404 | G56: 5.098978 | H56: 4.6814573 | I56: 4.8021729 | J56: 4.5343288 | K56: 4.3633398 | L56: 5.1776154 | M56: 5.6830804 | N56: 5.5666667
B57: 15 - 24 | C57: 13.791644 | D57: 12.94434 | E57: 12.389034 | F57: 12.368442 | G57: 12.263559 | H57: 11.750463 | I57: 11.184978 | J57: 12.429758 | K57: 10.761572 | L57: 13.523629 | M57: 14.321108 | N57: 14.292751
B58: 25 y más | C58: 3.8781827 | D58: 3.8551687 | E58: 3.9298886 | F58: 3.161842 | G58: 2.9764954 | H58: 2.6835916 | I58: 3.2122178 | J58: 2.4581926 | K58: 2.8315923 | L58: 3.2033512 | M58: 3.7870951 | N58: 3.9182666
B59: República Dominicana p/ | C59: 5.4139391 | D59: 5.3217014 | E59: 5.7829254 | F59: 5.7199583 | G59: 6.6779887 | H59: 7.2365396 | I59: 7.8720225 | J59: 7.2089547 | K59: 7.9337605 | L59: 7.8526021 | M59: 8.1438526 | N59: 6.2495671
B60: 15 - 24 | C60: 13.220105 | D60: 12.142881 | E60: 13.687278 | F60: 11.735894 | G60: 15.290943 | H60: 15.904609 | I60: 18.545707 | J60: 14.383555 | K60: 17.070074 | L60: 18.103742 | M60: 18.587038 | N60: 14.757259
B61: 25 y más | C61: 3.5181276 | D61: 3.5156859 | E61: 3.9889594 | F61: 4.3078248 | G61: 4.6049979 | H61: 5.3109637 | I61: 5.4498914 | J61: 5.7207787 | K61: 5.8393264 | L61: 5.4487322 | M61: 5.6653191 | N61: 4.3739237
